Workbook
Name ・2015年度※平成27: YearList15[・2015年度※平成27]
Name ・2015年度※平成27: YearList15[・2015年度※平成27]
Name ・2016年度※平成28: YearList16[・2016年度※平成28]
Name ・2016年度※平成28: YearList16[・2016年度※平成28]
Name ・2017年度※平成29: YearList17[・2017年度※平成29]
Name ・2017年度※平成29: YearList17[・2017年度※平成29]
Name ・2018年度※平成30: YearList18[・2018年度※平成30]
Name ・2018年度※平成30: YearList18[・2018年度※平成30]
Name ・2019年度※令和元: YearList19[・2019年度※令和元]
Name ・2019年度※令和元: YearList19[・2019年度※令和元]
Name ・2020年度※令和2: YearList20[・2020年度※令和2]
Name ・2020年度※令和2: YearList20[・2020年度※令和2]
Name ・2021年度※令和3: YearList21[・2021年度※令和3]
Name ・2021年度※令和3: YearList21[・2021年度※令和3]
Name ・2022年度※令和4: YearList22[・2022年度※令和4]
Name ・2022年度※令和4: YearList22[・2022年度※令和4]
Name ・2023年度※令和5: YearList23[・2023年度※令和5]
Name ・2023年度※令和5: YearList23[・2023年度※令和5]
Name 運営開始年度: S①!$C$61:$K$61
Name 運営開始年度1: S①!$B$61:$K$61
Name 選択してください: YearList00[選択してください]
Name 選択してください: YearList00[選択してください]

Sheet 【はじめに】 
D2: 【はじめに】
D5: これは、保育園の 保育園による 保育園のための セルフチェックシートです。 助成申込（事業計画申請）において、図面の変更を伴う事業内容の変更をされる場合、建築基準法、消防法、食品衛生法、建設業法、家庭的保育事業等の設備及び運営に関する基準、認可外保育施設指導監督基準等が遵守されている必要があります。 この「建築関係法令等セルフチェックシート」では、変更内容に応じて確認すべき主な内容を自身でチェックすることができます。 手順に従いシートに記入して頂き、必要に応じて図面作成、関係機関との協議等を行い、その上で、事業計画申請の提出をお願いいたします。 尚、今年度から、定員の年齢別内訳変更のみを行う場合で、保育室の大きさも用途も変えない場合はこのセルフチェックシートを提出する必要はありません。 事業計画申請にあたっての建築関連事項詳細については「企業主導型保育事業ポータルサイト」にある以下の資料をご参照ください。
D6: 「建築関連資料集 事業計画申請用（令和8年10月22日版）」
D7: 「企業主導型保育事業運営ハンドブック 第7章 病児保育事業・一時預かり事業」
D9: ※チェックシート内で使用されている建築関連の専門的な用語は、上記「建築関連資料集」内の「用語解説リスト」に記載されております。 ご不明な点等ある場合には、上記資料をご参照されることをお勧めいたします。
D10: ●作業手順については、【マニュアル】をご確認ください。➡

Sheet 【マニュアル】 
A1: リンク
G2: 【マニュアル】
F3: 「建築関係法令等セルフチェックシート」は【①基本事項】【②結果入力】2つのシートで構成されています。 【①基本事項】➡【②結果入力】の順番で入力してください。
F4: 2つのシート両方の提出が必要です。 必要に応じて【建築整備内容の法令・基準チェックシート】 （令和8年10月22日版）（別ファイル、リンク先参照）が必要になる場合があります。
E6: ● | F6: 作成手順１
F7: 印刷提出【①基本事項】シートの入力について
F8: 申請にあたっての基本事項を入力するシートです。
E9: =IF(G21="事業計画申請","事業計画申請",IF(G21="図面相談","図面相談",IF(G21="選択してください",""))) | G9: 【①基本事項】シート
H11: 事 業 者 情 報 | L11: K0A0B0
F13: 法人名（設置者）： | G13: 文字を消して直接ここに「法人名」を入力してください
F15: 保育施設名： | G15: 文字を消して直接ここに「保育施設名」を入力してください
F17: 担当者名 ： | G17: 入力してください | J17: 保育施設コード: | K17: 入力してください | L17: =IF(COUNTIF(K17,"H00*")=1,"","⇐間違ってます ") -> ⇐間違ってます
F19: 運営開始年度： | G19: 選択してください | J19: 直近の図面変更年度： | K19: 選択してください
F21: 申請種類 ： | G21: 選択してください | J21: 申請日： | K21: 入力してください
F23: 事前図面相談： | G23: 選択してください | J23: 更新日： | K23: 46317
G26: 事業者情報に空欄があります。ご確認ください。
G28: =IF(O13=0,"「法人名（設置者）」 ","")&IF(O15=0,"「保育施設名」 ","")&IF(P17=0,"「担当者名」 ","")&IF(R17=0,"「保育施設コード」 ","")&IF(P19=0,"「運営開始年度」 ","")&IF(P21=0,"「申請種類」 ","")&IF(R19=0,"「直近の図面変更年度」 ","")&IF(R21=0,"「申請日」 ","")&" が入力されていません。" -> 「法人名（設置者）」 「保育施設名」 「担当者名」 「保育施設コード」 「運営開始年度」 「申請種類」 「直近の図面変更年度」 「申請日」 が入力されていません。
G30: =IF(AND(S①!$BT$7>4,S①!$BT$7<14),"ご回答より、建築基準関係法令等の確認を要する変更の可能性があります。 法令等の確認に際しては、自治体、有資格者（建築士）等に十分確認の上、ご申請願います。","")&IF(S①!$BT$7>=14,"ご回答より、建築基準関係法令等の確認を要する変更と思われます。法令等の確認に際しては、自治体、有資格者（建築士）等に十分確認の上、ご申請願います。","")
F34: A 資料提出時の確認事項 （全事業者回答必須）
A36: =S①!Q9 -> AQ1 | F36: AQ1 | G36: 今回の申請にあたり、建築関連法規の確認や資料作成に有資格者（建築士）は関わりましたか
A37: =S①!$BW9 -> 表示 | F37: ▷ 該当選択
A38: =S①!$P9 -> 回答待ち | B38: =IF(A38="回答待ち",1,0) -> 1 | F38: =S①!Q18 -> ▶ A | G38: =S①!O18 -> ： あり
F39: =S①!Q19 -> ▶ B | G39: =S①!O19 -> ： なし
K40: AQ1 を回答ください
F43: C 年齢別内訳の変更 （全事業者回答必須）
F45: CQ0 | G45: 今回の申請で年齢別内訳の変更がありますか
F46: ▶ A
F47: ▶ A | G47: ： 変更あり
F48: ▶ B | G48: ： 変更なし
H49: ×
F50: CQ1 | G50: 保育室の場所の移動がありますか | J50: CQ1-1 | K50: 保育室の設置を予定される室の現状用途について ご回答ください
F51: ▶ A | J51: ▶ B
F52: ▶ A | G52: ： 場所の移動：あり | J52: ▶ A | K52: ： 保育に供する室
F53: ▶ B | G53: ： 場所の移動：なし | J53: ▶ B | K53: ： 保育に供する室以外の居室
H54: × | J54: ▶ C | K54: ： 上記以外（非居室）
G55: 「 場所の移動 」の例：リンク先へ ➡ | L55: ×
J56: CQ1-2 | K56: 移動する場所はどの階ですか
J57: ▷ 該当選択
J58: ▶ A | K58: ： 現在と同じ階
J59: ▶ B | K59: ： 現在より上の階
J60: ▶ C | K60: ： 現在より下の階
K61: CQ1-2 を回答ください | L61: ●
F62: CQ2 | G62: 保育室の床面積・出入口・部屋形状の変更がありますか
F63: ▷ 該当選択
F64: ▶ A | G64: ： 変更：あり
F65: ▶ B | G65: ： 変更：なし
G66: CQ2 を回答ください | H66: ●
L67: ×
G68: 「 床面積・出入口・部屋形状 」の例：リンク先へ ➡
L72: ×
F73: CQ3 | G73: 保育室内の年齢別スペースの仕切り方に変更がありますか
F74: ▷ 該当選択
F75: ▶ A | G75: ： 変更：あり
F76: ▶ B | G76: ： 変更：なし
G77: CQ3 を回答ください | H77: ● | L77: ●
G78: CQ3 を回答ください | K78: CQ1-2 CQ2 CQ3 を回答ください
F82: C「年齢別内訳の変更」について
F85: C:Q1「保育室の場所の移動」の例
A116: リンク
F118: C:Q2「保育室の床面積・出入口・部屋形状の変更」の例
F154: 未回答
F155: ピンク文字は未回答についての表示です
E178: ● | F178: 作成手順2
F179: 印刷提出【②結果入力】シート 入力について
F180: ※最初に以下の画面が表示されます。フィルター操作を行い該当項目の表示を行ってください。
E371: ● | F371: 作成手順3
F372: 印刷提出【①基本事項】、【②結果入力】の回答が終わりましたら、２つのシートをPDFにして提出してください
F382: ファイル名は、
F383: ○○○○保育園_法令SCS_1基本事項_261022.pdf
F384: ○○○○保育園_法令SCS_2結果入力_261022.pdf のようにしてください。
F385: ※印刷提出【②結果入力】での回答内容に従い、【建築整備内容の法令・基準チェックシート】 が必要な方は追加提出してください。

Sheet 【① 基本事項】
E2: =IF(G14="事業計画申請","事業計画申請",IF(G14="図面相談","図面相談",IF(G14="選択してください",""))) | G2: 【①基本事項】シート
H4: 事 業 者 情 報 | L4: =S①!BS1 -> K0A0B0
F6: 法人名（設置者）： | G6: 文字を消して直接ここに「法人名」を入力してください | O6: =P6+R6 -> 0 | P6: =IF(G6=S6,0,1) -> 0 | S6: 文字を消して直接ここに「法人名」を入力してください | U6: 【①基本事項】に戻り、「法人名」を入力してください
F8: 保育施設名： | G8: 文字を消して直接ここに「保育施設名」を入力してください | O8: =P8+R8 -> 0 | P8: =IF(G8=S8,0,1) -> 0 | S8: 文字を消して直接ここに「保育施設名」を入力してください | U8: 【①基本事項】に戻り、「保育施設名」を入力してください
F10: 担当者名 ： | G10: 入力してください | J10: 保育施設コード: | K10: 入力してください | L10: =IF(COUNTIF(K10,"H00*")=1,"","⇐間違ってます ") -> ⇐間違ってます | O10: =P10+R10 -> 0 | P10: =IF(G10="入力してください",0,1) -> 0 | R10: =IF(K10="入力してください",0,1) -> 0 | S10: 入力してください | U10: 【①基本事項】に戻り、「担当者名」を入力してください
S11: 選択してください
F12: 運営開始年度： | G12: 選択してください | J12: 直近の図面変更年度： | K12: 選択してください | O12: =P12+R12 -> 0 | P12: =IF(G12="選択してください",0,1) -> 0 | R12: =IF(K12="選択してください",0,1) -> 0 | T12: =IF(LEN(K10)=7,"","⇐文字数も間違ってます") -> ⇐文字数も間違ってます | U12: 【①基本事項】に戻り、「法人名」を入力してください
F14: 申請種類 ： | G14: 選択してください | J14: 申請日： | K14: 入力してください | O14: =P14+R14 -> 0 | P14: =IF(G14="選択してください",0,1) -> 0 | R14: =IF(K14="入力してください",0,1) -> 0 | S14: =運営開始年度 | U14: 【①基本事項】に戻り、「申請日」を入力してください
F16: 事前図面相談： | G16: 選択してください | J16: 更新日： | K16: =TODAY() -> 46322 | S16: {=INDIRECT($G$12)} -> 選択してください
O17: =SUM(P6:R14) -> 0 | S17: 運営開始年度を先に入力ください
G19: 事業者情報に空欄があります。ご確認ください。
G21: =IF(O6=0,"「法人名（設置者）」 ","")&IF(O8=0,"「保育施設名」 ","")&IF(P10=0,"「担当者名」 ","")&IF(R10=0,"「保育施設コード」 ","")&IF(P12=0,"「運営開始年度」 ","")&IF(P14=0,"「申請種類」 ","")&IF(R12=0,"「直近の図面変更年度」 ","")&IF(R14=0,"「申請日」 ","")&" が入力されていません。" -> 「法人名（設置者）」 「保育施設名」 「担当者名」 「保育施設コード」 「運営開始年度」 「申請種類」 「直近の図面変更年度」 「申請日」 が入力されていません。
G23: =IF(AND(S①!$BT$7>4,S①!$BT$7<14),"ご回答より、建築基準関係法令等の確認を要する変更の可能性があります。 法令等の確認に際しては、自治体、有資格者（建築士）等に十分確認の上、ご申請願います。","")&IF(S①!$BT$7>=14,"ご回答より、建築基準関係法令等の確認を要する変更と思われます。法令等の確認に際しては、自治体、有資格者（建築士）等に十分確認の上、ご申請願います。","")
C27: =B31 -> 1 | D27: AQ | F27: A 資料提出時の確認事項 （全事業者回答必須）
A29: =S①!Q9 -> AQ1 | F29: =S①!Q9 -> AQ1 | G29: =S①!O9 -> 今回の申請にあたり、建築関連法規の確認や資料作成に有資格者（建築士）は関わりましたか
A30: =S①!$BW9 -> 表示 | F30: ▷ 該当選択
A31: =S①!$P9 -> 回答待ち | B31: =IF(A31="回答待ち",1,0) -> 1 | F31: =S①!Q11 -> ▶ A | G31: =S①!O11 -> ： 有資格者（建築士）は関わった
F32: =S①!Q12 -> ▶ B | G32: =S①!O12 -> ： 有資格者（建築士）は関わらなかった
K33: =S①!O8 -> AQ1 を回答ください
C34: =IF((B38+B43+B48)=3,1,0) -> 1 | D34: BQ | F34: B 保育園全体に影響がでる変更（建築整備内容の法令・基準チェックシート１、２が必要になる変更） （全事業者回答必須）
A36: =S①!Q16 -> BQ1 | F36: =S①!Q16 -> BQ1 | G36: =S①!O16 -> 建物の増築・増床がありますか
A37: =S①!$BW16 -> 表示 | F37: ▷ 該当選択
A38: =S①!$P16 -> 回答待ち | B38: =IF(A38="回答待ち",1,0) -> 1 | F38: =S①!Q18 -> ▶ A | G38: =S①!O18 -> ： あり
F39: =S①!Q19 -> ▶ B | G39: =S①!O19 -> ： なし
A41: =S①!Q21 -> BQ2 | F41: =S①!Q21 -> BQ2 | G41: =S①!O21 -> 保育に供する室の設置が現在より上の階になりますか
A42: =S①!$BW21 -> 表示 | F42: ▷ 該当選択
A43: =S①!$P21 -> 回答待ち | B43: =IF(A43="回答待ち",1,0) -> 1 | F43: =S①!Q23 -> ▶ A | G43: =S①!O23 -> ： あり
F44: =S①!Q24 -> ▶ B | G44: =S①!O24 -> ： なし
A46: =S①!Q26 -> BQ3 | F46: =S①!Q26 -> BQ3 | G46: =S①!O26 -> 保育所全体の床面積が減る計画がありますか
A47: =S①!$BW26 -> 表示 | F47: ▷ 該当選択
A48: =S①!$P26 -> 回答待ち | B48: =IF(A48="回答待ち",1,0) -> 1 | F48: =S①!Q28 -> ▶ A | G48: =S①!O28 -> ： あり
F49: =S①!Q29 -> ▶ B | G49: =S①!O29 -> ： なし
K50: =S①!O15 -> BQ1 BQ2 BQ3 を回答ください
C51: =IF((B55)=1,1,0) -> 1 | D51: CQ | F51: C 年齢別内訳の変更 （全事業者回答必須）
A53: =S①!Q33 -> CQ0 | F53: =S①!Q33 -> CQ0 | G53: =S①!O33 -> 今回の申請で年齢別内訳の変更がありますか
A54: =S①!$BW33 -> 表示 | F54: ▷ 該当選択
A55: =S①!$P33 -> 回答待ち | B55: =IF(A55="回答待ち",1,0) -> 1 | F55: =S①!Q35 -> ▶ A | G55: =S①!O35 -> ： 変更あり
F56: =S①!Q36 -> ▶ B | G56: =S①!O36 -> ： 変更なし
G57: =S①!O37 -> CQ0 を回答ください | H57: =S①!P37 -> ●
A58: =S①!Q38 -> CQ1 | C58: =S①!$Q43 -> CQ1-1 | F58: =S①!Q38 -> CQ1 | G58: =S①!O38 -> 保育室の場所の移動がありますか | J58: =S①!Q43 -> CQ1-1 | K58: =S①!O43 -> 保育室の設置を予定される室の現状用途について ご回答ください
A59: =S①!$BW38 -> 非表示 | C59: =S①!$BW43 -> 非表示 | F59: ▷ 該当選択 | J59: ▷ 該当選択
A60: =S①!$P38 -> 該当なし | B60: =IF(A60="回答待ち",1,0) -> 0 | C60: =S①!$P43 -> 該当なし | F60: =S①!Q40 -> ▶ A | G60: =S①!O40 -> ： 場所の移動：あり | J60: =S①!Q45 -> ▶ A | K60: =S①!O45 -> ： 保育に供する室
B61: =IF(C60="回答待ち",1,0) -> 0 | F61: =S①!Q41 -> ▶ B | G61: =S①!O41 -> ： 場所の移動：なし | J61: =S①!Q46 -> ▶ B | K61: =S①!O46 -> ： 保育に供する室以外の居室
G62: =S①!O42 -> CQ1 を回答ください | H62: =S①!P42 -> × | J62: =S①!Q47 -> ▶ C | K62: =S①!O47 -> ： 上記以外（非居室）
G63: 「 場所の移動 」の例：リンク先へ ➡ | K63: =S①!O48 -> CQ1-1 を回答ください | L63: =S①!P48 -> ×
C64: =S①!$Q49 -> CQ1-2 | J64: =S①!Q49 -> CQ1-2 | K64: =S①!O49 -> 移動する場所はどの階ですか
C65: =S①!$BW49 -> 非表示 | J65: ▷ 該当選択
C66: =S①!$P49 -> 該当なし | J66: =S①!Q51 -> ▶ A | K66: =S①!O51 -> ： 現在と同じ階
B67: =IF(C66="回答待ち",1,0) -> 0 | J67: =S①!Q52 -> ▶ B | K67: =S①!O52 -> ： 現在より上の階
J68: =S①!Q53 -> ▶ C | K68: =S①!O53 -> ： 現在より下の階
K69: =S①!O54 -> CQ1-2 を回答ください | L69: =S①!P54 -> ×
A70: =S①!Q55 -> CQ2 | C70: =S①!$Q60 -> CQ2-1 | F70: =S①!Q55 -> CQ2 | G70: =S①!O55 -> 保育室の床面積・出入口・部屋形状の変更がありますか | J70: =S①!Q60 -> CQ2-1 | K70: =S①!O60 -> 保育室の有効面積の変更はありますか
A71: =S①!$BW55 -> 非表示 | C71: =S①!$BW60 -> 非表示 | F71: ▷ 該当選択 | J71: ▷ 該当選択
A72: =S①!$P55 -> 該当なし | B72: =IF(A72="回答待ち",1,0) -> 0 | C72: =S①!$P60 -> 該当なし | F72: =S①!Q57 -> ▶ A | G72: =S①!O57 -> ： 変更：あり | J72: =S①!Q62 -> ▶ A | K72: =S①!O62 -> ： 床面積（有効面積）は変わらない
B73: =IF(C72="回答待ち",1,0) -> 0 | F73: =S①!Q58 -> ▶ B | G73: =S①!O58 -> ： 変更：なし | J73: =S①!Q63 -> ▶ B | K73: =S①!O63 -> ： 床面積（有効面積）が減る
G74: =S①!O59 -> CQ2 を回答ください | H74: =S①!P59 -> × | J74: =S①!Q64 -> ▶ C | K74: =S①!O64 -> ： 床面積（有効面積）が増える
G75: 「 床面積・出入口・部屋形状 」の例：リンク先へ ➡ | K75: =S①!O65 -> CQ2-1 を回答ください | L75: =S①!P65 -> ×
C76: =S①!$Q66 -> CQ2-2 | J76: =S①!Q66 -> CQ2-2 | K76: =S①!O66 -> 保育室の出入口の変更はありますか
C77: =S①!$BW66 -> 非表示 | J77: ▷ 該当選択
C78: =S①!$P66 -> 該当なし | J78: =S①!Q73 -> ▶ A | K78: =S①!O68 -> ： 変更あり
B79: =IF(C78="回答待ち",1,0) -> 0 | J79: =S①!Q74 -> ▶ B | K79: =S①!O69 -> ： 変更なし
K80: =S①!O70 -> CQ2-2 を回答ください | L80: =S①!P70 -> ×
C81: =S①!$Q71 -> CQ2-3 | J81: =S①!Q71 -> CQ2-3 | K81: =S①!O71 -> 保育室の部屋形状の変更がありますか
C82: =S①!$BW71 -> 非表示 | J82: ▷ 該当選択
C83: =S①!$P71 -> 該当なし | J83: =S①!Q78 -> ▶ A | K83: =S①!O73 -> ： 変更あり
B84: =IF(C83="回答待ち",1,0) -> 0 | J84: =S①!Q79 -> ▶ B | K84: =S①!O74 -> ： 変更なし
K85: =S①!O75 -> CQ2-3 を回答ください | L85: =S①!P75 -> ×
A86: =S①!Q76 -> CQ3 | C86: =S①!$Q81 -> CQ3-1 | F86: =S①!Q76 -> CQ3 | G86: =S①!O76 -> 保育室内の年齢別スペースの仕切り方に変更がありますか | J86: =S①!Q81 -> CQ3-1 | K86: =S①!O81 -> 変更する仕切り方はどれですか
A87: =S①!$BW76 -> 非表示 | C87: =S①!$BW81 -> 非表示 | F87: ▷ 該当選択 | J87: ▷ 該当選択
A88: =S①!$P76 -> 該当なし | B88: =IF(A88="回答待ち",1,0) -> 0 | C88: =S①!$P81 -> 該当なし | F88: =S①!Q78 -> ▶ A | G88: =S①!O78 -> ： 変更：あり | J88: =S①!Q83 -> ▶ A | K88: =S①!O83 -> ： ベビーフェンス、家具等の移動、変更
B89: =IF(C88="回答待ち",1,0) -> 0 | F89: =S①!Q79 -> ▶ B | G89: =S①!O79 -> ： 変更：なし | J89: =S①!Q84 -> ▶ B | K89: =S①!O84 -> ： 床から天井までの壁で仕切る
G90: =S①!O80 -> CQ3 を回答ください | H90: =S①!P80 -> × | K90: =S①!O85 -> CQ3-1 を回答ください | L90: =S①!P80 -> ×
G91: =S①!O80 -> CQ3 を回答ください | K91: =S①!O32 -> CQ0 を回答ください
C92: =IF((B96)=1,1,0) -> 1 | D92: DQ | F92: D 病児型 （全事業者回答必須）
A94: =S①!$Q88 -> DQ0 | F94: =S①!N88 -> DQ0 | G94: =S①!O88 -> 今回の申請で病児対応型の変更がありますか
A95: =S①!$BW88 -> 表示 | F95: ▷ 該当選択
A96: =S①!$P88 -> 回答待ち | B96: =IF(A96="回答待ち",1,0) -> 1 | F96: =S①!N90 -> ▶ A | G96: =S①!O90 -> ： 変更あり（新規事業開始・既存変更）
F97: =S①!N91 -> ▶ B | G97: =S①!O91 -> ： 変更なし（又は該当なし）
G98: =S①!O92 -> DQ0 を回答ください | H98: =S①!P92 -> ●
A99: =S①!$Q93 -> DQ1 | F99: =S①!N93 -> DQ1 | G99: =S①!O93 -> 加算事業の追加ですか 既存加算事業の（設備等の）変更ですか
A100: =S①!$BW93 -> 非表示 | F100: ▷ 該当選択
A101: =S①!$P93 -> 該当なし | B101: =IF(A101="回答待ち",1,0) -> 0 | F101: =S①!N95 -> ▶ A | G101: =S①!O95 -> ： 新たに病児対応型を実施する
F102: =S①!N96 -> ▶ B | G102: =S①!O96 -> ： 既存の病児対応型を変更する
G103: =S①!O97 -> DQ1 を回答ください | H103: =S①!P97 -> ×
A104: =S①!$Q98 -> DQ1-1 | C104: =S①!$Q115 -> DQ1-4 | F104: =S①!N98 -> DQ1-1 | G104: =S①!O98 -> 病児保育室の設置を予定される室の現状用途 についてご回答ください | J104: =S①!N115 -> DQ1-4 | K104: =S①!O115 -> 病児保育室の設置を予定される室の現状用途 についてご回答ください
A105: =S①!$BW98 -> 非表示 | C105: =S①!$BW115 -> 非表示 | F105: ▷ 該当選択 | J105: ▷ 該当選択
A106: =S①!$P98 -> 該当なし | B106: =IF(A106="回答待ち",1,0) -> 0 | C106: =S①!$P115 -> 該当なし | F106: =S①!N100 -> ▶ A | G106: =S①!O100 -> ： 保育に供する室 | J106: =S①!N117 -> ▶ A | K106: =S①!O117 -> ： 保育に供する室
B107: =IF(C106="回答待ち",1,0) -> 0 | F107: =S①!N101 -> ▶ B | G107: =S①!O101 -> ： 保育に供する室以外の居室 | J107: =S①!N118 -> ▶ B | K107: =S①!O118 -> ： 保育に供する室以外の居室
F108: =S①!N102 -> ▶ C | G108: =S①!O102 -> ： 上記以外（非居室） | J108: =S①!N119 -> ▶ C | K108: =S①!O119 -> ： 上記以外（非居室）
G109: =S①!O103 -> DQ1-1 を回答ください | H109: =S①!P103 -> × | K109: =S①!$O120 -> DQ1-4 を回答ください | L109: =S①!$P120 -> ×
A110: =S①!$Q104 -> DQ1-2 | C110: =S①!$Q121 -> DQ1-5 | F110: =S①!N104 -> DQ1-2 | G110: =S①!O104 -> 病児保育室はどの階ですか | J110: =S①!N121 -> DQ1-5 | K110: =S①!O121 -> 病児保育室はどの階ですか
A111: =S①!$BW104 -> 非表示 | C111: =S①!$BW121 -> 非表示 | F111: ▷ 該当選択 | J111: ▷ 該当選択
A112: =S①!$P104 -> 該当なし | B112: =IF(A112="回答待ち",1,0) -> 0 | C112: =S①!$P121 -> 該当なし | F112: =S①!N106 -> ▶ A | G112: =S①!O106 -> ： 他の保育室と同じ階 | J112: =S①!N123 -> ▶ A | K112: =S①!O123 -> ： 他の保育室と同じ階
B113: =IF(C112="回答待ち",1,0) -> 0 | F113: =S①!N107 -> ▶ B | G113: =S①!O107 -> ： 他の保育室より上の階 | J113: =S①!N124 -> ▶ B | K113: =S①!O124 -> ： 他の保育室より上の階
F114: =S①!N108 -> ▶ C | G114: =S①!O108 -> ： 他の保育室より下の階 | J114: =S①!N125 -> ▶ C | K114: =S①!O125 -> ： 他の保育室より下の階
G115: =S①!O109 -> DQ1-2 を回答ください | H115: =S①!P109 -> × | K115: =S①!$O126 -> DQ1-5 を回答ください | L115: =S①!$P126 -> ×
A116: =S①!$Q110 -> DQ1-3 | C116: =S①!$Q127 -> DQ1-6 | F116: =S①!N110 -> DQ1-3 | G116: =S①!O110 -> 病児保育室の1室あたりの定員数は何名ですか | J116: =S①!N127 -> DQ1-6 | K116: =S①!O127 -> 病児保育室の1室あたりの定員数は何名ですか
A117: =S①!$BW110 -> 非表示 | C117: =S①!$BW127 -> 非表示 | F117: ▷ 該当選択 | J117: ▷ 該当選択
A118: =S①!$P110 -> 該当なし | B118: =IF(A118="回答待ち",1,0) -> 0 | C118: =S①!$P127 -> 該当なし | F118: =S①!N112 -> ▶ A | G118: =S①!O112 -> ： 1名 | J118: =S①!N129 -> ▶ A | K118: =S①!O129 -> ： 1名定員だったが、定員を増やし、2名以上定員となる
B119: =IF(C118="回答待ち",1,0) -> 0 | F119: =S①!N113 -> ▶ B | G119: =S①!O113 -> ： 2名以上 | J119: =S①!N130 -> ▶ B | K119: =S①!O130 -> ： 2名以上の定員だったが、さらに定員を増やす
...

Sheet S①
B1: =IF(C1=0,"OK",IF(C1>0,"ON","E")) -> OK | C1: =SUM(E4:E9) -> 0 | O1: 修正 | T1: =CK1 -> 士名番号 | U1: =CL1 -> 建築重要 | V1: =CM1 -> 有効a | W1: =CN1 -> 区画a | X1: =CO1 -> 避難a | Y1: =CP1 -> 採光a | Z1: =CQ1 -> 採光b | AA1: =CR1 -> 居室a | ... BQ1: =EH1 -> 0 | BS1: ="K"&BS6&"A"&BT6&"B"&BU6 -> K0A0B0 | CH1: 凡例 | CK1: 士名番号 | CL1: 建築重要 | CM1: 有効a | CN1: 区画a | CO1: 避難a | CP1: 採光a | CQ1: 採光b | CR1: 居室a | CS1: 病児専用a | CT1: 病児専用b | CU1: 別紙a | CV1: 感染予防a | CW1: 安静区切b | CX1: 安静区切c | CY1: 感染予防b | CZ1: 安静室a | DA1: 安静室b | DB1: その他の間仕切a | DC1: 返還a | DE1: 消防a | DI1: 定員内訳a | DJ1: 病児a | DK1: 体調不良児a | DL1: 一時預かりa | DO1: 居室 | DP1: 工事費 | DQ1: 消防b | DR1: 自由記載 | EJ1: 育建 | EK1: 建築法令CHS | EL1: 評価B
B2: (令和8年10月22日版) | N2: 1 | O2: {=INDEX(S①!$T$2:$BQ$6,5,N2)} -> 0 | P2: 5 | R2: ⇐１を入れる | T2: 1 | U2: 2 | V2: 3 | W2: 4 | X2: 5 | Y2: 6 | Z2: 7 | AA2: 8 | AB2: 9 | AC2: 10 | AD2: 11 | AE2: 12 | AF2: 13 | AG2: 14 | AH2: 15 | AI2: 16 | AJ2: 17 | AK2: 18 | AL2: 19 | AM2: 20 | AN2: 21 | AO2: 22 | AP2: 23 | AQ2: 24 | AR2: 25 | AS2: 26 | AT2: 27 | AU2: 28 | AV2: 29 | AW2: 30 | AX2: 31 | AY2: 32 | AZ2: 33 | BA2: 34 | BB2: 35 | BC2: 36 | BD2: 37 | BE2: 38 | BF2: 39 | BG2: 40 | BH2: 41 | BI2: 42 | BJ2: 43 | BK2: 44 | BL2: 45 | BM2: 46 | BN2: 47 | BO2: 48 | BP2: 49 | BQ2: 50 | BW2: 18 | CH2: 回答待ち | CP2: ▶
N3: 1 | O3: {=INDEX(S①!$T$2:$BQ$6,4,N3)} -> × | P3: 4 | Q3: =IF(Q2=1,"表示","非表示") -> 非表示 | T3: =CK3 -> 法1 | U3: =CL3 -> 法2 | V3: =CM3 -> 法3 | W3: =CN3 -> 法4 | X3: =CO3 -> 法5 | Y3: =CP3 -> 法6 | Z3: =CQ3 -> 法7 | AA3: =CR3 -> 法8 | ... BU3: =EL3 -> 評価B | BW3: {=INDEX(T2:BQ6,5,BW2)} -> 0 | CH3: 回答アリ | CK3: 法1 | CL3: 法2 | CM3: 法3 | CN3: 法4 | CO3: 法5 | CP3: 法6 | CQ3: 法7 | CR3: 法8 | CS3: 法9 | CT3: 法10 | CU3: 法11 | CV3: 法12 | CW3: 法13 | CX3: 法14 | CY3: 法15 | CZ3: 法16 | DA3: 法17 | DB3: 法18 | DC3: 法19 | DD3: 法20 | DE3: 法21 | DF3: 法22 | DG3: 法23 | DH3: 法24 | DI3: 法25 | DJ3: 法26 | DK3: 法27 | DL3: 法28 | DM3: 法29 | DN3: 法30 | DO3: 法31 | DP3: 法32 | DQ3: 法33 | DR3: 法34 | DS3: 法35 | DT3: 法36 | DU3: 法37 | DV3: 法38 | DW3: 法39 | DX3: 法40 | DY3: 法41 | DZ3: 法42 | EA3: 法43 | EB3: 法44 | EC3: 法45 | ED3: 法46 | EE3: 法47 | EF3: 法48 | EG3: 法49 | EH3: 法50 | EI3: 表示 | EJ3: 育建 | EK3: 評価A | EL3: 評価B
B4: 強制チェック | C4: =Q2 -> 0 | D4: =IF(C4=0,"OK",IF(C4=1,"ON","E")) -> OK | E4: =IF(D4="OK",0,1) -> 0 | F4: =IF(E4=1,"◀ 強制チェックが入っている","◀ 強制チェックは入っていません") -> ◀ 強制チェックは入っていません | N4: 凡例： | O4: を回答ください | Q4: =SUM(T6:BQ6) -> 0 | CH4: 該当なし
B5: 個別チェック | C5: =Q4 -> 0 | D5: =IF(C5=0,"OK",IF(C5>0,"ON","E")) -> OK | E5: =IF(D5="OK",0,1) -> 0 | F5: =IF(E5=1,"◀ 個別チェックが入っている","◀ 個別チェックは入っていません") -> ◀ 個別チェックは入っていません | Q5: ▷ 該当選択 | T5: =IF(T6<>0,"○","×") -> × | U5: =IF(U6<>0,"○","×") -> × | V5: =IF(V6<>0,"○","×") -> × | W5: =IF(W6<>0,"○","×") -> × | X5: =IF(X6<>0,"○","×") -> × | Y5: =IF(Y6<>0,"○","×") -> × | Z5: =IF(Z6<>0,"○","×") -> × | AA5: =IF(AA6<>0,"○","×") -> × | ... BQ5: =IF(BQ6<>0,"○","×") -> × | BS5: =IF(BS6<>0,"○","×") -> × | BT5: =IF(BT6<>0,"○","×") -> × | BU5: =IF(BU6<>0,"○","×") -> × | BV5: - | BW5: ● | CK5: =IF(CK352<>0,"○","×") -> × | CL5: =IF(CL352<>0,"○","×") -> × | CM5: =IF(CM352<>0,"○","×") -> × | CN5: =IF(CN352<>0,"○","×") -> × | CO5: =IF(CO352<>0,"○","×") -> × | CP5: =IF(CP352<>0,"○","×") -> × | CQ5: =IF(CQ352<>0,"○","×") -> × | CR5: =IF(CR352<>0,"○","×") -> × | ... EH5: =IF(EH352<>0,"○","×") -> × | EJ5: =IF(EJ352<>0,"○","×") -> × | EK5: =IF(EK352<>0,"○","×") -> × | EL5: =IF(EL352<>0,"○","×") -> ×
B6: ①基本事項入力 | C6: =SUM(E10:E17) -> 0 | D6: =IF(C6=0,"OK",IF(C6>0,"ON","E")) -> OK | E6: =IF(D6="OK",0,1) -> 0 | F6: =IF(E6=1,"◀ 【①基本事項】の事業者情報に入力あり","◀ 【①基本事項】の事業者情報に入力なし") -> ◀ 【①基本事項】の事業者情報に入力なし | T6: =SUM(T7:T351) -> 0 | U6: =SUM(U7:U351) -> 0 | V6: =SUM(V7:V351) -> 0 | W6: =SUM(W7:W351) -> 0 | X6: =SUM(X7:X351) -> 0 | Y6: =SUM(Y7:Y351) -> 0 | Z6: =SUM(Z7:Z351) -> 0 | AA6: =SUM(AA7:AA351) -> 0 | ... BQ6: =SUM(BQ7:BQ351) -> 0 | BS6: =SUM(BS7:BS351) -> 0 | BT6: =BT329 -> 0 | BU6: =BU329 -> 0
B7: ②結果入力 | C7: =SUM(C19:C52) -> 0 | D7: =IF(C7=0,"OK",IF(C7>0,"ON"<"E")) -> OK | E7: =IF(D7="OK",0,1) -> 0 | F7: =IF(E7=1,"◀ 【②結果入力】回答あり","◀ 【②結果入力】回答なし") -> ◀ 【②結果入力】回答なし | L7: AQ | N7: A 資料提出時の確認事項 （全事業者回答必須） | S7: 強制表示 | T7: =$Q$2 -> 0 | U7: =$Q$2 -> 0 | V7: =$Q$2 -> 0 | W7: =$Q$2 -> 0 | X7: =$Q$2 -> 0 | Y7: =$Q$2 -> 0 | Z7: =$Q$2 -> 0 | AA7: =$Q$2 -> 0 | ... BR7: =$Q$2 -> 0 | BT7: =BT6+BU6 -> 0 | BY7: 関連条件 | CA7: 関連条件 | CC7: 関連条件
B8: ①大項目未回答 8 | C8: ='【① 基本事項】'!C280 -> 8 | D8: =IF(C8=8,"OK",8-C8) -> OK | E8: =IF(D8="OK",0,1) -> 0 | F8: =IF(E8=1,"◀ 【①基本事項】大項目にチェックあり（数）","◀ 【①基本事項】大項目にチェックなし") -> ◀ 【①基本事項】大項目にチェックなし | O8: =IF(P9=$CH$2,N9&" ","")&" "&$O$4 -> AQ1 を回答ください | P8: =IF(R8=$CH$2,"●","×") -> ● | R8: =IF(COUNTIF(P9:P13,$CH$2)>0,$CH$2,"") -> 回答待ち | S8: 個別表示
B9: ①枝 回答 | C9: =S324 -> 0 | D9: =IF(C9=0,"OK",C9) -> OK | E9: =IF(D9="OK",0,1) -> 0 | F9: =IF(E9=1,"◀ 【①基本事項】枝チェック入力あり(回答数）","◀ 【①基本事項】枝チェック入力なし") -> ◀ 【①基本事項】枝チェック入力なし | L9: =IF(S9=1,"▶","") | N9: =$Q9 -> AQ1 | O9: 今回の申請にあたり、建築関連法規の確認や資料作成に有資格者（建築士）は関わりましたか | P9: =CH10 -> 回答待ち | Q9: AQ1 | R9: =IF(N10=Q10,R10,IF(N10=Q11,R11,IF(N10=Q12,R12,IF(N10=Q13,P9,"-")))) -> 0 | S9: =IF(R9=0,0,1) -> 0 | BV9: =Q9 -> AQ1 | BW9: =IF(CG10="●","表示",IF(AND($Q$3="非表示",CG10="×"),"非表示",IF($Q$3="表示","表示"))) -> 表示
B10: ='【① 基本事項】'!F6 -> 法人名（設置者）： | C10: =IF('【① 基本事項】'!O6=0,"未記載") -> 未記載 | D10: =IF(C10="未記載","OK","ON") -> OK | E10: =IF(D10="OK",0,1) -> 0 | N10: ='【① 基本事項】'!F30 -> ▷ 該当選択 | Q10: ▷ 該当選択 | R10: 0 | BV10: =BV9&"=0" -> AQ1=0 | BW10: =IF(R9=R10,"●","×") -> ● | BY10: - | BZ10: =IF(INDEX($BV$5:$BW$354,MATCH(BY10,$BV$5:$BV$354,0),2)="●","●","×") -> ● | CA10: - | CB10: =IF(INDEX($BV$5:$BW$354,MATCH(CA10,$BV$5:$BV$354,0),2)="●","●","×") -> ● | CC10: - | CD10: =IF(INDEX($BV$5:$BW$354,MATCH(CC10,$BV$5:$BV$354,0),2)="●","●","×") -> ● | CE10: ➡ | CF10: =IF(AND(BW10="●",BZ10="●",CB10="●",CD10="●"),"●","×") -> ● | CG10: =IF(AND(BZ10="●",CB10="●",CD10="●"),"●","×") -> ● | CH10: =IF(CF10="●",$CH$2,IF(COUNTIF(CF11:CF12,"●")>0,$CH$3,$CH$4)) -> 回答待ち
B11: ='【① 基本事項】'!F8 -> 保育施設名： | C11: =IF('【① 基本事項】'!O8=0,"未記載") -> 未記載 | D11: =IF(C11="未記載","OK","ON") -> OK | E11: =IF(D11="OK",0,1) -> 0 | N11: =$Q11 -> ▶ A | O11: ： 有資格者（建築士）は関わった | Q11: ▶ A | R11: 1 | T11: =IF(CK11="","",IF(CK11=$CF11,1,0)) -> 0 | U11: =IF(CL11="","",IF(CL11=$CF11,1,0)) | V11: =IF(CM11="","",IF(CM11=$CF11,1,0)) | W11: =IF(CN11="","",IF(CN11=$CF11,1,0)) | X11: =IF(CO11="","",IF(CO11=$CF11,1,0)) | Y11: =IF(CP11="","",IF(CP11=$CF11,1,0)) | Z11: =IF(CQ11="","",IF(CQ11=$CF11,1,0)) | AA11: =IF(CR11="","",IF(CR11=$CF11,1,0)) | ... BU11: =IF(EL11="","",IF(EL11=$CF11,1,0)) | BV11: =BV9&"=1" -> AQ1=1 | BW11: =IF(R9=R11,"●","×") -> × | BX11: ➡ | BY11: - | BZ11: =IF(INDEX($BV$5:$BW$354,MATCH(BY11,$BV$5:$BV$354,0),2)="●","●","×") -> ● | CA11: - | CB11: =IF(INDEX($BV$5:$BW$354,MATCH(CA11,$BV$5:$BV$354,0),2)="●","●","×") -> ● | CC11: - | CD11: =IF(INDEX($BV$5:$BW$354,MATCH(CC11,$BV$5:$BV$354,0),2)="●","●","×") -> ● | CE11: ➡ | CF11: =IF(AND(BW11="●",BZ11="●",CB11="●",CD11="●"),"●","×") -> × | CG11: =IF(AND(BZ11="●",CB11="●",CD11="●"),"●","×") -> ● | CK11: ● | EI11: -
B12: ='【① 基本事項】'!F10 -> 担当者名 ： | C12: =IF('【① 基本事項】'!P10=0,"未記載") -> 未記載 | D12: =IF(C12="未記載","OK","ON") -> OK | E12: =IF(D12="OK",0,1) -> 0 | N12: =$Q12 -> ▶ B | O12: ： 有資格者（建築士）は関わらなかった | Q12: ▶ B | R12: 2 | T12: =IF(CK12="","",IF(CK12=$CF12,1,0)) | U12: =IF(CL12="","",IF(CL12=$CF12,1,0)) -> 0 | V12: =IF(CM12="","",IF(CM12=$CF12,1,0)) | W12: =IF(CN12="","",IF(CN12=$CF12,1,0)) | X12: =IF(CO12="","",IF(CO12=$CF12,1,0)) | Y12: =IF(CP12="","",IF(CP12=$CF12,1,0)) | Z12: =IF(CQ12="","",IF(CQ12=$CF12,1,0)) | AA12: =IF(CR12="","",IF(CR12=$CF12,1,0)) | ... BU12: =IF(EL12="","",IF(EL12=$CF12,1,0)) | BV12: =BV9&"=2" -> AQ1=2 | BW12: =IF(R9=R12,"●","×") -> × | BX12: ➡ | BY12: - | BZ12: =IF(INDEX($BV$5:$BW$354,MATCH(BY12,$BV$5:$BV$354,0),2)="●","●","×") -> ● | CA12: - | CB12: =IF(INDEX($BV$5:$BW$354,MATCH(CA12,$BV$5:$BV$354,0),2)="●","●","×") -> ● | CC12: - | CD12: =IF(INDEX($BV$5:$BW$354,MATCH(CC12,$BV$5:$BV$354,0),2)="●","●","×") -> ● | CE12: ➡ | CF12: =IF(AND(BW12="●",BZ12="●",CB12="●",CD12="●"),"●","×") -> × | CG12: =IF(AND(BZ12="●",CB12="●",CD12="●"),"●","×") -> ● | CL12: ● | EI12: -
B13: ='【① 基本事項】'!F12 -> 運営開始年度： | C13: =IF('【① 基本事項】'!P12=0,"未記載") -> 未記載 | D13: =IF(C13="未記載","OK","ON") -> OK | E13: =IF(D13="OK",0,1) -> 0 | O13: =IF(R9=0,N9&" "&$O$4,"") -> AQ1 を回答ください
B14: ='【① 基本事項】'!F14 -> 申請種類 ： | C14: =IF('【① 基本事項】'!P14=0,"未記載") -> 未記載 | D14: =IF(C14="未記載","OK","ON") -> OK | E14: =IF(D14="OK",0,1) -> 0 | L14: BQ | N14: B 保育園全体に影響がでる変更（建築整備内容の法令・基準チェックシート１、２が必要になる変更） （全事業者回答必須）
B15: ='【① 基本事項】'!J10 -> 保育施設コード: | C15: =IF('【① 基本事項】'!R10=0,"未記載") -> 未記載 | D15: =IF(C15="未記載","OK","ON") -> OK | E15: =IF(D15="OK",0,1) -> 0 | O15: =IF(P16=$CH$2,N16&" ","")&IF(P21=$CH$2,N21&" ","")&IF(P26=$CH$2,N26&" ","")&" "&$O$4 -> BQ1 BQ2 BQ3 を回答ください | P15: =IF(R15=$CH$2,"●","×") -> ● | R15: =IF(COUNTIF(P16:P30,$CH$2)>0,$CH$2,"") -> 回答待ち
B16: ='【① 基本事項】'!J12 -> 直近の図面変更年度： | C16: =IF('【① 基本事項】'!R12=0,"未記載") -> 未記載 | D16: =IF(C16="未記載","OK","ON") -> OK | E16: =IF(D16="OK",0,1) -> 0 | L16: =IF(S16=1,"▶","") | N16: =$Q16 -> BQ1 | O16: 建物の増築・増床がありますか | P16: =CH17 -> 回答待ち | Q16: BQ1 | R16: =IF(N17=Q17,R17,IF(N17=Q18,R18,IF(N17=Q19,R19,IF(N17=Q20,P16,"-")))) -> 0 | S16: =IF(R16=0,0,1) -> 0 | BV16: =Q16 -> BQ1 | BW16: =IF(CG17="●","表示",IF(AND($Q$3="非表示",CG17="×"),"非表示",IF($Q$3="表示","表示"))) -> 表示
B17: ='【① 基本事項】'!J14 -> 申請日： | C17: =IF('【① 基本事項】'!R143=0,"未記載") -> 未記載 | D17: =IF(C17="未記載","OK","ON") -> OK | E17: =IF(D17="OK",0,1) -> 0 | N17: ='【① 基本事項】'!F37 -> ▷ 該当選択 | P17: ↓ | Q17: ▷ 該当選択 | R17: 0 | BV17: =BV16&"=0" -> BQ1=0 | BW17: =IF(R16=R17,"●","×") -> ● | BY17: - | BZ17: =IF(INDEX($BV$5:$BW$354,MATCH(BY17,$BV$5:$BV$354,0),2)="●","●","×") -> ● | CA17: - | CB17: =IF(INDEX($BV$5:$BW$354,MATCH(CA17,$BV$5:$BV$354,0),2)="●","●","×") -> ● | CC17: - | CD17: =IF(INDEX($BV$5:$BW$354,MATCH(CC17,$BV$5:$BV$354,0),2)="●","●","×") -> ● | CE17: ➡ | CF17: =IF(AND(BW17="●",BZ17="●",CB17="●",CD17="●"),"●","×") -> ● | CG17: =IF(AND(BZ17="●",CB17="●",CD17="●"),"●","×") -> ● | CH17: =IF(CF17="●",$CH$2,IF(COUNTIF(CF18:CF19,"●")>0,$CH$3,$CH$4)) -> 回答待ち
N18: =$Q18 -> ▶ A | O18: ： あり | P18: ↓ | Q18: ▶ A | R18: 1 | T18: =IF(CK18="","",IF(CK18=$CF18,1,0)) | U18: =IF(CL18="","",IF(CL18=$CF18,1,0)) | V18: =IF(CM18="","",IF(CM18=$CF18,1,0)) | W18: =IF(CN18="","",IF(CN18=$CF18,1,0)) | X18: =IF(CO18="","",IF(CO18=$CF18,1,0)) | Y18: =IF(CP18="","",IF(CP18=$CF18,1,0)) | Z18: =IF(CQ18="","",IF(CQ18=$CF18,1,0)) | AA18: =IF(CR18="","",IF(CR18=$CF18,1,0)) | ... BU18: =IF(EL18="","",IF(EL18=$CF18,1,0)) | BV18: =BV16&"=1" -> BQ1=1 | BW18: =IF(R16=R18,"●","×") -> × | BX18: ➡ | BY18: - | BZ18: =IF(INDEX($BV$5:$BW$354,MATCH(BY18,$BV$5:$BV$354,0),2)="●","●","×") -> ● | CA18: - | CB18: =IF(INDEX($BV$5:$BW$354,MATCH(CA18,$BV$5:$BV$354,0),2)="●","●","×") -> ● | CC18: - | CD18: =IF(INDEX($BV$5:$BW$354,MATCH(CC18,$BV$5:$BV$354,0),2)="●","●","×") -> ● | CE18: ➡ | CF18: =IF(AND(BW18="●",BZ18="●",CB18="●",CD18="●"),"●","×") -> × | CG18: =IF(AND(BZ18="●",CB18="●",CD18="●"),"●","×") -> ● | CU18: ● | EI18: ● | EJ18: ● | EK18: ●
B19: =【②結果入力】!E14 -> OK | C19: =SUM(【②結果入力】!F14:H19) -> 0 | D19: =IF(C19=0,"OK","ON") -> OK | N19: =$Q19 -> ▶ B | O19: ： なし | P19: ↓ | Q19: ▶ B | R19: 2 | T19: =IF(CK19="","",IF(CK19=$CF19,1,0)) | U19: =IF(CL19="","",IF(CL19=$CF19,1,0)) | V19: =IF(CM19="","",IF(CM19=$CF19,1,0)) | W19: =IF(CN19="","",IF(CN19=$CF19,1,0)) | X19: =IF(CO19="","",IF(CO19=$CF19,1,0)) | Y19: =IF(CP19="","",IF(CP19=$CF19,1,0)) | Z19: =IF(CQ19="","",IF(CQ19=$CF19,1,0)) | AA19: =IF(CR19="","",IF(CR19=$CF19,1,0)) | ... BU19: =IF(EL19="","",IF(EL19=$CF19,1,0)) | BV19: =BV16&"=2" -> BQ1=2 | BW19: =IF(R16=R19,"●","×") -> × | BX19: ➡ | BY19: - | BZ19: =IF(INDEX($BV$5:$BW$354,MATCH(BY19,$BV$5:$BV$354,0),2)="●","●","×") -> ● | CA19: - | CB19: =IF(INDEX($BV$5:$BW$354,MATCH(CA19,$BV$5:$BV$354,0),2)="●","●","×") -> ● | CC19: - | CD19: =IF(INDEX($BV$5:$BW$354,MATCH(CC19,$BV$5:$BV$354,0),2)="●","●","×") -> ● | CE19: ➡ | CF19: =IF(AND(BW19="●",BZ19="●",CB19="●",CD19="●"),"●","×") -> × | CG19: =IF(AND(BZ19="●",CB19="●",CD19="●"),"●","×") -> ● | EI19: -
B20: =【②結果入力】!E20 -> OK | C20: =SUM(【②結果入力】!F20:H22) -> 0 | D20: =IF(C20=0,"OK","ON") -> OK | O20: =IF(R16=0,N16&" "&$O$4,"") -> BQ1 を回答ください | P20: =IF(P16=$CH$2,"●","×") -> ●
B21: =【②結果入力】!E23 -> OK | C21: =SUM(【②結果入力】!F23:H29) -> 0 | D21: =IF(C21=0,"OK","ON") -> OK | L21: =IF(S21=1,"▶","") | N21: =$Q21 -> BQ2 | O21: 保育に供する室の設置が現在より上の階になりますか | P21: =CH22 -> 回答待ち | Q21: BQ2 | R21: =IF(N22=Q22,R22,IF(N22=Q23,R23,IF(N22=Q24,R24,IF(N22=Q25,P21,"-")))) -> 0 | S21: =IF(R21=0,0,1) -> 0 | BV21: =Q21 -> BQ2 | BW21: =IF(CG22="●","表示",IF(AND($Q$3="非表示",CG22="×"),"非表示",IF($Q$3="表示","表示"))) -> 表示
B22: =【②結果入力】!E30 -> OK | C22: =SUM(【②結果入力】!F31:H42) -> 0 | D22: =IF(C22=0,"OK","ON") -> OK | N22: ='【① 基本事項】'!F42 -> ▷ 該当選択 | P22: ↓ | Q22: ▷ 該当選択 | R22: 0 | BV22: =BV21&"=0" -> BQ2=0 | BW22: =IF(R21=R22,"●","×") -> ● | BY22: - | BZ22: =IF(INDEX($BV$5:$BW$354,MATCH(BY22,$BV$5:$BV$354,0),2)="●","●","×") -> ● | CA22: - | CB22: =IF(INDEX($BV$5:$BW$354,MATCH(CA22,$BV$5:$BV$354,0),2)="●","●","×") -> ● | CC22: - | CD22: =IF(INDEX($BV$5:$BW$354,MATCH(CC22,$BV$5:$BV$354,0),2)="●","●","×") -> ● | CE22: ➡ | CF22: =IF(AND(BW22="●",BZ22="●",CB22="●",CD22="●"),"●","×") -> ● | CG22: =IF(AND(BZ22="●",CB22="●",CD22="●"),"●","×") -> ● | CH22: =IF(CF22="●",$CH$2,IF(COUNTIF(CF23:CF24,"●")>0,$CH$3,$CH$4)) -> 回答待ち
B23: =【②結果入力】!E43 -> OK | C23: =SUM(【②結果入力】!F44:H65) -> 0 | D23: =IF(C23=0,"OK","ON") -> OK | N23: =$Q23 -> ▶ A | O23: ： あり | P23: ↓ | Q23: ▶ A | R23: 1 | T23: =IF(CK23="","",IF(CK23=$CF23,1,0)) | U23: =IF(CL23="","",IF(CL23=$CF23,1,0)) | V23: =IF(CM23="","",IF(CM23=$CF23,1,0)) | W23: =IF(CN23="","",IF(CN23=$CF23,1,0)) | X23: =IF(CO23="","",IF(CO23=$CF23,1,0)) | Y23: =IF(CP23="","",IF(CP23=$CF23,1,0)) | Z23: =IF(CQ23="","",IF(CQ23=$CF23,1,0)) | AA23: =IF(CR23="","",IF(CR23=$CF23,1,0)) | ... BU23: =IF(EL23="","",IF(EL23=$CF23,1,0)) | BV23: =BV21&"=1" -> BQ2=1 | BW23: =IF(R21=R23,"●","×") -> × | BX23: ➡ | BY23: - | BZ23: =IF(INDEX($BV$5:$BW$354,MATCH(BY23,$BV$5:$BV$354,0),2)="●","●","×") -> ● | CA23: - | CB23: =IF(INDEX($BV$5:$BW$354,MATCH(CA23,$BV$5:$BV$354,0),2)="●","●","×") -> ● | CC23: - | CD23: =IF(INDEX($BV$5:$BW$354,MATCH(CC23,$BV$5:$BV$354,0),2)="●","●","×") -> ● | CE23: ➡ | CF23: =IF(AND(BW23="●",BZ23="●",CB23="●",CD23="●"),"●","×") -> × | CG23: =IF(AND(BZ23="●",CB23="●",CD23="●"),"●","×") -> ● | CU23: ● | EI23: ● | EJ23: ●
B24: =【②結果入力】!E66 -> OK | C24: =SUM(【②結果入力】!F66:H70) -> 0 | D24: =IF(C24=0,"OK","ON") -> OK | N24: =$Q24 -> ▶ B | O24: ： なし | P24: ↓ | Q24: ▶ B | R24: 2 | T24: =IF(CK24="","",IF(CK24=$CF24,1,0)) | U24: =IF(CL24="","",IF(CL24=$CF24,1,0)) | V24: =IF(CM24="","",IF(CM24=$CF24,1,0)) | W24: =IF(CN24="","",IF(CN24=$CF24,1,0)) | X24: =IF(CO24="","",IF(CO24=$CF24,1,0)) | Y24: =IF(CP24="","",IF(CP24=$CF24,1,0)) | Z24: =IF(CQ24="","",IF(CQ24=$CF24,1,0)) | AA24: =IF(CR24="","",IF(CR24=$CF24,1,0)) | ... BU24: =IF(EL24="","",IF(EL24=$CF24,1,0)) | BV24: =BV21&"=2" -> BQ2=2 | BW24: =IF(R21=R24,"●","×") -> × | BX24: ➡ | BY24: - | BZ24: =IF(INDEX($BV$5:$BW$354,MATCH(BY24,$BV$5:$BV$354,0),2)="●","●","×") -> ● | CA24: - | CB24: =IF(INDEX($BV$5:$BW$354,MATCH(CA24,$BV$5:$BV$354,0),2)="●","●","×") -> ● | CC24: - | CD24: =IF(INDEX($BV$5:$BW$354,MATCH(CC24,$BV$5:$BV$354,0),2)="●","●","×") -> ● | CE24: ➡ | CF24: =IF(AND(BW24="●",BZ24="●",CB24="●",CD24="●"),"●","×") -> × | CG24: =IF(AND(BZ24="●",CB24="●",CD24="●"),"●","×") -> ● | EI24: -
B25: =【②結果入力】!E71 -> OK | C25: =SUM(【②結果入力】!F71:H75) -> 0 | D25: =IF(C25=0,"OK","ON") -> OK | O25: =IF(R21=0,N21&" "&$O$4,"") -> BQ2 を回答ください | P25: =IF(P21=$CH$2,"●","×") -> ●
B26: =【②結果入力】!E76 -> OK | C26: =SUM(【②結果入力】!F76:H94) -> 0 | D26: =IF(C26=0,"OK","ON") -> OK | L26: =IF(S26=1,"▶","") | N26: =$Q26 -> BQ3 | O26: 保育所全体の床面積が減る計画がありますか | P26: =CH27 -> 回答待ち | Q26: BQ3 | R26: =IF(N27=Q27,R27,IF(N27=Q28,R28,IF(N27=Q29,R29,"-"))) -> 0 | S26: =IF(R26=0,0,1) -> 0 | BV26: =Q26 -> BQ3 | BW26: =IF(CG27="●","表示",IF(AND($Q$3="非表示",CG27="×"),"非表示",IF($Q$3="表示","表示"))) -> 表示
B27: =【②結果入力】!E95 -> OK | C27: =SUM(【②結果入力】!F95:H101) -> 0 | D27: =IF(C27=0,"OK","ON") -> OK | N27: ='【① 基本事項】'!F47 -> ▷ 該当選択 | P27: ↓ | Q27: ▷ 該当選択 | R27: 0 | BV27: =BV26&"=0" -> BQ3=0 | BW27: =IF(R26=R27,"●","×") -> ● | BY27: - | BZ27: =IF(INDEX($BV$5:$BW$354,MATCH(BY27,$BV$5:$BV$354,0),2)="●","●","×") -> ● | CA27: - | CB27: =IF(INDEX($BV$5:$BW$354,MATCH(CA27,$BV$5:$BV$354,0),2)="●","●","×") -> ● | CC27: - | CD27: =IF(INDEX($BV$5:$BW$354,MATCH(CC27,$BV$5:$BV$354,0),2)="●","●","×") -> ● | CE27: ➡ | CF27: =IF(AND(BW27="●",BZ27="●",CB27="●",CD27="●"),"●","×") -> ● | CG27: =IF(AND(BZ27="●",CB27="●",CD27="●"),"●","×") -> ● | CH27: =IF(CF27="●",$CH$2,IF(COUNTIF(CF28:CF29,"●")>0,$CH$3,$CH$4)) -> 回答待ち
B28: =【②結果入力】!E102 -> OK | C28: =SUM(【②結果入力】!E103:G111) -> 0 | D28: =IF(C28=0,"OK","ON") -> OK | N28: =$Q28 -> ▶ A | O28: ： あり | P28: ↓ | Q28: ▶ A | R28: 1 | T28: =IF(CK28="","",IF(CK28=$CF28,1,0)) | U28: =IF(CL28="","",IF(CL28=$CF28,1,0)) | V28: =IF(CM28="","",IF(CM28=$CF28,1,0)) | W28: =IF(CN28="","",IF(CN28=$CF28,1,0)) | X28: =IF(CO28="","",IF(CO28=$CF28,1,0)) | Y28: =IF(CP28="","",IF(CP28=$CF28,1,0)) | Z28: =IF(CQ28="","",IF(CQ28=$CF28,1,0)) | AA28: =IF(CR28="","",IF(CR28=$CF28,1,0)) | ... BU28: =IF(EL28="","",IF(EL28=$CF28,1,0)) | BV28: =BV26&"=1" -> BQ3=1 | BW28: =IF(R26=R28,"●","×") -> × | BX28: ➡ | BY28: - | BZ28: =IF(INDEX($BV$5:$BW$354,MATCH(BY28,$BV$5:$BV$354,0),2)="●","●","×") -> ● | CA28: - | CB28: =IF(INDEX($BV$5:$BW$354,MATCH(CA28,$BV$5:$BV$354,0),2)="●","●","×") -> ● | CC28: - | CD28: =IF(INDEX($BV$5:$BW$354,MATCH(CC28,$BV$5:$BV$354,0),2)="●","●","×") -> ● | CE28: ➡ | CF28: =IF(AND(BW28="●",BZ28="●",CB28="●",CD28="●"),"●","×") -> × | CG28: =IF(AND(BZ28="●",CB28="●",CD28="●"),"●","×") -> ● | CU28: ● | EI28: ● | EJ28: ●
B29: =【②結果入力】!E112 -> OK | C29: =SUM(【②結果入力】!F112:H114) -> 0 | D29: =IF(C29=0,"OK","ON") -> OK | N29: =$Q29 -> ▶ B | O29: ： なし | P29: ↓ | Q29: ▶ B | R29: 2 | T29: =IF(CK29="","",IF(CK29=$CF29,1,0)) | U29: =IF(CL29="","",IF(CL29=$CF29,1,0)) | V29: =IF(CM29="","",IF(CM29=$CF29,1,0)) | W29: =IF(CN29="","",IF(CN29=$CF29,1,0)) | X29: =IF(CO29="","",IF(CO29=$CF29,1,0)) | Y29: =IF(CP29="","",IF(CP29=$CF29,1,0)) | Z29: =IF(CQ29="","",IF(CQ29=$CF29,1,0)) | AA29: =IF(CR29="","",IF(CR29=$CF29,1,0)) | ... BU29: =IF(EL29="","",IF(EL29=$CF29,1,0)) | BV29: =BV26&"=2" -> BQ3=2 | BW29: =IF(R26=R29,"●","×") -> × | BX29: ➡ | BY29: - | BZ29: =IF(INDEX($BV$5:$BW$354,MATCH(BY29,$BV$5:$BV$354,0),2)="●","●","×") -> ● | CA29: - | CB29: =IF(INDEX($BV$5:$BW$354,MATCH(CA29,$BV$5:$BV$354,0),2)="●","●","×") -> ● | CC29: - | CD29: =IF(INDEX($BV$5:$BW$354,MATCH(CC29,$BV$5:$BV$354,0),2)="●","●","×") -> ● | CE29: ➡ | CF29: =IF(AND(BW29="●",BZ29="●",CB29="●",CD29="●"),"●","×") -> × | CG29: =IF(AND(BZ29="●",CB29="●",CD29="●"),"●","×") -> ● | EI29: -
B30: =【②結果入力】!E115 -> OK | C30: =SUM(【②結果入力】!F115:H117) -> 0 | D30: =IF(C30=0,"OK","ON") -> OK | O30: =IF(R26=0,N26&" "&$O$4,"") -> BQ3 を回答ください | P30: =IF(P26=$CH$2,"●","×") -> ●
B31: =【②結果入力】!E118 -> OK | C31: =SUM(【②結果入力】!F118:H120) -> 0 | D31: =IF(C31=0,"OK","ON") -> OK | L31: CQ | N31: C 年齢別内訳の変更 （全事業者回答必須）
B32: =【②結果入力】!E121 -> OK | C32: =SUM(【②結果入力】!F121:H123) -> 0 | D32: =IF(C32=0,"OK","ON") -> OK | O32: =IF(P33=$CH$2,N33&" ","")&IF(P38=$CH$2,N38&" ","")&IF(P43=$CH$2,N43&" ","")&IF(P55=$CH$2,N49&" ","")&IF(P49=$CH$2,N55&" ","")&IF(P60=$CH$2,N60&" ","")&IF(P66=$CH$2,N66&" ","")&IF(P71=$CH$2,N71&" ","")&IF(P76=$CH$2,N76&" ","")&IF(P81=$CH$2,N81&" ","")&" "&$O$4 -> CQ0 を回答ください | P32: =IF(R32=$CH$2,"●","×") -> ● | R32: =IF(COUNTIF(P33:P84,$CH$2)>0,$CH$2,"") -> 回答待ち
B33: =【②結果入力】!E124 -> OK | C33: =SUM(【②結果入力】!F124:H126) -> 0 | D33: =IF(C33=0,"OK","ON") -> OK | L33: =IF(S33=1,"▶","") | N33: =$Q33 -> CQ0 | O33: 今回の申請で年齢別内訳の変更がありますか | P33: =CH34 -> 回答待ち | Q33: CQ0 | R33: =IF(N34=Q34,R34,IF(N34=Q35,R35,IF(N34=Q36,R36,"-"))) -> 0 | S33: =IF(R33=0,0,1) -> 0 | BV33: =Q33 -> CQ0 | BW33: =IF(CG34="●","表示",IF(AND($Q$3="非表示",CG34="×"),"非表示",IF($Q$3="表示","表示"))) -> 表示
B34: =【②結果入力】!E127 -> OK | C34: =SUM(【②結果入力】!F127:H129) -> 0 | D34: =IF(C34=0,"OK","ON") -> OK | N34: ='【① 基本事項】'!F54 -> ▷ 該当選択 | Q34: ▷ 該当選択 | R34: 0 | BV34: =BV33&"=0" -> CQ0=0 | BW34: =IF(R33=R34,"●","×") -> ● | BY34: - | BZ34: =IF(INDEX($BV$5:$BW$354,MATCH(BY34,$BV$5:$BV$354,0),2)="●","●","×") -> ● | CA34: - | CB34: =IF(INDEX($BV$5:$BW$354,MATCH(CA34,$BV$5:$BV$354,0),2)="●","●","×") -> ● | CC34: - | CD34: =IF(INDEX($BV$5:$BW$354,MATCH(CC34,$BV$5:$BV$354,0),2)="●","●","×") -> ● | CE34: ➡ | CF34: =IF(AND(BW34="●",BZ34="●",CB34="●",CD34="●"),"●","×") -> ● | CG34: =IF(AND(BZ34="●",CB34="●",CD34="●"),"●","×") -> ● | CH34: =IF(CF34="●",$CH$2,IF(COUNTIF(CF35:CF36,"●")>0,$CH$3,$CH$4)) -> 回答待ち
B35: =【②結果入力】!E130 -> OK | C35: =SUM(【②結果入力】!F130:H135) -> 0 | D35: =IF(C35=0,"OK","ON") -> OK | N35: =$Q35 -> ▶ A | O35: ： 変更あり | Q35: ▶ A | R35: 1 | T35: =IF(CK35="","",IF(CK35=$CF35,1,0)) | U35: =IF(CL35="","",IF(CL35=$CF35,1,0)) | V35: =IF(CM35="","",IF(CM35=$CF35,1,0)) | W35: =IF(CN35="","",IF(CN35=$CF35,1,0)) | X35: =IF(CO35="","",IF(CO35=$CF35,1,0)) | Y35: =IF(CP35="","",IF(CP35=$CF35,1,0)) | Z35: =IF(CQ35="","",IF(CQ35=$CF35,1,0)) | AA35: =IF(CR35="","",IF(CR35=$CF35,1,0)) | ... BU35: =IF(EL35="","",IF(EL35=$CF35,1,0)) | BV35: =BV33&"=1" -> CQ0=1 | BW35: =IF(R33=R35,"●","×") -> × | BX35: ➡ | BY35: - | BZ35: =IF(INDEX($BV$5:$BW$354,MATCH(BY35,$BV$5:$BV$354,0),2)="●","●","×") -> ● | CA35: - | CB35: =IF(INDEX($BV$5:$BW$354,MATCH(CA35,$BV$5:$BV$354,0),2)="●","●","×") -> ● | CC35: - | CD35: =IF(INDEX($BV$5:$BW$354,MATCH(CC35,$BV$5:$BV$354,0),2)="●","●","×") -> ● | CE35: ➡ | CF35: =IF(AND(BW35="●",BZ35="●",CB35="●",CD35="●"),"●","×") -> × | CG35: =IF(AND(BZ35="●",CB35="●",CD35="●"),"●","×") -> ● | EI35: ●
B36: =【②結果入力】!E136 -> OK | C36: =SUM(【②結果入力】!F136:H138) -> 0 | D36: =IF(C36=0,"OK","ON") -> OK | N36: =$Q36 -> ▶ B | O36: ： 変更なし | Q36: ▶ B | R36: 2 | T36: =IF(CK36="","",IF(CK36=$CF36,1,0)) | U36: =IF(CL36="","",IF(CL36=$CF36,1,0)) | V36: =IF(CM36="","",IF(CM36=$CF36,1,0)) | W36: =IF(CN36="","",IF(CN36=$CF36,1,0)) | X36: =IF(CO36="","",IF(CO36=$CF36,1,0)) | Y36: =IF(CP36="","",IF(CP36=$CF36,1,0)) | Z36: =IF(CQ36="","",IF(CQ36=$CF36,1,0)) | AA36: =IF(CR36="","",IF(CR36=$CF36,1,0)) | ... BU36: =IF(EL36="","",IF(EL36=$CF36,1,0)) | BV36: =BV33&"=2" -> CQ0=2 | BW36: =IF(R33=R36,"●","×") -> × | BX36: ➡ | BY36: - | BZ36: =IF(INDEX($BV$5:$BW$354,MATCH(BY36,$BV$5:$BV$354,0),2)="●","●","×") -> ● | CA36: - | CB36: =IF(INDEX($BV$5:$BW$354,MATCH(CA36,$BV$5:$BV$354,0),2)="●","●","×") -> ● | CC36: - | CD36: =IF(INDEX($BV$5:$BW$354,MATCH(CC36,$BV$5:$BV$354,0),2)="●","●","×") -> ● | CE36: ➡ | CF36: =IF(AND(BW36="●",BZ36="●",CB36="●",CD36="●"),"●","×") -> × | CG36: =IF(AND(BZ36="●",CB36="●",CD36="●"),"●","×") -> ● | EI36: -
B37: =【②結果入力】!E139 -> OK | C37: =SUM(【②結果入力】!F139:H144) -> 0 | D37: =IF(C37=0,"OK","ON") -> OK | O37: =IF(R33=0,N33&" "&$O$4,"") -> CQ0 を回答ください | P37: =IF(P33=$CH$2,"●","×") -> ●
B38: =【②結果入力】!E145 -> OK | C38: =SUM(【②結果入力】!F145:H147) -> 0 | D38: =IF(C38=0,"OK","ON") -> OK | L38: =IF(S38=1,"▶","") | N38: =$Q38 -> CQ1 | O38: 保育室の場所の移動がありますか | P38: =CH39 -> 該当なし | Q38: CQ1 | R38: =IF(N39=Q39,R39,IF(N39=Q40,R40,IF(N39=Q41,R41,"-"))) -> 0 | S38: =IF(R38=0,0,1) -> 0 | BV38: =Q38 -> CQ1 | BW38: =IF(CG39="●","表示",IF(AND($Q$3="非表示",CG39="×"),"非表示",IF($Q$3="表示","表示"))) -> 非表示
B39: =【②結果入力】!E148 -> OK | C39: =SUM(【②結果入力】!F148:H158) -> 0 | D39: =IF(C39=0,"OK","ON") -> OK | N39: ='【① 基本事項】'!F59 -> ▷ 該当選択 | Q39: ▷ 該当選択 | R39: 0 | BV39: =BV38&"=0" -> CQ1=0 | BW39: =IF(R38=R39,"●","×") -> ● | BY39: =$BV$35 -> CQ0=1 | BZ39: =IF(INDEX($BV$5:$BW$354,MATCH(BY39,$BV$5:$BV$354,0),2)="●","●","×") -> × | CA39: - | CB39: =IF(INDEX($BV$5:$BW$354,MATCH(CA39,$BV$5:$BV$354,0),2)="●","●","×") -> ● | CC39: - | CD39: =IF(INDEX($BV$5:$BW$354,MATCH(CC39,$BV$5:$BV$354,0),2)="●","●","×") -> ● | CE39: ➡ | CF39: =IF(AND(BW39="●",BZ39="●",CB39="●",CD39="●"),"●","×") -> × | CG39: =IF(AND(BZ39="●",CB39="●",CD39="●"),"●","×") -> × | CH39: =IF(CF39="●",$CH$2,IF(COUNTIF(CF40:CF41,"●")>0,$CH$3,$CH$4)) -> 該当なし
B40: =【②結果入力】!E159 -> OK | C40: =SUM(【②結果入力】!F159:H164) -> 0 | D40: =IF(C40=0,"OK","ON") -> OK | N40: =$Q40 -> ▶ A | O40: ： 場所の移動：あり | Q40: ▶ A | R40: 1 | T40: =IF(CK40="","",IF(CK40=$CF40,1,0)) | U40: =IF(CL40="","",IF(CL40=$CF40,1,0)) | V40: =IF(CM40="","",IF(CM40=$CF40,1,0)) -> 0 | W40: =IF(CN40="","",IF(CN40=$CF40,1,0)) | X40: =IF(CO40="","",IF(CO40=$CF40,1,0)) | Y40: =IF(CP40="","",IF(CP40=$CF40,1,0)) | Z40: =IF(CQ40="","",IF(CQ40=$CF40,1,0)) | AA40: =IF(CR40="","",IF(CR40=$CF40,1,0)) | ... BU40: =IF(EL40="","",IF(EL40=$CF40,1,0)) | BV40: =BV38&"=1" -> CQ1=1 | BW40: =IF(R38=R40,"●","×") -> × | BX40: ➡ | BY40: =$BV$35 -> CQ0=1 | BZ40: =IF(INDEX($BV$5:$BW$354,MATCH(BY40,$BV$5:$BV$354,0),2)="●","●","×") -> × | CA40: - | CB40: =IF(INDEX($BV$5:$BW$354,MATCH(CA40,$BV$5:$BV$354,0),2)="●","●","×") -> ● | CC40: - | CD40: =IF(INDEX($BV$5:$BW$354,MATCH(CC40,$BV$5:$BV$354,0),2)="●","●","×") -> ● | CE40: ➡ | CF40: =IF(AND(BW40="●",BZ40="●",CB40="●",CD40="●"),"●","×") -> × | CG40: =IF(AND(BZ40="●",CB40="●",CD40="●"),"●","×") -> × | CM40: ● | DI40: ● | EI40: -
B41: =【②結果入力】!E165 -> OK | C41: =SUM(【②結果入力】!F165:H167) -> 0 | D41: =IF(C41=0,"OK","ON") -> OK | N41: =$Q41 -> ▶ B | O41: ： 場所の移動：なし | Q41: ▶ B | R41: 2 | T41: =IF(CK41="","",IF(CK41=$CF41,1,0)) | U41: =IF(CL41="","",IF(CL41=$CF41,1,0)) | V41: =IF(CM41="","",IF(CM41=$CF41,1,0)) -> 0 | W41: =IF(CN41="","",IF(CN41=$CF41,1,0)) | X41: =IF(CO41="","",IF(CO41=$CF41,1,0)) | Y41: =IF(CP41="","",IF(CP41=$CF41,1,0)) | Z41: =IF(CQ41="","",IF(CQ41=$CF41,1,0)) | AA41: =IF(CR41="","",IF(CR41=$CF41,1,0)) | ... BU41: =IF(EL41="","",IF(EL41=$CF41,1,0)) | BV41: =BV38&"=2" -> CQ1=2 | BW41: =IF(R38=R41,"●","×") -> × | BX41: ➡ | BY41: =$BV$35 -> CQ0=1 | BZ41: =IF(INDEX($BV$5:$BW$354,MATCH(BY41,$BV$5:$BV$354,0),2)="●","●","×") -> × | CA41: - | CB41: =IF(INDEX($BV$5:$BW$354,MATCH(CA41,$BV$5:$BV$354,0),2)="●","●","×") -> ● | CC41: - | CD41: =IF(INDEX($BV$5:$BW$354,MATCH(CC41,$BV$5:$BV$354,0),2)="●","●","×") -> ● | CE41: ➡ | CF41: =IF(AND(BW41="●",BZ41="●",CB41="●",CD41="●"),"●","×") -> × | CG41: =IF(AND(BZ41="●",CB41="●",CD41="●"),"●","×") -> × | CM41: ● | EI41: -
B42: =【②結果入力】!E168 -> OK | C42: =SUM(【②結果入力】!F168:H170) -> 0 | D42: =IF(C42=0,"OK","ON") -> OK | O42: =IF(R38=0,N38&" "&$O$4,"") -> CQ1 を回答ください | P42: =IF(P38=$CH$2,"●","×") -> ×
B43: =【②結果入力】!E171 -> OK | C43: =SUM(【②結果入力】!F171:H173) -> 0 | D43: =IF(C43=0,"OK","ON") -> OK | L43: =IF(S43=1,"▶","") | N43: =$Q43 -> CQ1-1 | O43: 保育室の設置を予定される室の現状用途について ご回答ください | P43: =CH44 -> 該当なし | Q43: CQ1-1 | R43: =IF(N44=Q44,R44,IF(N44=Q45,R45,IF(N44=Q46,R46,IF(N44=Q47,R47,"-")))) -> 0 | S43: =IF(R43=0,0,1) -> 0 | BV43: =Q43 -> CQ1-1 | BW43: =IF(CG44="●","表示",IF(AND($Q$3="非表示",CG44="×"),"非表示",IF($Q$3="表示","表示"))) -> 非表示
A44: 運営開始年度 | B44: =【②結果入力】!E174 -> OK | C44: =SUM(【②結果入力】!F174:H183) -> 0 | D44: =IF(C44=0,"OK","ON") -> OK | N44: ='【① 基本事項】'!J59 -> ▷ 該当選択 | Q44: ▷ 該当選択 | R44: 0 | BV44: =BV43&"=0" -> CQ1-1=0 | BW44: =IF(R43=R44,"●","×") -> ● | BY44: =$BV$35 -> CQ0=1 | BZ44: =IF(INDEX($BV$5:$BW$354,MATCH(BY44,$BV$5:$BV$354,0),2)="●","●","×") -> × | CA44: =$BV$40 -> CQ1=1 | CB44: =IF(INDEX($BV$5:$BW$354,MATCH(CA44,$BV$5:$BV$354,0),2)="●","●","×") -> × | CC44: - | CD44: =IF(INDEX($BV$5:$BW$354,MATCH(CC44,$BV$5:$BV$354,0),2)="●","●","×") -> ● | CE44: ➡ | CF44: =IF(AND(BW44="●",BZ44="●",CB44="●",CD44="●"),"●","×") -> × | CG44: =IF(AND(BZ44="●",CB44="●",CD44="●"),"●","×") -> × | CH44: =IF(CF44="●",$CH$2,IF(COUNTIF(CF45:CF47,"●")>0,$CH$3,$CH$4)) -> 該当なし
B45: =【②結果入力】!E184 -> OK | C45: =SUM(【②結果入力】!F184:H193) -> 0 | D45: =IF(C45=0,"OK","ON") -> OK | N45: =$Q45 -> ▶ A | O45: ： 保育に供する室 | Q45: ▶ A | R45: 1 | T45: =IF(CK45="","",IF(CK45=$CF45,1,0)) | U45: =IF(CL45="","",IF(CL45=$CF45,1,0)) | V45: =IF(CM45="","",IF(CM45=$CF45,1,0)) | W45: =IF(CN45="","",IF(CN45=$CF45,1,0)) | X45: =IF(CO45="","",IF(CO45=$CF45,1,0)) | Y45: =IF(CP45="","",IF(CP45=$CF45,1,0)) | Z45: =IF(CQ45="","",IF(CQ45=$CF45,1,0)) | AA45: =IF(CR45="","",IF(CR45=$CF45,1,0)) | ... BU45: =IF(EL45="","",IF(EL45=$CF45,1,0)) | BV45: =BV43&"=1" -> CQ1-1=1 | BW45: =IF(R43=R45,"●","×") -> × | BX45: ➡ | BY45: =$BV$35 -> CQ0=1 | BZ45: =IF(INDEX($BV$5:$BW$354,MATCH(BY45,$BV$5:$BV$354,0),2)="●","●","×") -> × | CA45: =$BV$40 -> CQ1=1 | CB45: =IF(INDEX($BV$5:$BW$354,MATCH(CA45,$BV$5:$BV$354,0),2)="●","●","×") -> × | CC45: - | CD45: =IF(INDEX($BV$5:$BW$354,MATCH(CC45,$BV$5:$BV$354,0),2)="●","●","×") -> ● | CE45: ➡ | CF45: =IF(AND(BW45="●",BZ45="●",CB45="●",CD45="●"),"●","×") -> × | CG45: =IF(AND(BZ45="●",CB45="●",CD45="●"),"●","×") -> × | EI45: -
B46: =【②結果入力】!E194 -> OK | C46: =SUM(【②結果入力】!F194:H197) -> 0 | D46: =IF(C46=0,"OK","ON") -> OK | N46: =$Q46 -> ▶ B | O46: ： 保育に供する室以外の居室 | Q46: ▶ B | R46: 2 | T46: =IF(CK46="","",IF(CK46=$CF46,1,0)) | U46: =IF(CL46="","",IF(CL46=$CF46,1,0)) | V46: =IF(CM46="","",IF(CM46=$CF46,1,0)) | W46: =IF(CN46="","",IF(CN46=$CF46,1,0)) -> 0 | X46: =IF(CO46="","",IF(CO46=$CF46,1,0)) -> 0 | Y46: =IF(CP46="","",IF(CP46=$CF46,1,0)) | Z46: =IF(CQ46="","",IF(CQ46=$CF46,1,0)) -> 0 | AA46: =IF(CR46="","",IF(CR46=$CF46,1,0)) | ... BU46: =IF(EL46="","",IF(EL46=$CF46,1,0)) -> 0 | BV46: =BV43&"=2" -> CQ1-1=2 | BW46: =IF(R43=R46,"●","×") -> × | BX46: ➡ | BY46: =$BV$35 -> CQ0=1 | BZ46: =IF(INDEX($BV$5:$BW$354,MATCH(BY46,$BV$5:$BV$354,0),2)="●","●","×") -> × | CA46: =$BV$40 -> CQ1=1 | CB46: =IF(INDEX($BV$5:$BW$354,MATCH(CA46,$BV$5:$BV$354,0),2)="●","●","×") -> × | CC46: - | CD46: =IF(INDEX($BV$5:$BW$354,MATCH(CC46,$BV$5:$BV$354,0),2)="●","●","×") -> ● | CE46: ➡ | CF46: =IF(AND(BW46="●",BZ46="●",CB46="●",CD46="●"),"●","×") -> × | CG46: =IF(AND(BZ46="●",CB46="●",CD46="●"),"●","×") -> × | CN46: ● | CO46: ● | CQ46: ● | EI46: - | EJ46: ● | EL46: ●
B47: =【②結果入力】!E198 -> OK | C47: =SUM(【②結果入力】!F198:H209) -> 0 | D47: =IF(C47=0,"OK","ON") -> OK | N47: =$Q47 -> ▶ C | O47: ： 上記以外（非居室） | Q47: ▶ C | R47: 3 | T47: =IF(CK47="","",IF(CK47=$CF47,1,0)) | U47: =IF(CL47="","",IF(CL47=$CF47,1,0)) | V47: =IF(CM47="","",IF(CM47=$CF47,1,0)) | W47: =IF(CN47="","",IF(CN47=$CF47,1,0)) -> 0 | X47: =IF(CO47="","",IF(CO47=$CF47,1,0)) -> 0 | Y47: =IF(CP47="","",IF(CP47=$CF47,1,0)) | Z47: =IF(CQ47="","",IF(CQ47=$CF47,1,0)) -> 0 | AA47: =IF(CR47="","",IF(CR47=$CF47,1,0)) -> 0 | ... BU47: =IF(EL47="","",IF(EL47=$CF47,1,0)) -> 0 | BV47: =BV43&"=3" -> CQ1-1=3 | BW47: =IF(R43=R47,"●","×") -> × | BX47: ➡ | BY47: =$BV$35 -> CQ0=1 | BZ47: =IF(INDEX($BV$5:$BW$354,MATCH(BY47,$BV$5:$BV$354,0),2)="●","●","×") -> × | CA47: =$BV$40 -> CQ1=1 | CB47: =IF(INDEX($BV$5:$BW$354,MATCH(CA47,$BV$5:$BV$354,0),2)="●","●","×") -> × | CC47: - | CD47: =IF(INDEX($BV$5:$BW$354,MATCH(CC47,$BV$5:$BV$354,0),2)="●","●","×") -> ● | CE47: ➡ | CF47: =IF(AND(BW47="●",BZ47="●",CB47="●",CD47="●"),"●","×") -> × | CG47: =IF(AND(BZ47="●",CB47="●",CD47="●"),"●","×") -> × | CN47: ● | CO47: ● | CQ47: ● | CR47: ● | EI47: - | EJ47: ● | EL47: ●
B48: =【②結果入力】!E210 -> OK | C48: =SUM(【②結果入力】!F210:H215) -> 0 | D48: =IF(C48=0,"OK","ON") -> OK | O48: =IF(R43=0,N43&" "&$O$4,"") -> CQ1-1 を回答ください | P48: =IF(P43=$CH$2,"●","×") -> ×
B49: =【②結果入力】!E216 -> OK | C49: =SUM(【②結果入力】!F216:H218) -> 0 | D49: =IF(C49=0,"OK","ON") -> OK | L49: =IF(S49=1,"▶","") | N49: =$Q49 -> CQ1-2 | O49: 移動する場所はどの階ですか | P49: =CH50 -> 該当なし | Q49: CQ1-2 | R49: =IF(N50=Q50,R50,IF(N50=Q51,R51,IF(N50=Q52,R52,IF(N50=Q53,R53,"-")))) -> 0 | S49: =IF(R49=0,0,1) -> 0 | BV49: =Q49 -> CQ1-2 | BW49: =IF(CG50="●","表示",IF(AND($Q$3="非表示",CG50="×"),"非表示",IF($Q$3="表示","表示"))) -> 非表示
B50: =【②結果入力】!E219 -> OK | C50: =SUM(【②結果入力】!F219:H221) -> 0 | D50: =IF(C50=0,"OK","ON") -> OK | N50: ='【① 基本事項】'!J65 -> ▷ 該当選択 | Q50: ▷ 該当選択 | R50: 0 | BV50: =BV49&"=0" -> CQ1-2=0 | BW50: =IF(R49=R50,"●","×") -> ● | BY50: =$BV$35 -> CQ0=1 | BZ50: =IF(INDEX($BV$5:$BW$354,MATCH(BY50,$BV$5:$BV$354,0),2)="●","●","×") -> × | CA50: =$BV$40 -> CQ1=1 | CB50: =IF(INDEX($BV$5:$BW$354,MATCH(CA50,$BV$5:$BV$354,0),2)="●","●","×") -> × | CC50: - | CD50: =IF(INDEX($BV$5:$BW$354,MATCH(CC50,$BV$5:$BV$354,0),2)="●","●","×") -> ● | CE50: ➡ | CF50: =IF(AND(BW50="●",BZ50="●",CB50="●",CD50="●"),"●","×") -> × | CG50: =IF(AND(BZ50="●",CB50="●",CD50="●"),"●","×") -> × | CH50: =IF(CF50="●",$CH$2,IF(COUNTIF(CF51:CF53,"●")>0,$CH$3,$CH$4)) -> 該当なし
B51: =【②結果入力】!E222 -> OK | C51: =SUM(【②結果入力】!F222:H233) -> 0 | D51: =IF(C51=0,"OK","ON") -> OK | N51: =$Q51 -> ▶ A | O51: ： 現在と同じ階 | Q51: ▶ A | R51: 1 | T51: =IF(CK51="","",IF(CK51=$CF51,1,0)) | U51: =IF(CL51="","",IF(CL51=$CF51,1,0)) | V51: =IF(CM51="","",IF(CM51=$CF51,1,0)) | W51: =IF(CN51="","",IF(CN51=$CF51,1,0)) | X51: =IF(CO51="","",IF(CO51=$CF51,1,0)) | Y51: =IF(CP51="","",IF(CP51=$CF51,1,0)) | Z51: =IF(CQ51="","",IF(CQ51=$CF51,1,0)) | AA51: =IF(CR51="","",IF(CR51=$CF51,1,0)) | ... BU51: =IF(EL51="","",IF(EL51=$CF51,1,0)) | BV51: =BV49&"=1" -> CQ1-2=1 | BW51: =IF(R49=R51,"●","×") -> × | BX51: ➡ | BY51: =$BV$35 -> CQ0=1 | BZ51: =IF(INDEX($BV$5:$BW$354,MATCH(BY51,$BV$5:$BV$354,0),2)="●","●","×") -> × | CA51: =$BV$40 -> CQ1=1 | CB51: =IF(INDEX($BV$5:$BW$354,MATCH(CA51,$BV$5:$BV$354,0),2)="●","●","×") -> × | CC51: - | CD51: =IF(INDEX($BV$5:$BW$354,MATCH(CC51,$BV$5:$BV$354,0),2)="●","●","×") -> ● | CE51: ➡ | CF51: =IF(AND(BW51="●",BZ51="●",CB51="●",CD51="●"),"●","×") -> × | CG51: =IF(AND(BZ51="●",CB51="●",CD51="●"),"●","×") -> × | EI51: -
B52: =【②結果入力】!E234 -> OK | C52: =SUM(【②結果入力】!F234:G236) -> 0 | D52: =IF(C52=0,"OK","ON") -> OK | N52: =$Q52 -> ▶ B | O52: ： 現在より上の階 | Q52: ▶ B | R52: 2 | T52: =IF(CK52="","",IF(CK52=$CF52,1,0)) | U52: =IF(CL52="","",IF(CL52=$CF52,1,0)) | V52: =IF(CM52="","",IF(CM52=$CF52,1,0)) | W52: =IF(CN52="","",IF(CN52=$CF52,1,0)) | X52: =IF(CO52="","",IF(CO52=$CF52,1,0)) | Y52: =IF(CP52="","",IF(CP52=$CF52,1,0)) | Z52: =IF(CQ52="","",IF(CQ52=$CF52,1,0)) | AA52: =IF(CR52="","",IF(CR52=$CF52,1,0)) | ... BU52: =IF(EL52="","",IF(EL52=$CF52,1,0)) | BV52: =BV49&"=2" -> CQ1-2=2 | BW52: =IF(R49=R52,"●","×") -> × | BX52: ➡ | BY52: =$BV$35 -> CQ0=1 | BZ52: =IF(INDEX($BV$5:$BW$354,MATCH(BY52,$BV$5:$BV$354,0),2)="●","●","×") -> × | CA52: =$BV$40 -> CQ1=1 | CB52: =IF(INDEX($BV$5:$BW$354,MATCH(CA52,$BV$5:$BV$354,0),2)="●","●","×") -> × | CC52: - | CD52: =IF(INDEX($BV$5:$BW$354,MATCH(CC52,$BV$5:$BV$354,0),2)="●","●","×") -> ● | CE52: ➡ | CF52: =IF(AND(BW52="●",BZ52="●",CB52="●",CD52="●"),"●","×") -> × | CG52: =IF(AND(BZ52="●",CB52="●",CD52="●"),"●","×") -> × | CU52: ● | EI52: - | EJ52: ● | EK52: ●
N53: =$Q53 -> ▶ C | O53: ： 現在より下の階 | Q53: ▶ C | R53: 3 | T53: =IF(CK53="","",IF(CK53=$CF53,1,0)) | U53: =IF(CL53="","",IF(CL53=$CF53,1,0)) | V53: =IF(CM53="","",IF(CM53=$CF53,1,0)) | W53: =IF(CN53="","",IF(CN53=$CF53,1,0)) | X53: =IF(CO53="","",IF(CO53=$CF53,1,0)) | Y53: =IF(CP53="","",IF(CP53=$CF53,1,0)) | Z53: =IF(CQ53="","",IF(CQ53=$CF53,1,0)) | AA53: =IF(CR53="","",IF(CR53=$CF53,1,0)) | ... BU53: =IF(EL53="","",IF(EL53=$CF53,1,0)) | BV53: =BV49&"=3" -> CQ1-2=3 | BW53: =IF(R49=R53,"●","×") -> × | BX53: ➡ | BY53: =$BV$35 -> CQ0=1 | BZ53: =IF(INDEX($BV$5:$BW$354,MATCH(BY53,$BV$5:$BV$354,0),2)="●","●","×") -> × | CA53: =$BV$40 -> CQ1=1 | CB53: =IF(INDEX($BV$5:$BW$354,MATCH(CA53,$BV$5:$BV$354,0),2)="●","●","×") -> × | CC53: - | CD53: =IF(INDEX($BV$5:$BW$354,MATCH(CC53,$BV$5:$BV$354,0),2)="●","●","×") -> ● | CE53: ➡ | CF53: =IF(AND(BW53="●",BZ53="●",CB53="●",CD53="●"),"●","×") -> × | CG53: =IF(AND(BZ53="●",CB53="●",CD53="●"),"●","×") -> × | EI53: -
O54: =IF(R49=0,N49&" "&$O$4,"") -> CQ1-2 を回答ください | P54: =IF(P49=$CH$2,"●","×") -> ×
L55: =IF(S55=1,"▶","") | N55: =$Q55 -> CQ2 | O55: 保育室の床面積・出入口・部屋形状の変更がありますか | P55: =CH56 -> 該当なし | Q55: CQ2 | R55: =IF(N56=Q56,R56,IF(N56=Q57,R57,IF(N56=Q58,R58,"-"))) -> 0 | S55: =IF(R55=0,0,1) -> 0 | BV55: =Q55 -> CQ2 | BW55: =IF(CG56="●","表示",IF(AND($Q$3="非表示",CG56="×"),"非表示",IF($Q$3="表示","表示"))) -> 非表示
N56: ='【① 基本事項】'!F71 -> ▷ 該当選択 | Q56: ▷ 該当選択 | R56: 0 | BV56: =BV55&"=0" -> CQ2=0 | BW56: =IF(R55=R56,"●","×") -> ● | BY56: =$BV$35 -> CQ0=1 | BZ56: =IF(INDEX($BV$5:$BW$354,MATCH(BY56,$BV$5:$BV$354,0),2)="●","●","×") -> × | CA56: - | CB56: =IF(INDEX($BV$5:$BW$354,MATCH(CA56,$BV$5:$BV$354,0),2)="●","●","×") -> ● | CC56: - | CD56: =IF(INDEX($BV$5:$BW$354,MATCH(CC56,$BV$5:$BV$354,0),2)="●","●","×") -> ● | CE56: ➡ | CF56: =IF(AND(BW56="●",BZ56="●",CB56="●",CD56="●"),"●","×") -> × | CG56: =IF(AND(BZ56="●",CB56="●",CD56="●"),"●","×") -> × | CH56: =IF(CF56="●",$CH$2,IF(COUNTIF(CF57:CF58,"●")>0,$CH$3,$CH$4)) -> 該当なし
N57: =$Q57 -> ▶ A | O57: ： 変更：あり | Q57: ▶ A | R57: 1 | T57: =IF(CK57="","",IF(CK57=$CF57,1,0)) | U57: =IF(CL57="","",IF(CL57=$CF57,1,0)) | V57: =IF(CM57="","",IF(CM57=$CF57,1,0)) -> 0 | W57: =IF(CN57="","",IF(CN57=$CF57,1,0)) | X57: =IF(CO57="","",IF(CO57=$CF57,1,0)) | Y57: =IF(CP57="","",IF(CP57=$CF57,1,0)) | Z57: =IF(CQ57="","",IF(CQ57=$CF57,1,0)) | AA57: =IF(CR57="","",IF(CR57=$CF57,1,0)) | ... BU57: =IF(EL57="","",IF(EL57=$CF57,1,0)) | BV57: =BV55&"=1" -> CQ2=1 | BW57: =IF(R55=R57,"●","×") -> × | BX57: ➡ | BY57: =$BV$35 -> CQ0=1 | BZ57: =IF(INDEX($BV$5:$BW$354,MATCH(BY57,$BV$5:$BV$354,0),2)="●","●","×") -> × | CA57: - | CB57: =IF(INDEX($BV$5:$BW$354,MATCH(CA57,$BV$5:$BV$354,0),2)="●","●","×") -> ● | CC57: - | CD57: =IF(INDEX($BV$5:$BW$354,MATCH(CC57,$BV$5:$BV$354,0),2)="●","●","×") -> ● | CE57: ➡ | CF57: =IF(AND(BW57="●",BZ57="●",CB57="●",CD57="●"),"●","×") -> × | CG57: =IF(AND(BZ57="●",CB57="●",CD57="●"),"●","×") -> × | CM57: ● | EI57: -
N58: =$Q58 -> ▶ B | O58: ： 変更：なし | Q58: ▶ B | R58: 2 | T58: =IF(CK58="","",IF(CK58=$CF58,1,0)) | U58: =IF(CL58="","",IF(CL58=$CF58,1,0)) | V58: =IF(CM58="","",IF(CM58=$CF58,1,0)) -> 0 | W58: =IF(CN58="","",IF(CN58=$CF58,1,0)) | X58: =IF(CO58="","",IF(CO58=$CF58,1,0)) | Y58: =IF(CP58="","",IF(CP58=$CF58,1,0)) | Z58: =IF(CQ58="","",IF(CQ58=$CF58,1,0)) | AA58: =IF(CR58="","",IF(CR58=$CF58,1,0)) | ... BU58: =IF(EL58="","",IF(EL58=$CF58,1,0)) | BV58: =BV55&"=2" -> CQ2=2 | BW58: =IF(R55=R58,"●","×") -> × | BX58: ➡ | BY58: =$BV$35 -> CQ0=1 | BZ58: =IF(INDEX($BV$5:$BW$354,MATCH(BY58,$BV$5:$BV$354,0),2)="●","●","×") -> × | CA58: - | CB58: =IF(INDEX($BV$5:$BW$354,MATCH(CA58,$BV$5:$BV$354,0),2)="●","●","×") -> ● | CC58: - | CD58: =IF(INDEX($BV$5:$BW$354,MATCH(CC58,$BV$5:$BV$354,0),2)="●","●","×") -> ● | CE58: ➡ | CF58: =IF(AND(BW58="●",BZ58="●",CB58="●",CD58="●"),"●","×") -> × | CG58: =IF(AND(BZ58="●",CB58="●",CD58="●"),"●","×") -> × | CM58: ● | EI58: -
O59: =IF(R55=0,N55&" "&$O$4,"") -> CQ2 を回答ください | P59: =IF(P55=$CH$2,"●","×") -> ×
B60: 運営開始年度 | L60: =IF(S60=1,"▶","") | N60: =$Q60 -> CQ2-1 | O60: 保育室の有効面積の変更はありますか | P60: =CH61 -> 該当なし | Q60: CQ2-1 | R60: =IF(N61=Q61,R61,IF(N61=Q62,R62,IF(N61=Q63,R63,IF(N61=Q64,R64,"-")))) -> 0 | S60: =IF(R60=0,0,1) -> 0 | BV60: =Q60 -> CQ2-1 | BW60: =IF(CG61="●","表示",IF(AND($Q$3="非表示",CG61="×"),"非表示",IF($Q$3="表示","表示"))) -> 非表示
B61: 選択してください | C61: ・2015年度※平成27 | D61: ・2016年度※平成28 | E61: ・2017年度※平成29 | F61: ・2018年度※平成30 | G61: ・2019年度※令和元 | H61: ・2020年度※令和2 | I61: ・2021年度※令和3 | J61: ・2022年度※令和4 | K61: ・2023年度※令和5 | L61: 列1 | N61: ='【① 基本事項】'!J71 -> ▷ 該当選択 | Q61: ▷ 該当選択 | R61: 0 | BV61: =BV60&"=0" -> CQ2-1=0 | BW61: =IF(R60=R61,"●","×") -> ● | BY61: =$BV$35 -> CQ0=1 | BZ61: =IF(INDEX($BV$5:$BW$354,MATCH(BY61,$BV$5:$BV$354,0),2)="●","●","×") -> × | CA61: CQ2=1 | CB61: =IF(INDEX($BV$5:$BW$354,MATCH(CA61,$BV$5:$BV$354,0),2)="●","●","×") -> × | CC61: - | CD61: =IF(INDEX($BV$5:$BW$354,MATCH(CC61,$BV$5:$BV$354,0),2)="●","●","×") -> ● | CE61: ➡ | CF61: =IF(AND(BW61="●",BZ61="●",CB61="●",CD61="●"),"●","×") -> × | CG61: =IF(AND(BZ61="●",CB61="●",CD61="●"),"●","×") -> × | CH61: =IF(CF61="●",$CH$2,IF(COUNTIF(CF62:CF64,"●")>0,$CH$3,$CH$4)) -> 該当なし
B62: 選択してください | C62: 選択してください | D62: 選択してください | E62: 選択してください | F62: 選択してください | G62: 選択してください | H62: 選択してください | I62: 選択してください | J62: 選択してください | K62: 選択してください | L62: =IF(S62=1,"▶","") | N62: =$Q62 -> ▶ A | O62: ： 床面積（有効面積）は変わらない | Q62: ▶ A | R62: 1 | T62: =IF(CK62="","",IF(CK62=$CF62,1,0)) | U62: =IF(CL62="","",IF(CL62=$CF62,1,0)) | V62: =IF(CM62="","",IF(CM62=$CF62,1,0)) | W62: =IF(CN62="","",IF(CN62=$CF62,1,0)) | X62: =IF(CO62="","",IF(CO62=$CF62,1,0)) | Y62: =IF(CP62="","",IF(CP62=$CF62,1,0)) | Z62: =IF(CQ62="","",IF(CQ62=$CF62,1,0)) | AA62: =IF(CR62="","",IF(CR62=$CF62,1,0)) | ... BU62: =IF(EL62="","",IF(EL62=$CF62,1,0)) | BV62: =BV60&"=1" -> CQ2-1=1 | BW62: =IF(R60=R62,"●","×") -> × | BX62: ➡ | BY62: =$BV$35 -> CQ0=1 | BZ62: =IF(INDEX($BV$5:$BW$354,MATCH(BY62,$BV$5:$BV$354,0),2)="●","●","×") -> × | CA62: CQ2=1 | CB62: =IF(INDEX($BV$5:$BW$354,MATCH(CA62,$BV$5:$BV$354,0),2)="●","●","×") -> × | CC62: - | CD62: =IF(INDEX($BV$5:$BW$354,MATCH(CC62,$BV$5:$BV$354,0),2)="●","●","×") -> ● | CE62: ➡ | CF62: =IF(AND(BW62="●",BZ62="●",CB62="●",CD62="●"),"●","×") -> × | CG62: =IF(AND(BZ62="●",CB62="●",CD62="●"),"●","×") -> × | EI62: -
B63: 運営開始年度を先に入力ください | C63: ・2016年度※平成28 | D63: ・2017年度※平成29 | E63: ・2018年度※平成30 | F63: ・2019年度※令和元 | G63: ・2020年度※令和2 | H63: ・2021年度※令和3 | I63: ・2022年度※令和4 | J63: ・2023年度※令和5 | K63: ・2024年度※令和6 | L63: =IF(S63=1,"▶","") | N63: =$Q63 -> ▶ B | O63: ： 床面積（有効面積）が減る | Q63: ▶ B | R63: 2 | T63: =IF(CK63="","",IF(CK63=$CF63,1,0)) | U63: =IF(CL63="","",IF(CL63=$CF63,1,0)) | V63: =IF(CM63="","",IF(CM63=$CF63,1,0)) -> 0 | W63: =IF(CN63="","",IF(CN63=$CF63,1,0)) | X63: =IF(CO63="","",IF(CO63=$CF63,1,0)) | Y63: =IF(CP63="","",IF(CP63=$CF63,1,0)) | Z63: =IF(CQ63="","",IF(CQ63=$CF63,1,0)) | AA63: =IF(CR63="","",IF(CR63=$CF63,1,0)) | ... BU63: =IF(EL63="","",IF(EL63=$CF63,1,0)) | BV63: =BV60&"=2" -> CQ2-1=2 | BW63: =IF(R60=R63,"●","×") -> × | BX63: ➡ | BY63: =$BV$35 -> CQ0=1 | BZ63: =IF(INDEX($BV$5:$BW$354,MATCH(BY63,$BV$5:$BV$354,0),2)="●","●","×") -> × | CA63: CQ2=1 | CB63: =IF(INDEX($BV$5:$BW$354,MATCH(CA63,$BV$5:$BV$354,0),2)="●","●","×") -> × | CC63: - | CD63: =IF(INDEX($BV$5:$BW$354,MATCH(CC63,$BV$5:$BV$354,0),2)="●","●","×") -> ● | CE63: ➡ | CF63: =IF(AND(BW63="●",BZ63="●",CB63="●",CD63="●"),"●","×") -> × | CG63: =IF(AND(BZ63="●",CB63="●",CD63="●"),"●","×") -> × | CM63: ● | EI63: -
C64: ・2017年度※平成29 | D64: ・2018年度※平成30 | E64: ・2019年度※令和元 | F64: ・2020年度※令和2 | G64: ・2021年度※令和3 | H64: ・2022年度※令和4 | I64: ・2023年度※令和5 | J64: ・2024年度※令和6 | K64: ・2025年度※令和7 | L64: =IF(S64=1,"▶","") | N64: =$Q64 -> ▶ C | O64: ： 床面積（有効面積）が増える | Q64: ▶ C | R64: 3 | T64: =IF(CK64="","",IF(CK64=$CF64,1,0)) | U64: =IF(CL64="","",IF(CL64=$CF64,1,0)) | V64: =IF(CM64="","",IF(CM64=$CF64,1,0)) | W64: =IF(CN64="","",IF(CN64=$CF64,1,0)) -> 0 | X64: =IF(CO64="","",IF(CO64=$CF64,1,0)) -> 0 | Y64: =IF(CP64="","",IF(CP64=$CF64,1,0)) -> 0 | Z64: =IF(CQ64="","",IF(CQ64=$CF64,1,0)) | AA64: =IF(CR64="","",IF(CR64=$CF64,1,0)) | ... BU64: =IF(EL64="","",IF(EL64=$CF64,1,0)) -> 0 | BV64: =BV60&"=3" -> CQ2-1=3 | BW64: =IF(R60=R64,"●","×") -> × | BX64: ➡ | BY64: =$BV$35 -> CQ0=1 | BZ64: =IF(INDEX($BV$5:$BW$354,MATCH(BY64,$BV$5:$BV$354,0),2)="●","●","×") -> × | CA64: CQ2=1 | CB64: =IF(INDEX($BV$5:$BW$354,MATCH(CA64,$BV$5:$BV$354,0),2)="●","●","×") -> × | CC64: - | CD64: =IF(INDEX($BV$5:$BW$354,MATCH(CC64,$BV$5:$BV$354,0),2)="●","●","×") -> ● | CE64: ➡ | CF64: =IF(AND(BW64="●",BZ64="●",CB64="●",CD64="●"),"●","×") -> × | CG64: =IF(AND(BZ64="●",CB64="●",CD64="●"),"●","×") -> × | CN64: ● | CO64: ● | CP64: ● | EI64: - | EJ64: ● | EL64: ●
C65: ・2018年度※平成30 | D65: ・2019年度※令和元 | E65: ・2020年度※令和2 | F65: ・2021年度※令和3 | G65: ・2022年度※令和4 | H65: ・2023年度※令和5 | I65: ・2024年度※令和6 | J65: ・2025年度※令和7 | K65: ・2026年度※令和8 | L65: =IF(S65=1,"▶","") | O65: =IF(R60=0,N60&" "&$O$4,"") -> CQ2-1 を回答ください | P65: =IF(P60=$CH$2,"●","×") -> ×
C66: ・2019年度※令和元 | D66: ・2020年度※令和2 | E66: ・2021年度※令和3 | F66: ・2022年度※令和4 | G66: ・2023年度※令和5 | H66: ・2024年度※令和6 | I66: ・2025年度※令和7 | J66: ・2026年度※令和8 | K66: ・過去申請なし | L66: =IF(S66=1,"▶","") | N66: =$Q66 -> CQ2-2 | O66: 保育室の出入口の変更はありますか | P66: =CH67 -> 該当なし | Q66: CQ2-2 | R66: =IF(N67=Q67,R67,IF(N67=Q68,R68,IF(N67=Q69,R69,"-"))) -> 0 | S66: =IF(R66=0,0,1) -> 0 | BV66: =Q66 -> CQ2-2 | BW66: =IF(CG67="●","表示",IF(AND($Q$3="非表示",CG67="×"),"非表示",IF($Q$3="表示","表示"))) -> 非表示
C67: ・2020年度※令和2 | D67: ・2021年度※令和3 | E67: ・2022年度※令和4 | F67: ・2023年度※令和5 | G67: ・2024年度※令和6 | H67: ・2025年度※令和7 | I67: ・2026年度※令和8 | J67: ・過去申請なし | N67: ='【① 基本事項】'!J77 -> ▷ 該当選択 | Q67: ▷ 該当選択 | R67: 0 | BV67: =BV66&"=0" -> CQ2-2=0 | BW67: =IF(R66=R67,"●","×") -> ● | BY67: =$BV$35 -> CQ0=1 | BZ67: =IF(INDEX($BV$5:$BW$354,MATCH(BY67,$BV$5:$BV$354,0),2)="●","●","×") -> × | CA67: CQ2=1 | CB67: =IF(INDEX($BV$5:$BW$354,MATCH(CA67,$BV$5:$BV$354,0),2)="●","●","×") -> × | CC67: - | CD67: =IF(INDEX($BV$5:$BW$354,MATCH(CC67,$BV$5:$BV$354,0),2)="●","●","×") -> ● | CE67: ➡ | CF67: =IF(AND(BW67="●",BZ67="●",CB67="●",CD67="●"),"●","×") -> × | CG67: =IF(AND(BZ67="●",CB67="●",CD67="●"),"●","×") -> × | CH67: =IF(CF67="●",$CH$2,IF(COUNTIF(CF68:CF69,"●")>0,$CH$3,$CH$4)) -> 該当なし
C68: ・2021年度※令和3 | D68: ・2022年度※令和4 | E68: ・2023年度※令和5 | F68: ・2024年度※令和6 | G68: ・2025年度※令和7 | H68: ・2026年度※令和8 | I68: ・過去申請なし | N68: =$Q68 -> ▶ A | O68: ： 変更あり | Q68: ▶ A | R68: 1 | T68: =IF(CK68="","",IF(CK68=$CF68,1,0)) | U68: =IF(CL68="","",IF(CL68=$CF68,1,0)) | V68: =IF(CM68="","",IF(CM68=$CF68,1,0)) | W68: =IF(CN68="","",IF(CN68=$CF68,1,0)) | X68: =IF(CO68="","",IF(CO68=$CF68,1,0)) -> 0 | Y68: =IF(CP68="","",IF(CP68=$CF68,1,0)) | Z68: =IF(CQ68="","",IF(CQ68=$CF68,1,0)) | AA68: =IF(CR68="","",IF(CR68=$CF68,1,0)) | ... BU68: =IF(EL68="","",IF(EL68=$CF68,1,0)) -> 0 | BV68: =BV66&"=1" -> CQ2-2=1 | BW68: =IF(R66=R68,"●","×") -> × | BX68: ➡ | BY68: =$BV$35 -> CQ0=1 | BZ68: =IF(INDEX($BV$5:$BW$354,MATCH(BY68,$BV$5:$BV$354,0),2)="●","●","×") -> × | CA68: CQ2=1 | CB68: =IF(INDEX($BV$5:$BW$354,MATCH(CA68,$BV$5:$BV$354,0),2)="●","●","×") -> × | CC68: - | CD68: =IF(INDEX($BV$5:$BW$354,MATCH(CC68,$BV$5:$BV$354,0),2)="●","●","×") -> ● | CE68: ➡ | CF68: =IF(AND(BW68="●",BZ68="●",CB68="●",CD68="●"),"●","×") -> × | CG68: =IF(AND(BZ68="●",CB68="●",CD68="●"),"●","×") -> × | CO68: ● | EI68: - | EL68: ●
C69: ・2022年度※令和4 | D69: ・2023年度※令和5 | E69: ・2024年度※令和6 | F69: ・2025年度※令和7 | G69: ・2026年度※令和8 | H69: ・過去申請なし | N69: =$Q69 -> ▶ B | O69: ： 変更なし | Q69: ▶ B | R69: 2 | T69: =IF(CK69="","",IF(CK69=$CF69,1,0)) | U69: =IF(CL69="","",IF(CL69=$CF69,1,0)) | V69: =IF(CM69="","",IF(CM69=$CF69,1,0)) | W69: =IF(CN69="","",IF(CN69=$CF69,1,0)) | X69: =IF(CO69="","",IF(CO69=$CF69,1,0)) | Y69: =IF(CP69="","",IF(CP69=$CF69,1,0)) | Z69: =IF(CQ69="","",IF(CQ69=$CF69,1,0)) | AA69: =IF(CR69="","",IF(CR69=$CF69,1,0)) | ... BU69: =IF(EL69="","",IF(EL69=$CF69,1,0)) | BV69: =BV66&"=2" -> CQ2-2=2 | BW69: =IF(R66=R69,"●","×") -> × | BX69: ➡ | BY69: =$BV$35 -> CQ0=1 | BZ69: =IF(INDEX($BV$5:$BW$354,MATCH(BY69,$BV$5:$BV$354,0),2)="●","●","×") -> × | CA69: CQ2=1 | CB69: =IF(INDEX($BV$5:$BW$354,MATCH(CA69,$BV$5:$BV$354,0),2)="●","●","×") -> × | CC69: - | CD69: =IF(INDEX($BV$5:$BW$354,MATCH(CC69,$BV$5:$BV$354,0),2)="●","●","×") -> ● | CE69: ➡ | CF69: =IF(AND(BW69="●",BZ69="●",CB69="●",CD69="●"),"●","×") -> × | CG69: =IF(AND(BZ69="●",CB69="●",CD69="●"),"●","×") -> × | EI69: -
C70: ・2023年度※令和5 | D70: ・2024年度※令和6 | E70: ・2025年度※令和7 | F70: ・2026年度※令和8 | G70: ・過去申請なし | O70: =IF(R66=0,N66&" "&$O$4,"") -> CQ2-2 を回答ください | P70: =IF(P66=$CH$2,"●","×") -> ×
C71: ・2024年度※令和6 | D71: ・2025年度※令和7 | E71: ・2026年度※令和8 | F71: ・過去申請なし | L71: =IF(S71=1,"▶","") | N71: =$Q71 -> CQ2-3 | O71: 保育室の部屋形状の変更がありますか | P71: =CH72 -> 該当なし | Q71: CQ2-3 | R71: =IF(N72=Q72,R72,IF(N72=Q73,R73,IF(N72=Q74,R74,"-"))) -> 0 | S71: =IF(R71=0,0,1) -> 0 | BV71: =Q71 -> CQ2-3 | BW71: =IF(CG72="●","表示",IF(AND($Q$3="非表示",CG72="×"),"非表示",IF($Q$3="表示","表示"))) -> 非表示
C72: ・2025年度※令和7 | D72: ・2026年度※令和8 | E72: ・過去申請なし | N72: ='【① 基本事項】'!J82 -> ▷ 該当選択 | Q72: ▷ 該当選択 | R72: 0 | BV72: =BV71&"=0" -> CQ2-3=0 | BW72: =IF(R71=R72,"●","×") -> ● | BY72: =$BV$35 -> CQ0=1 | BZ72: =IF(INDEX($BV$5:$BW$354,MATCH(BY72,$BV$5:$BV$354,0),2)="●","●","×") -> × | CA72: CQ2=1 | CB72: =IF(INDEX($BV$5:$BW$354,MATCH(CA72,$BV$5:$BV$354,0),2)="●","●","×") -> × | CC72: - | CD72: =IF(INDEX($BV$5:$BW$354,MATCH(CC72,$BV$5:$BV$354,0),2)="●","●","×") -> ● | CE72: ➡ | CF72: =IF(AND(BW72="●",BZ72="●",CB72="●",CD72="●"),"●","×") -> × | CG72: =IF(AND(BZ72="●",CB72="●",CD72="●"),"●","×") -> × | CH72: =IF(CF72="●",$CH$2,IF(COUNTIF(CF73:CF74,"●")>0,$CH$3,$CH$4)) -> 該当なし
C73: ・2026年度※令和8 | D73: ・過去申請なし | N73: =$Q73 -> ▶ A | O73: ： 変更あり | Q73: ▶ A | R73: 1 | T73: =IF(CK73="","",IF(CK73=$CF73,1,0)) | U73: =IF(CL73="","",IF(CL73=$CF73,1,0)) | V73: =IF(CM73="","",IF(CM73=$CF73,1,0)) | W73: =IF(CN73="","",IF(CN73=$CF73,1,0)) | X73: =IF(CO73="","",IF(CO73=$CF73,1,0)) -> 0 | Y73: =IF(CP73="","",IF(CP73=$CF73,1,0)) -> 0 | Z73: =IF(CQ73="","",IF(CQ73=$CF73,1,0)) | AA73: =IF(CR73="","",IF(CR73=$CF73,1,0)) | ... BU73: =IF(EL73="","",IF(EL73=$CF73,1,0)) -> 0 | BV73: =BV71&"=1" -> CQ2-3=1 | BW73: =IF(R71=R73,"●","×") -> × | BX73: ➡ | BY73: =$BV$35 -> CQ0=1 | BZ73: =IF(INDEX($BV$5:$BW$354,MATCH(BY73,$BV$5:$BV$354,0),2)="●","●","×") -> × | CA73: CQ2=1 | CB73: =IF(INDEX($BV$5:$BW$354,MATCH(CA73,$BV$5:$BV$354,0),2)="●","●","×") -> × | CC73: - | CD73: =IF(INDEX($BV$5:$BW$354,MATCH(CC73,$BV$5:$BV$354,0),2)="●","●","×") -> ● | CE73: ➡ | CF73: =IF(AND(BW73="●",BZ73="●",CB73="●",CD73="●"),"●","×") -> × | CG73: =IF(AND(BZ73="●",CB73="●",CD73="●"),"●","×") -> × | CO73: ● | CP73: ● | EI73: - | EL73: ●
C74: ・過去申請なし | N74: =$Q74 -> ▶ B | O74: ： 変更なし | Q74: ▶ B | R74: 2 | T74: =IF(CK74="","",IF(CK74=$CF74,1,0)) | U74: =IF(CL74="","",IF(CL74=$CF74,1,0)) | V74: =IF(CM74="","",IF(CM74=$CF74,1,0)) | W74: =IF(CN74="","",IF(CN74=$CF74,1,0)) | X74: =IF(CO74="","",IF(CO74=$CF74,1,0)) | Y74: =IF(CP74="","",IF(CP74=$CF74,1,0)) | Z74: =IF(CQ74="","",IF(CQ74=$CF74,1,0)) | AA74: =IF(CR74="","",IF(CR74=$CF74,1,0)) | ... BU74: =IF(EL74="","",IF(EL74=$CF74,1,0)) | BV74: =BV71&"=2" -> CQ2-3=2 | BW74: =IF(R71=R74,"●","×") -> × | BX74: ➡ | BY74: =$BV$35 -> CQ0=1 | BZ74: =IF(INDEX($BV$5:$BW$354,MATCH(BY74,$BV$5:$BV$354,0),2)="●","●","×") -> × | CA74: CQ2=1 | CB74: =IF(INDEX($BV$5:$BW$354,MATCH(CA74,$BV$5:$BV$354,0),2)="●","●","×") -> × | CC74: - | CD74: =IF(INDEX($BV$5:$BW$354,MATCH(CC74,$BV$5:$BV$354,0),2)="●","●","×") -> ● | CE74: ➡ | CF74: =IF(AND(BW74="●",BZ74="●",CB74="●",CD74="●"),"●","×") -> × | CG74: =IF(AND(BZ74="●",CB74="●",CD74="●"),"●","×") -> × | EI74: -
O75: =IF(R71=0,N71&" "&$O$4,"") -> CQ2-3 を回答ください | P75: =IF(P71=$CH$2,"●","×") -> ×
L76: =IF(S76=1,"▶","") | N76: =$Q76 -> CQ3 | O76: 保育室内の年齢別スペースの仕切り方に変更がありますか | P76: =CH77 -> 該当なし | Q76: CQ3 | R76: =IF(N77=Q77,R77,IF(N77=Q78,R78,IF(N77=Q79,R79,"-"))) -> 0 | S76: =IF(R76=0,0,1) -> 0 | BV76: =Q76 -> CQ3 | BW76: =IF(CG77="●","表示",IF(AND($Q$3="非表示",CG77="×"),"非表示",IF($Q$3="表示","表示"))) -> 非表示
B77: 使用している関数 | N77: ='【① 基本事項】'!F87 -> ▷ 該当選択 | Q77: ▷ 該当選択 | R77: 0 | BV77: =BV76&"=0" -> CQ3=0 | BW77: =IF(R76=R77,"●","×") -> ● | BY77: =$BV$35 -> CQ0=1 | BZ77: =IF(INDEX($BV$5:$BW$354,MATCH(BY77,$BV$5:$BV$354,0),2)="●","●","×") -> × | CA77: - | CB77: =IF(INDEX($BV$5:$BW$354,MATCH(CA77,$BV$5:$BV$354,0),2)="●","●","×") -> ● | CC77: - | CD77: =IF(INDEX($BV$5:$BW$354,MATCH(CC77,$BV$5:$BV$354,0),2)="●","●","×") -> ● | CE77: ➡ | CF77: =IF(AND(BW77="●",BZ77="●",CB77="●",CD77="●"),"●","×") -> × | CG77: =IF(AND(BZ77="●",CB77="●",CD77="●"),"●","×") -> × | CH77: =IF(CF77="●",$CH$2,IF(COUNTIF(CF78:CF79,"●")>0,$CH$3,$CH$4)) -> 該当なし
B78: AND | C78: 2003 | D78: ①、S①、② | N78: =$Q78 -> ▶ A | O78: ： 変更：あり | Q78: ▶ A | R78: 1 | T78: =IF(CK78="","",IF(CK78=$CF78,1,0)) | U78: =IF(CL78="","",IF(CL78=$CF78,1,0)) | V78: =IF(CM78="","",IF(CM78=$CF78,1,0)) | W78: =IF(CN78="","",IF(CN78=$CF78,1,0)) | X78: =IF(CO78="","",IF(CO78=$CF78,1,0)) | Y78: =IF(CP78="","",IF(CP78=$CF78,1,0)) | Z78: =IF(CQ78="","",IF(CQ78=$CF78,1,0)) | AA78: =IF(CR78="","",IF(CR78=$CF78,1,0)) | ... BU78: =IF(EL78="","",IF(EL78=$CF78,1,0)) | BV78: =BV76&"=1" -> CQ3=1 | BW78: =IF(R76=R78,"●","×") -> × | BX78: ➡ | BY78: =$BV$35 -> CQ0=1 | BZ78: =IF(INDEX($BV$5:$BW$354,MATCH(BY78,$BV$5:$BV$354,0),2)="●","●","×") -> × | CA78: - | CB78: =IF(INDEX($BV$5:$BW$354,MATCH(CA78,$BV$5:$BV$354,0),2)="●","●","×") -> ● | CC78: - | CD78: =IF(INDEX($BV$5:$BW$354,MATCH(CC78,$BV$5:$BV$354,0),2)="●","●","×") -> ● | CE78: ➡ | CF78: =IF(AND(BW78="●",BZ78="●",CB78="●",CD78="●"),"●","×") -> × | CG78: =IF(AND(BZ78="●",CB78="●",CD78="●"),"●","×") -> × | EI78: -
B79: COUNTIF | C79: 2003 | D79: ①、S①、② | N79: =$Q79 -> ▶ B | O79: ： 変更：なし | Q79: ▶ B | R79: 2 | T79: =IF(CK79="","",IF(CK79=$CF79,1,0)) | U79: =IF(CL79="","",IF(CL79=$CF79,1,0)) | V79: =IF(CM79="","",IF(CM79=$CF79,1,0)) | W79: =IF(CN79="","",IF(CN79=$CF79,1,0)) | X79: =IF(CO79="","",IF(CO79=$CF79,1,0)) | Y79: =IF(CP79="","",IF(CP79=$CF79,1,0)) | Z79: =IF(CQ79="","",IF(CQ79=$CF79,1,0)) | AA79: =IF(CR79="","",IF(CR79=$CF79,1,0)) | ... BU79: =IF(EL79="","",IF(EL79=$CF79,1,0)) | BV79: =BV76&"=2" -> CQ3=2 | BW79: =IF(R76=R79,"●","×") -> × | BX79: ➡ | BY79: =$BV$35 -> CQ0=1 | BZ79: =IF(INDEX($BV$5:$BW$354,MATCH(BY79,$BV$5:$BV$354,0),2)="●","●","×") -> × | CA79: - | CB79: =IF(INDEX($BV$5:$BW$354,MATCH(CA79,$BV$5:$BV$354,0),2)="●","●","×") -> ● | CC79: - | CD79: =IF(INDEX($BV$5:$BW$354,MATCH(CC79,$BV$5:$BV$354,0),2)="●","●","×") -> ● | CE79: ➡ | CF79: =IF(AND(BW79="●",BZ79="●",CB79="●",CD79="●"),"●","×") -> × | CG79: =IF(AND(BZ79="●",CB79="●",CD79="●"),"●","×") -> × | EI79: -
B80: COUNTIFS | C80: 2010 | D80: 使用なし | O80: =IF(R76=0,N76&" "&$O$4,"") -> CQ3 を回答ください | P80: =IF(P76=$CH$2,"●","×") -> ×
B81: DATE | C81: 2003 | D81: 使用なし | L81: =IF(S81=1,"▶","") | N81: =$Q81 -> CQ3-1 | O81: 変更する仕切り方はどれですか | P81: =CH82 -> 該当なし | Q81: CQ3-1 | R81: =IF(N82=Q82,R82,IF(N82=Q83,R83,IF(N82=Q84,R84,"-"))) -> 0 | S81: =IF(R81=0,0,1) -> 0 | BV81: =Q81 -> CQ3-1 | BW81: =IF(CG82="●","表示",IF(AND($Q$3="非表示",CG82="×"),"非表示",IF($Q$3="表示","表示"))) -> 非表示
B82: DAY | C82: 2003 | D82: 使用なし | N82: ='【① 基本事項】'!J87 -> ▷ 該当選択 | Q82: ▷ 該当選択 | R82: 0 | BV82: =BV81&"=0" -> CQ3-1=0 | BW82: =IF(R81=R82,"●","×") -> ● | BY82: =$BV$35 -> CQ0=1 | BZ82: =IF(INDEX($BV$5:$BW$354,MATCH(BY82,$BV$5:$BV$354,0),2)="●","●","×") -> × | CA82: CQ3=1 | CB82: =IF(INDEX($BV$5:$BW$354,MATCH(CA82,$BV$5:$BV$354,0),2)="●","●","×") -> × | CC82: - | CD82: =IF(INDEX($BV$5:$BW$354,MATCH(CC82,$BV$5:$BV$354,0),2)="●","●","×") -> ● | CE82: ➡ | CF82: =IF(AND(BW82="●",BZ82="●",CB82="●",CD82="●"),"●","×") -> × | CG82: =IF(AND(BZ82="●",CB82="●",CD82="●"),"●","×") -> × | CH82: =IF(CF82="●",$CH$2,IF(COUNTIF(CF83:CF84,"●")>0,$CH$3,$CH$4)) -> 該当なし
B83: DAYS | C83: 2013 | D83: 使用なし | N83: =$Q83 -> ▶ A | O83: ： ベビーフェンス、家具等の移動、変更 | Q83: ▶ A | R83: 1 | T83: =IF(CK83="","",IF(CK83=$CF83,1,0)) | U83: =IF(CL83="","",IF(CL83=$CF83,1,0)) | V83: =IF(CM83="","",IF(CM83=$CF83,1,0)) -> 0 | W83: =IF(CN83="","",IF(CN83=$CF83,1,0)) | X83: =IF(CO83="","",IF(CO83=$CF83,1,0)) | Y83: =IF(CP83="","",IF(CP83=$CF83,1,0)) | Z83: =IF(CQ83="","",IF(CQ83=$CF83,1,0)) | AA83: =IF(CR83="","",IF(CR83=$CF83,1,0)) | ... BU83: =IF(EL83="","",IF(EL83=$CF83,1,0)) | BV83: =BV81&"=1" -> CQ3-1=1 | BW83: =IF(R81=R83,"●","×") -> × | BX83: ➡ | BY83: =$BV$35 -> CQ0=1 | BZ83: =IF(INDEX($BV$5:$BW$354,MATCH(BY83,$BV$5:$BV$354,0),2)="●","●","×") -> × | CA83: CQ3=1 | CB83: =IF(INDEX($BV$5:$BW$354,MATCH(CA83,$BV$5:$BV$354,0),2)="●","●","×") -> × | CC83: - | CD83: =IF(INDEX($BV$5:$BW$354,MATCH(CC83,$BV$5:$BV$354,0),2)="●","●","×") -> ● | CE83: ➡ | CF83: =IF(AND(BW83="●",BZ83="●",CB83="●",CD83="●"),"●","×") -> × | CG83: =IF(AND(BZ83="●",CB83="●",CD83="●"),"●","×") -> × | CM83: ● | EI83: -
B84: FILTER | C84: 2021 | D84: 使用なし | N84: =$Q84 -> ▶ B | O84: ： 床から天井までの壁で仕切る | Q84: ▶ B | R84: 2 | T84: =IF(CK84="","",IF(CK84=$CF84,1,0)) | U84: =IF(CL84="","",IF(CL84=$CF84,1,0)) | V84: =IF(CM84="","",IF(CM84=$CF84,1,0)) -> 0 | W84: =IF(CN84="","",IF(CN84=$CF84,1,0)) | X84: =IF(CO84="","",IF(CO84=$CF84,1,0)) | Y84: =IF(CP84="","",IF(CP84=$CF84,1,0)) -> 0 | Z84: =IF(CQ84="","",IF(CQ84=$CF84,1,0)) | AA84: =IF(CR84="","",IF(CR84=$CF84,1,0)) | ... BU84: =IF(EL84="","",IF(EL84=$CF84,1,0)) -> 0 | BV84: =BV81&"=2" -> CQ3-1=2 | BW84: =IF(R81=R84,"●","×") -> × | BX84: ➡ | BY84: =$BV$35 -> CQ0=1 | BZ84: =IF(INDEX($BV$5:$BW$354,MATCH(BY84,$BV$5:$BV$354,0),2)="●","●","×") -> × | CA84: CQ3=1 | CB84: =IF(INDEX($BV$5:$BW$354,MATCH(CA84,$BV$5:$BV$354,0),2)="●","●","×") -> × | CC84: - | CD84: =IF(INDEX($BV$5:$BW$354,MATCH(CC84,$BV$5:$BV$354,0),2)="●","●","×") -> ● | CE84: ➡ | CF84: =IF(AND(BW84="●",BZ84="●",CB84="●",CD84="●"),"●","×") -> × | CG84: =IF(AND(BZ84="●",CB84="●",CD84="●"),"●","×") -> × | CM84: ● | CP84: ● | DQ84: ● | EI84: - | EJ84: ● | EL84: ●
B85: FIND | C85: 2003 | D85: ②結果入力：P284など | O85: =IF(R81=0,N81&" "&$O$4,"") -> CQ3-1 を回答ください
B86: OR | C86: 2003 | D86: ② | L86: DQ | N86: D 病児対応型 （全事業者回答必須）
O87: =IF(P88=$CH$2,N88&" ","")&IF(P93=$CH$2,N93&" ","")&IF(P98=$CH$2,N98&" ","")&IF(P104=$CH$2,N104&" ","")&IF(P110=$CH$2,N110&" ","")&IF(P115=$CH$2,N115&" ","")&IF(P121=$CH$2,N121&" ","")&IF(P127=$CH$2,N127&" ","")&" "&$O$4 -> DQ0 を回答ください | P87: =IF(R87=$CH$2,"●","×") -> ● | R87: =IF(COUNTIF(P88:P133,$CH$2)>0,$CH$2,"") -> 回答待ち
B88: IF | C88: 2003 | D88: ①、S①、② | L88: =IF(S88=1,"▶","") | N88: =Q88 -> DQ0 | O88: 今回の申請で病児対応型の変更がありますか | P88: =CH89 -> 回答待ち | Q88: DQ0 | R88: =IF(N89=Q89,R89,IF(N89=Q90,R90,IF(N89=Q91,R91,IF(N89=Q92,P88,"-")))) -> 0 | S88: =IF(R88=0,0,1) -> 0 | BV88: =Q88 -> DQ0 | BW88: =IF(CG89="●","表示",IF(AND($Q$3="非表示",CG89="×"),"非表示",IF($Q$3="表示","表示"))) -> 表示
B89: IFS | C89: 2019 | D89: 使用なし | N89: ='【① 基本事項】'!F95 -> ▷ 該当選択 | Q89: ▷ 該当選択 | R89: 0 | BV89: =BV88&"=0" -> DQ0=0 | BW89: =IF(R88=R89,"●","×") -> ● | BY89: - | BZ89: =IF(INDEX($BV$5:$BW$354,MATCH(BY89,$BV$5:$BV$354,0),2)="●","●","×") -> ● | CA89: - | CB89: =IF(INDEX($BV$5:$BW$354,MATCH(CA89,$BV$5:$BV$354,0),2)="●","●","×") -> ● | CC89: - | CD89: =IF(INDEX($BV$5:$BW$354,MATCH(CC89,$BV$5:$BV$354,0),2)="●","●","×") -> ● | CE89: ➡ | CF89: =IF(AND(BW89="●",BZ89="●",CB89="●",CD89="●"),"●","×") -> ● | CG89: =IF(AND(BZ89="●",CB89="●",CD89="●"),"●","×") -> ● | CH89: =IF(CF89="●",$CH$2,IF(COUNTIF(CF90:CF91,"●")>0,$CH$3,$CH$4)) -> 回答待ち
B90: IFERROR | C90: 2007 | D90: 使用なし | N90: =Q90 -> ▶ A | O90: ： 変更あり（新規事業開始・既存変更） | Q90: ▶ A | R90: 1 | T90: =IF(CK90="","",IF(CK90=$CF90,1,0)) | U90: =IF(CL90="","",IF(CL90=$CF90,1,0)) | V90: =IF(CM90="","",IF(CM90=$CF90,1,0)) | W90: =IF(CN90="","",IF(CN90=$CF90,1,0)) | X90: =IF(CO90="","",IF(CO90=$CF90,1,0)) | Y90: =IF(CP90="","",IF(CP90=$CF90,1,0)) | Z90: =IF(CQ90="","",IF(CQ90=$CF90,1,0)) | AA90: =IF(CR90="","",IF(CR90=$CF90,1,0)) | ... BU90: =IF(EL90="","",IF(EL90=$CF90,1,0)) | BV90: =BV88&"=1" -> DQ0=1 | BW90: =IF(R88=R90,"●","×") -> × | BX90: ➡ | BY90: - | BZ90: =IF(INDEX($BV$5:$BW$354,MATCH(BY90,$BV$5:$BV$354,0),2)="●","●","×") -> ● | CA90: - | CB90: =IF(INDEX($BV$5:$BW$354,MATCH(CA90,$BV$5:$BV$354,0),2)="●","●","×") -> ● | CC90: - | CD90: =IF(INDEX($BV$5:$BW$354,MATCH(CC90,$BV$5:$BV$354,0),2)="●","●","×") -> ● | CE90: ➡ | CF90: =IF(AND(BW90="●",BZ90="●",CB90="●",CD90="●"),"●","×") -> × | CG90: =IF(AND(BZ90="●",CB90="●",CD90="●"),"●","×") -> ● | EI90: -
B91: INDEX | C91: 2003 | D91: S①、② | N91: =Q91 -> ▶ B | O91: ： 変更なし（又は該当なし） | Q91: ▶ B | R91: 2 | T91: =IF(CK91="","",IF(CK91=$CF91,1,0)) | U91: =IF(CL91="","",IF(CL91=$CF91,1,0)) | V91: =IF(CM91="","",IF(CM91=$CF91,1,0)) | W91: =IF(CN91="","",IF(CN91=$CF91,1,0)) | X91: =IF(CO91="","",IF(CO91=$CF91,1,0)) | Y91: =IF(CP91="","",IF(CP91=$CF91,1,0)) | Z91: =IF(CQ91="","",IF(CQ91=$CF91,1,0)) | AA91: =IF(CR91="","",IF(CR91=$CF91,1,0)) | ... BU91: =IF(EL91="","",IF(EL91=$CF91,1,0)) | BV91: =BV88&"=2" -> DQ0=2 | BW91: =IF(R88=R91,"●","×") -> × | BX91: ➡ | BY91: - | BZ91: =IF(INDEX($BV$5:$BW$354,MATCH(BY91,$BV$5:$BV$354,0),2)="●","●","×") -> ● | CA91: - | CB91: =IF(INDEX($BV$5:$BW$354,MATCH(CA91,$BV$5:$BV$354,0),2)="●","●","×") -> ● | CC91: - | CD91: =IF(INDEX($BV$5:$BW$354,MATCH(CC91,$BV$5:$BV$354,0),2)="●","●","×") -> ● | CE91: ➡ | CF91: =IF(AND(BW91="●",BZ91="●",CB91="●",CD91="●"),"●","×") -> × | CG91: =IF(AND(BZ91="●",CB91="●",CD91="●"),"●","×") -> ● | EI91: -
B92: INDIRECT | C92: 2003 | D92: 使用なし | O92: =IF(R88=0,N88&" "&$O$4,"") -> DQ0 を回答ください | P92: =IF(P88=$CH$2,"●","×") -> ●
L93: =IF(S93=1,"▶","") | N93: =Q93 -> DQ1 | O93: 加算事業の追加ですか 既存加算事業の（設備等の）変更ですか | P93: =CH94 -> 該当なし | Q93: DQ1 | R93: =IF(N94=Q94,R94,IF(N94=Q95,R95,IF(N94=Q96,R96,IF(N94=Q97,P93,"-")))) -> 0 | S93: =IF(R93=0,0,1) -> 0 | BV93: =Q93 -> DQ1 | BW93: =IF(CG94="●","表示",IF(AND($Q$3="非表示",CG94="×"),"非表示",IF($Q$3="表示","表示"))) -> 非表示
B94: LEFT | C94: 2003 | D94: ②結果入力：K284など | N94: ='【① 基本事項】'!F100 -> ▷ 該当選択 | Q94: ▷ 該当選択 | R94: 0 | BV94: =BV93&"=0" -> DQ1=0 | BW94: =IF(R93=R94,"●","×") -> ● | BY94: DQ0=1 | BZ94: =IF(INDEX($BV$5:$BW$354,MATCH(BY94,$BV$5:$BV$354,0),2)="●","●","×") -> × | CA94: - | CB94: =IF(INDEX($BV$5:$BW$354,MATCH(CA94,$BV$5:$BV$354,0),2)="●","●","×") -> ● | CC94: - | CD94: =IF(INDEX($BV$5:$BW$354,MATCH(CC94,$BV$5:$BV$354,0),2)="●","●","×") -> ● | CE94: ➡ | CF94: =IF(AND(BW94="●",BZ94="●",CB94="●",CD94="●"),"●","×") -> × | CG94: =IF(AND(BZ94="●",CB94="●",CD94="●"),"●","×") -> × | CH94: =IF(CF94="●",$CH$2,IF(COUNTIF(CF95:CF96,"●")>0,$CH$3,$CH$4)) -> 該当なし
B95: MATCH | C95: 2003 | D95: ①、② | N95: =Q95 -> ▶ A | O95: ： 新たに病児対応型を実施する | Q95: ▶ A | R95: 1 | T95: =IF(CK95="","",IF(CK95=$CF95,1,0)) | U95: =IF(CL95="","",IF(CL95=$CF95,1,0)) | V95: =IF(CM95="","",IF(CM95=$CF95,1,0)) -> 0 | W95: =IF(CN95="","",IF(CN95=$CF95,1,0)) | X95: =IF(CO95="","",IF(CO95=$CF95,1,0)) | Y95: =IF(CP95="","",IF(CP95=$CF95,1,0)) | Z95: =IF(CQ95="","",IF(CQ95=$CF95,1,0)) | AA95: =IF(CR95="","",IF(CR95=$CF95,1,0)) | ... BU95: =IF(EL95="","",IF(EL95=$CF95,1,0)) | BV95: =BV93&"=1" -> DQ1=1 | BW95: =IF(R93=R95,"●","×") -> × | BX95: ➡ | BY95: DQ0=1 | BZ95: =IF(INDEX($BV$5:$BW$354,MATCH(BY95,$BV$5:$BV$354,0),2)="●","●","×") -> × | CA95: - | CB95: =IF(INDEX($BV$5:$BW$354,MATCH(CA95,$BV$5:$BV$354,0),2)="●","●","×") -> ● | CC95: - | CD95: =IF(INDEX($BV$5:$BW$354,MATCH(CC95,$BV$5:$BV$354,0),2)="●","●","×") -> ● | CE95: ➡ | CF95: =IF(AND(BW95="●",BZ95="●",CB95="●",CD95="●"),"●","×") -> × | CG95: =IF(AND(BZ95="●",CB95="●",CD95="●"),"●","×") -> × | CM95: ● | DE95: ● | DJ95: ● | EI95: ● | EJ95: ●
B96: MEDIAN | C96: 2003 | D96: 使用なし | N96: =Q96 -> ▶ B | O96: ： 既存の病児対応型を変更する | Q96: ▶ B | R96: 2 | T96: =IF(CK96="","",IF(CK96=$CF96,1,0)) | U96: =IF(CL96="","",IF(CL96=$CF96,1,0)) | V96: =IF(CM96="","",IF(CM96=$CF96,1,0)) -> 0 | W96: =IF(CN96="","",IF(CN96=$CF96,1,0)) | X96: =IF(CO96="","",IF(CO96=$CF96,1,0)) | Y96: =IF(CP96="","",IF(CP96=$CF96,1,0)) | Z96: =IF(CQ96="","",IF(CQ96=$CF96,1,0)) | AA96: =IF(CR96="","",IF(CR96=$CF96,1,0)) | ... BU96: =IF(EL96="","",IF(EL96=$CF96,1,0)) | BV96: =BV93&"=2" -> DQ1=2 | BW96: =IF(R93=R96,"●","×") -> × | BX96: ➡ | BY96: DQ0=1 | BZ96: =IF(INDEX($BV$5:$BW$354,MATCH(BY96,$BV$5:$BV$354,0),2)="●","●","×") -> × | CA96: - | CB96: =IF(INDEX($BV$5:$BW$354,MATCH(CA96,$BV$5:$BV$354,0),2)="●","●","×") -> ● | CC96: - | CD96: =IF(INDEX($BV$5:$BW$354,MATCH(CC96,$BV$5:$BV$354,0),2)="●","●","×") -> ● | CE96: ➡ | CF96: =IF(AND(BW96="●",BZ96="●",CB96="●",CD96="●"),"●","×") -> × | CG96: =IF(AND(BZ96="●",CB96="●",CD96="●"),"●","×") -> × | CM96: ● | DE96: ● | DJ96: ● | EI96: ● | EJ96: ●
B97: MID | C97: 2003 | D97: 使用なし | O97: =IF(R93=0,N93&" "&$O$4,"") -> DQ1 を回答ください | P97: =IF(P93=$CH$2,"●","×") -> ×
B98: SEARCH | C98: 2003 | D98: 使用なし | L98: =IF(S98=1,"▶","") | N98: =Q98 -> DQ1-1 | O98: 病児保育室の設置を予定される室の現状用途 についてご回答ください | P98: =CH99 -> 該当なし | Q98: DQ1-1 | R98: =IF(N99=Q99,R99,IF(N99=Q100,R100,IF(N99=Q101,R101,IF(N99=Q102,R102,"-")))) -> 0 | S98: =IF(R98=0,0,1) -> 0 | BV98: =Q98 -> DQ1-1 | BW98: =IF(CG99="●","表示",IF(AND($Q$3="非表示",CG99="×"),"非表示",IF($Q$3="表示","表示"))) -> 非表示
B99: SUBSTITUTE | C99: 2003 | D99: 使用なし | N99: ='【① 基本事項】'!F105 -> ▷ 該当選択 | Q99: ▷ 該当選択 | R99: 0 | BV99: =BV98&"=0" -> DQ1-1=0 | BW99: =IF(R98=R99,"●","×") -> ● | BY99: DQ0=1 | BZ99: =IF(INDEX($BV$5:$BW$354,MATCH(BY99,$BV$5:$BV$354,0),2)="●","●","×") -> × | CA99: DQ1=1 | CB99: =IF(INDEX($BV$5:$BW$354,MATCH(CA99,$BV$5:$BV$354,0),2)="●","●","×") -> × | CC99: - | CD99: =IF(INDEX($BV$5:$BW$354,MATCH(CC99,$BV$5:$BV$354,0),2)="●","●","×") -> ● | CE99: ➡ | CF99: =IF(AND(BW99="●",BZ99="●",CB99="●",CD99="●"),"●","×") -> × | CG99: =IF(AND(BZ99="●",CB99="●",CD99="●"),"●","×") -> × | CH99: =IF(CF99="●",$CH$2,IF(COUNTIF(CF100:CF102,"●")>0,$CH$3,$CH$4)) -> 該当なし
B100: SUBTOTAL | C100: 2003 | D100: 使用なし | N100: =Q100 -> ▶ A | O100: ： 保育に供する室 | Q100: ▶ A | R100: 1 | T100: =IF(CK100="","",IF(CK100=$CF100,1,0)) | U100: =IF(CL100="","",IF(CL100=$CF100,1,0)) | V100: =IF(CM100="","",IF(CM100=$CF100,1,0)) -> 0 | W100: =IF(CN100="","",IF(CN100=$CF100,1,0)) | X100: =IF(CO100="","",IF(CO100=$CF100,1,0)) | Y100: =IF(CP100="","",IF(CP100=$CF100,1,0)) -> 0 | Z100: =IF(CQ100="","",IF(CQ100=$CF100,1,0)) | AA100: =IF(CR100="","",IF(CR100=$CF100,1,0)) | ... BU100: =IF(EL100="","",IF(EL100=$CF100,1,0)) -> 0 | BV100: =BV98&"=1" -> DQ1-1=1 | BW100: =IF(R98=R100,"●","×") -> × | BX100: ➡ | BY100: DQ0=1 | BZ100: =IF(INDEX($BV$5:$BW$354,MATCH(BY100,$BV$5:$BV$354,0),2)="●","●","×") -> × | CA100: DQ1=1 | CB100: =IF(INDEX($BV$5:$BW$354,MATCH(CA100,$BV$5:$BV$354,0),2)="●","●","×") -> × | CC100: - | CD100: =IF(INDEX($BV$5:$BW$354,MATCH(CC100,$BV$5:$BV$354,0),2)="●","●","×") -> ● | CE100: ➡ | CF100: =IF(AND(BW100="●",BZ100="●",CB100="●",CD100="●"),"●","×") -> × | CG100: =IF(AND(BZ100="●",CB100="●",CD100="●"),"●","×") -> × | CM100: ● | CP100: ● | CS100: ● | CT100: ● | EI100: - | EL100: ●
...

Sheet 【②結果入力】
K2: ◀ | L2: カーソルを合わせて左クリックし、「該当」のみ選択してください。
J3: 該当 | K3: =S①!BS1 -> K0A0B0 | M3: {='【① 基本事項】'!E2:F2} | N3: 0
B4: ★作業中は↓に１を入力★ | J4: 該当 | L4: 【②結果入力】シート
J5: 該当
B6: =K1 -> 0 | J6: =IF(S①!$R$9=S①!$R$12,"該当","非該当") -> 非該当 | L6: =IF(AND(S①!$BT$7>4,S①!$BT$7<14),"ご回答より、建築基準関係法令等の確認を要する変更の可能性があります。 法令等の確認に際しては、自治体、有資格者（建築士）等に十分確認の上、ご申請願います。","")&IF(S①!$BT$7>14,"ご回答より、建築基準関係法令等の確認を要する変更と思われます。法令等の確認に際しては、自治体、有資格者（建築士）等に十分確認の上、ご申請願います。","") | N6: jidou
B7: 「K1」に入力ください。 | J7: 該当 | L7: ='【① 基本事項】'!F6 -> 法人名（設置者）： | M7: {=IF('【① 基本事項】'!G6:K6='【① 基本事項】'!S6,'【① 基本事項】'!U6,'【① 基本事項】'!G6:K6)} -> 【①基本事項】に戻り、「法人名」を入力してください | N7: 0 | O7: 0 | P7: 0 | Q7: 0
J8: 該当 | L8: ='【① 基本事項】'!F8 -> 保育施設名： | M8: {=IF('【① 基本事項】'!G8:K8='【① 基本事項】'!S8,'【① 基本事項】'!U8,'【① 基本事項】'!G8:K8)} -> 【①基本事項】に戻り、「保育施設名」を入力してください | N8: 0 | O8: 0 | P8: 0 | Q8: 0
J9: 該当 | L9: ='【① 基本事項】'!F10 -> 担当者名 ： | M9: =IF('【① 基本事項】'!G10='【① 基本事項】'!S10,'【① 基本事項】'!U10,'【① 基本事項】'!G10) -> 【①基本事項】に戻り、「担当者名」を入力してください
J10: 該当 | L10: ='【① 基本事項】'!J14 -> 申請日： | M10: =IF('【① 基本事項】'!K14='【① 基本事項】'!S10,'【① 基本事項】'!U14,'【① 基本事項】'!K14) -> 【①基本事項】に戻り、「申請日」を入力してください
B11: ★作業中は↓に１➡「該当」になります。 | J11: 該当 | L11: ='【① 基本事項】'!J16 -> 更新日： | M11: ='【① 基本事項】'!K16 -> 46322
B12: =B6 -> 0 | J12: 該当 | L12: ・セルが黄色表示されている箇所は、直接文字入力してください ・「□」が表示されている内容について確認した場合はプルダウンして「✔」に変更してください
D13: =COUNTIF(D14:D215,D6) -> 0 | J13: =IF(Q13<>0,"該当","非該当") -> 該当 | K13: =IF(Q13<>0,"【①基本事項】:未回答個所が "&R13&" 項目あります","") -> 【①基本事項】:未回答個所が 14 項目あります | P13: =J13 -> 該当 | Q13: ='【① 基本事項】'!C280 -> 8 | R13: ='【① 基本事項】'!B280 -> 14
A14: 士名番号 | B14: 士名番号 | E14: =IF(AND(J14="該当",SUM(F16:G19)<4),K14,"OK") -> OK | J14: {=IF(INDEX(S①!$T$2:$BQ$6,5,$K$14)>=1,"該当","非該当")} -> 非該当 | K14: 1 | L14: 担当建築士の確認 | O14: N
A15: 士名番号 | J15: {=IF(INDEX(S①!$T$2:$BQ$6,5,$K$14)>=1,"該当","非該当")} -> 非該当 | L15: 本申請に関わった建築士の氏名・建築士資格の種類・登録番号及び設計事務所名を下記の記入欄に記載してください。
A16: 士名番号 | C16: 必須回答 | D16: =IF(AND(J16=1,M16="直接入力してください"),"×","〇") -> 〇 | G16: =IF(M16="直接入力してください",0,1) -> 0 | J16: {=IF(INDEX(S①!$T$2:$BQ$6,5,$K$14)>=1,"該当","非該当")} -> 非該当 | L16: 建築士名： | M16: 直接入力してください
A17: 士名番号 | C17: 必須回答 | D17: =IF(AND(J17=1,M17="直接入力してください"),"×","〇") -> 〇 | G17: =IF(M17="直接入力してください",0,1) -> 0 | J17: {=IF(INDEX(S①!$T$2:$BQ$6,5,$K$14)>=1,"該当","非該当")} -> 非該当 | L17: 建築士資格の種類： | M17: 直接入力してください
A18: 士名番号 | C18: 必須回答 | D18: =IF(AND(J18=1,M18="直接入力してください"),"×","〇") -> 〇 | G18: =IF(M18="直接入力してください",0,1) -> 0 | J18: {=IF(INDEX(S①!$T$2:$BQ$6,5,$K$14)>=1,"該当","非該当")} -> 非該当 | L18: 登録番号： | M18: 直接入力してください
A19: 士名番号 | C19: 必須回答 | D19: =IF(AND(J19=1,M19="直接入力してください"),"×","〇") -> 〇 | G19: =IF(M19="直接入力してください",0,1) -> 0 | J19: {=IF(INDEX(S①!$T$2:$BQ$6,5,$K$14)>=1,"該当","非該当")} -> 非該当 | L19: 設計事務所名： | M19: 直接入力してください
A20: 建築重要 | B20: 建築重要 | E20: =IF(AND(J20="該当",F22=0),K20,"OK") -> OK | J20: {=IF(INDEX(S①!$T$2:$BQ$6,5,$K$20)>=1,"該当","非該当")} -> 非該当 | K20: 2 | L20: 建築士に依頼していない場合 | O20: O
A21: 建築重要 | J21: {=IF(INDEX(S①!$T$2:$BQ$6,5,$K$20)>=1,"該当","非該当")} -> 非該当 | L21: 避難経路、防火区画、採光等については専門性が高く、児童・スタッフの安全面にも関わるため、建築整備内容について不明点がある場合には有資格者（建築士）に相談いただくことをお勧めします。 建築関連資料の作成手段の選択：『建築関連資料集 事業計画申請用（令和8年10月22日版）』 P1 もご確認ください。
A22: 建築重要 | C22: 必須回答 | D22: =IF(AND(J22=1,K22="□"),"×","〇") -> 〇 | F22: =IF(K22="□",0,1) -> 0 | J22: {=IF(INDEX(S①!$T$2:$BQ$6,5,$K$20)>=1,"該当","非該当")} -> 非該当 | K22: □ | L22: 本申請にあたり建築整備内容についての不明点はない
A23: 有効a | B23: 有効a | E23: =IF(AND(J23="該当",SUM(F25:F29)<5),K23,"OK") -> OK | J23: {=IF(INDEX(S①!$T$2:$BQ$6,5,$K$23)>=1,"該当","非該当")} -> 非該当 | K23: 3 | L23: 保育室の有効面積について確認が必要です | O23: P
A24: 有効a | J24: {=IF(INDEX(S①!$T$2:$BQ$6,5,$K$23)>=1,"該当","非該当")} -> 非該当 | L24: 新たに保育室を設置する場合、年齢別の定員内訳を変更する場合、年齢別スペースの仕切り方を変更する場合などには、保育室の定員に対して必要な有効面積を確保しているか確認してください。 「有効面積の算定図・算定表」の作成や算定方法、除外面積となる家具等については『建築関連資料集 事業計画申請用（令和8年10月22日版）』 P4～6 をご参照ください。なお、有効面積算定については上記の算定に加え、認可外保育施設の届出先である自治体の保育課等の指導を満たす必要があります。
A25: 有効a | C25: 必須回答 | D25: =IF(AND(J25=1,K25="□"),"×","〇") -> 〇 | F25: =IF(K25="□",0,1) -> 0 | J25: {=IF(INDEX(S①!$T$2:$BQ$6,5,$K$23)>=1,"該当","非該当")} -> 非該当 | K25: □ | L25: 保育室の定員に対する必要面積を満たしていることを確認している
A26: 有効a | C26: 必須回答 | D26: =IF(AND(J26=1,K26="□"),"×","〇") -> 〇 | F26: =IF(K26="□",0,1) -> 0 | J26: {=IF(INDEX(S①!$T$2:$BQ$6,5,$K$23)>=1,"該当","非該当")} -> 非該当 | K26: □ | L26: 保育室の年齢別の定員と必要面積、有効面積を平面図に記載している
A27: 有効a | C27: 必須回答 | D27: =IF(AND(J27=1,K27="□"),"×","〇") -> 〇 | F27: =IF(K27="□",0,1) -> 0 | J27: {=IF(INDEX(S①!$T$2:$BQ$6,5,$K$23)>=1,"該当","非該当")} -> 非該当 | K27: □ | L27: 床面をふさぐ固定収納や簡単には動かせない家具は有効面積に含んでいない
A28: 有効a | C28: 必須回答 | D28: =IF(AND(J28=1,K28="□"),"×","〇") -> 〇 | F28: =IF(K28="□",0,1) -> 0 | J28: {=IF(INDEX(S①!$T$2:$BQ$6,5,$K$23)>=1,"該当","非該当")} -> 非該当 | K28: □ | L28: 手洗器設置部・建築柱型部など子どもが動き回れないところは有効面積に含んでいない
A29: 有効a | C29: 必須回答 | D29: =IF(AND(J29=1,K29="□"),"×","〇") -> 〇 | F29: =IF(K29="□",0,1) -> 0 | J29: {=IF(INDEX(S①!$T$2:$BQ$6,5,$K$23)>=1,"該当","非該当")} -> 非該当 | K29: □ | L29: 認可外保育施設の届出先である自治体の保育課の指導を満たしていることを確認している
A30: 区画a | B30: 114条区画 | E30: =IF(AND(J30="該当",G30="NO"),K30,"OK") -> OK | G30: =IF(AND(F32<>0,F34<>0,OR(G37<>0,SUM(G39:G42)=3)),"OK","NO") -> NO | J30: {=IF(INDEX(S①!$T$2:$BQ$6,5,$K$30)>=1,"該当","非該当")} -> 非該当 | K30: 4 | L30: 防火区画類の確認が必要です | O30: Q
A31: 区画a | J31: {=IF(INDEX(S①!$T$2:$BQ$6,5,$K$30)>=1,"該当","非該当")} -> 非該当 | L31: 保育室の防火上主要な間仕切壁は、建築基準法施行令114条2項により、原則として準耐火構造等の制約を受けることになります。また、建物の構造、用途により、その他の防火区画（同法令112条）が必要となる場合もあります。 部屋の配置に変更がある場合は、自治体の建築指導課等へ計画平面図を提示のうえ協議を行い、協議内容を下記の記入欄内に記載してください。また、区画の変更が不要である場合等、協議不要と判断した場合は、原則として、その判断根拠を有資格者（建築士）が記載してください。 『建築関連資料集 事業計画申請用（令和8年10月22日版）』 P7 に記載されているように、専門性が高い部分については、児童・スタッフの安全面から有資格者（建築士）に相談いただくことをお勧めします。
A32: 区画a | C32: 必須回答 | D32: =IF(AND(J32=1,K32="□"),"×","〇") -> 〇 | F32: =IF(K32="✔",5,0) -> 0 | J32: {=IF(INDEX(S①!$T$2:$BQ$6,5,$K$30)>=1,"該当","非該当")} -> 非該当 | K32: □ | L32: 防火区画類が必要な場合は平面図に区画の位置・種類を記載している または、不要な場合はその理由を記載している
A33: 区画a | J33: {=IF(INDEX(S①!$T$2:$BQ$6,5,$K$30)>=1,"該当","非該当")} -> 非該当 | L33: 「～選択してください～▼」が表示されている場合は回答選択が必要です。 【A】か【B】 どちらかを選択し、内容を記載してください。
A34: 区画a | C34: 必須回答 | D34: =IF(AND(J34=1,K34="□"),"×","〇") -> 〇 | F34: =IF(OR(L34="選択 【A】",L34="選択 【B】"),1,0) -> 0 | J34: {=IF(INDEX(S①!$T$2:$BQ$6,5,$K$30)>=1,"該当","非該当")} -> 非該当 | L34: ～選択してください～ ▼
A35: 区画a | J35: {=IF(INDEX(S①!$T$2:$BQ$6,5,$K$30)>=1,"該当","非該当")} -> 非該当 | K35: ▶ | L35: 新たな防火区画類について建築指導課と協議済みである場合 ➡ 【A】
A36: 区画a | J36: {=IF(INDEX(S①!$T$2:$BQ$6,5,$K$30)>=1,"該当","非該当")} -> 非該当 | K36: ▶ | L36: 協議不要の場合 ➡ 【B】
A37: 区画a | G37: =IF(AND(L34="選択 【B】",M37<>"協議不要と判断した理由を記載してください"),3,0) -> 0 | J37: {=IF(INDEX(S①!$T$2:$BQ$6,5,$K$30)>=1,"該当","非該当")} -> 非該当 | L37: 【B】建築士のコメント | M37: 協議不要と判断した理由を記載してください
A38: 区画a | J38: {=IF(INDEX(S①!$T$2:$BQ$6,5,$K$30)>=1,"該当","非該当")} -> 非該当 | L38: 【A】建築指導課との協議内容
A39: 区画a | C39: A枝必須 | D39: =IF(AND(J38=1,M39="直接入力してください"),"×","〇") -> 〇 | G39: =IF(M39="日付：",0,1) -> 0 | J39: {=IF(INDEX(S①!$T$2:$BQ$6,5,$K$30)>=1,"該当","非該当")} -> 非該当 | L39: 協議日： | M39: 日付：
A40: 区画a | C40: A枝必須 | D40: =IF(AND(J40=1,M40="自治体名： /担当課： /担当者名："),"×","〇") -> 〇 | G40: =IF(M40="自治体名： /担当課： /担当者名：",0,1) -> 0 | J40: {=IF(INDEX(S①!$T$2:$BQ$6,5,$K$30)>=1,"該当","非該当")} -> 非該当 | L40: 確認自治体・担当課・担当者名： | M40: 自治体名： /担当課： /担当者名：
A41: 区画a | J41: {=IF(INDEX(S①!$T$2:$BQ$6,5,$K$30)>=1,"該当","非該当")} -> 非該当 | L41: 協議内容：
A42: 区画a | C42: A枝必須 | D42: =IF(AND(J42=1,L42="直接入力してください"),"×","〇") -> 〇 | G42: =IF(L42="具体的な協議内容を記載してください",0,1) -> 0 | J42: {=IF(INDEX(S①!$T$2:$BQ$6,5,$K$30)>=1,"該当","非該当")} -> 非該当 | L42: 具体的な協議内容を記載してください | O42: R
A43: 避難a | B43: 同階 歩行距離 | E43: =IF(AND(J43="該当",G43="NO"),K43,"OK") -> OK | G43: =IF(AND(F45<>0,F47<>0,OR(G50<>0,SUM(G52:G65)=9)),"OK","NO") -> NO | J43: {=IF(INDEX(S①!$T$2:$BQ$6,5,$K$43)>=1,"該当","非該当")} -> 非該当 | K43: 5 | L43: 避難経路・歩行距離の確認が必要です
A44: 避難a | J44: {=IF(INDEX(S①!$T$2:$BQ$6,5,$K$43)>=1,"該当","非該当")} -> 非該当 | L44: 保育室の位置、部屋の大きさ、出入口位置に変更がある場合等には避難経路・歩行距離について計画平面図を提示のうえ自治体の保育課・建築指導課、消防と協議を行い、協議内容を下記の記入欄に記載してください。また、協議不要と判断した場合は、原則として、その判断根拠を有資格者（建築士）が記載してください。 避難経路・歩行距離については専門性が高く、児童・スタッフの安全面から有資格者（建築士）に相談いただくことをお勧めします。図面記載方法は『建築関連資料集 事業計画申請用（令和8年10月22日版）』 P2～3 を、避難経路については、 同 P7 をご参照ください。
A45: 避難a | C45: 必須回答 | D45: =IF(AND(J45=1,K45="□"),"×","〇") -> 〇 | F45: =IF(K45="□",0,1) -> 0 | J45: {=IF(INDEX(S①!$T$2:$BQ$6,5,$K$43)>=1,"該当","非該当")} -> 非該当 | K45: □ | L45: 避難経路と歩行距離を平面図に記載している
A46: 避難a | J46: {=IF(INDEX(S①!$T$2:$BQ$6,5,$K$43)>=1,"該当","非該当")} -> 非該当 | L46: 「～選択してください～▼」が表示されている場合は回答選択が必要です。 【A】か【B】 どちらかを選択し、内容を記載してください。
A47: 避難a | C47: 必須回答 | D47: =IF(AND(J47=1,K47="□"),"×","〇") -> 〇 | F47: =IF(OR(L47="選択 【A】",L47="選択 【B】"),1,0) -> 0 | J47: {=IF(INDEX(S①!$T$2:$BQ$6,5,$K$43)>=1,"該当","非該当")} -> 非該当 | L47: ～選択してください～ ▼
A48: 避難a | J48: {=IF(INDEX(S①!$T$2:$BQ$6,5,$K$43)>=1,"該当","非該当")} -> 非該当 | K48: ▶ | L48: 避難経路と歩行距離について自治体と協議し基準を満たしていることを確認している場合 ➡ 【A】
A49: 避難a | J49: {=IF(INDEX(S①!$T$2:$BQ$6,5,$K$43)>=1,"該当","非該当")} -> 非該当 | K49: ▶ | L49: 協議不要の場合 ➡ 【B】
A50: 避難a | C50: 選択B | G50: =IF(AND(L47="選択 【B】",M50<>"直接入力してください"),1,0) -> 0 | J50: {=IF(INDEX(S①!$T$2:$BQ$6,5,$K$43)>=1,"該当","非該当")} -> 非該当 | L50: 【B】建築士のコメント | M50: 協議不要と判断した理由を記載してください
A51: 避難a | J51: {=IF(INDEX(S①!$T$2:$BQ$6,5,$K$43)>=1,"該当","非該当")} -> 非該当 | K51: ▶ | L51: 【A】保育課（認可外保育施設の届出先）との協議内容
A52: 避難a | C52: A枝必須 | D52: =IF(AND(J52=1,M52="直接入力してください"),"×","〇") -> 〇 | G52: =IF(M52="日付：",0,1) -> 0 | J52: {=IF(INDEX(S①!$T$2:$BQ$6,5,$K$43)>=1,"該当","非該当")} -> 非該当 | L52: 協議日： | M52: 日付：
A53: 避難a | C53: A枝必須 | D53: =IF(AND(J53=1,M53="自治体名： /担当課： /担当者名："),"×","〇") -> 〇 | G53: =IF(M53="自治体名： /担当課： /担当者名：",0,1) -> 0 | J53: {=IF(INDEX(S①!$T$2:$BQ$6,5,$K$43)>=1,"該当","非該当")} -> 非該当 | L53: 確認自治体・担当課・担当者名： | M53: 自治体名： /担当課： /担当者名：
A54: 避難a | J54: {=IF(INDEX(S①!$T$2:$BQ$6,5,$K$43)>=1,"該当","非該当")} -> 非該当 | L54: 協議内容：避難経路など：
A55: 避難a | C55: A枝必須 | D55: =IF(AND(J55=1,L55="直接入力してください"),"×","〇") -> 〇 | G55: =IF(L55="具体的な協議内容を記載してください",0,1) -> 0 | J55: {=IF(INDEX(S①!$T$2:$BQ$6,5,$K$43)>=1,"該当","非該当")} -> 非該当 | L55: 具体的な協議内容を記載してください
A56: 避難a | J56: {=IF(INDEX(S①!$T$2:$BQ$6,5,$K$43)>=1,"該当","非該当")} -> 非該当 | K56: ▶ | L56: 【A】建築指導課との協議内容
A57: 避難a | C57: A枝必須 | D57: =IF(AND(J57=1,M57="直接入力してください"),"×","〇") -> 〇 | G57: =IF(M57="日付：",0,1) -> 0 | J57: {=IF(INDEX(S①!$T$2:$BQ$6,5,$K$43)>=1,"該当","非該当")} -> 非該当 | L57: 協議日： | M57: 日付：
A58: 避難a | C58: A枝必須 | D58: =IF(AND(J58=1,M58="自治体名： /担当課： /担当者名："),"×","〇") -> 〇 | G58: =IF(M58="自治体名： /担当課： /担当者名：",0,1) -> 0 | J58: {=IF(INDEX(S①!$T$2:$BQ$6,5,$K$43)>=1,"該当","非該当")} -> 非該当 | L58: 確認自治体・担当課・担当者名： | M58: 自治体名： /担当課： /担当者名：
A59: 避難a | J59: {=IF(INDEX(S①!$T$2:$BQ$6,5,$K$43)>=1,"該当","非該当")} -> 非該当 | L59: 協議内容：避難経路・歩行距離など：
A60: 避難a | C60: A枝必須 | D60: =IF(AND(J60=1,L60="直接入力してください"),"×","〇") -> 〇 | G60: =IF(L60="具体的な協議内容を記載してください",0,1) -> 0 | J60: {=IF(INDEX(S①!$T$2:$BQ$6,5,$K$43)>=1,"該当","非該当")} -> 非該当 | L60: 具体的な協議内容を記載してください
A61: 避難a | J61: {=IF(INDEX(S①!$T$2:$BQ$6,5,$K$43)>=1,"該当","非該当")} -> 非該当 | K61: ▶ | L61: 【A】消防との協議内容
A62: 避難a | C62: A枝必須 | D62: =IF(AND(J62=1,M62="直接入力してください"),"×","〇") -> 〇 | G62: =IF(M62="日付：",0,1) -> 0 | J62: {=IF(INDEX(S①!$T$2:$BQ$6,5,$K$43)>=1,"該当","非該当")} -> 非該当 | L62: 協議日： | M62: 日付：
A63: 避難a | G63: =IF(M63="自治体名： /担当課： /担当者名：",0,1) -> 0 | J63: {=IF(INDEX(S①!$T$2:$BQ$6,5,$K$43)>=1,"該当","非該当")} -> 非該当 | L63: 確認自治体・担当課・担当者名： | M63: 自治体名： /担当課： /担当者名：
A64: 避難a | J64: {=IF(INDEX(S①!$T$2:$BQ$6,5,$K$43)>=1,"該当","非該当")} -> 非該当 | L64: 協議内容：歩行距離など：
A65: 避難a | C65: A枝必須 | D65: =IF(AND(J65=1,L65="直接入力してください"),"×","〇") -> 〇 | G65: =IF(L65="具体的な協議内容を記載してください",0,1) -> 0 | J65: {=IF(INDEX(S①!$T$2:$BQ$6,5,$K$43)>=1,"該当","非該当")} -> 非該当 | L65: 具体的な協議内容を記載してください
A66: 採光a | B66: 既存保育室&非居室の場合 | E66: =IF(AND(J66="該当",SUM(F68:G70)<3),K66,"OK") -> OK | J66: {=IF(INDEX(S①!$T$2:$BQ$6,5,$K$66)>=1,"該当","非該当")} -> 非該当 | K66: 6 | L66: 採光・換気・排煙等の確認が必要です | O66: S
A67: 採光a | J67: {=IF(INDEX(S①!$T$2:$BQ$6,5,$K$66)>=1,"該当","非該当")} -> 非該当 | L67: 新たな保育室の設置、保育室位置の変更、保育室床面積の増加、保育室の分割などの場合は、法令に基づいて、採光・換気・排煙の計算を行い、基準を満たしていることを確認のうえ、図面に記載してください。 図面記載方法は『建築関連資料集 事業計画申請用（令和8年10月22日版）』 P2 を、採光・換気・排煙については、同 P7 をご参照ください。この項目は専門性が高く、児童・スタッフの安全面から有資格者（建築士）に相談いただくことをお勧めします。
A68: 採光a | C68: 必須回答 | D68: =IF(AND(J68=1,K68="□"),"×","〇") -> 〇 | F68: =IF(K68="□",0,1) -> 0 | J68: {=IF(INDEX(S①!$T$2:$BQ$6,5,$K$66)>=1,"該当","非該当")} -> 非該当 | K68: □ | L68: 保育室・遊戯室等が「採光・換気・排煙等」の基準を満たしていることを確認している
A69: 採光a | C69: 必須回答 | D69: =IF(AND(J69=1,K69="□"),"×","〇") -> 〇 | F69: =IF(K69="□",0,1) -> 0 | J69: {=IF(INDEX(S①!$T$2:$BQ$6,5,$K$66)>=1,"該当","非該当")} -> 非該当 | K69: □ | L69: 採光・換気・排煙の計算式、告示（適宜）等を平面図等に記載している
A70: 採光a | C70: 必須回答 | D70: =IF(AND(J70=1,K70="□"),"×","〇") -> 〇 | F70: =IF(K70="□",0,1) -> 0 | J70: {=IF(INDEX(S①!$T$2:$BQ$6,5,$K$66)>=1,"該当","非該当")} -> 非該当 | K70: □ | L70: 採光計算において採用する採光補正係数の算定根拠を平面図等に記載している
A71: 採光b | B71: 保育室以外の居室の場合 | E71: =IF(AND(J71="該当",SUM(F73:G75)<3),K71,"OK") -> OK | J71: {=IF(INDEX(S①!$T$2:$BQ$6,5,$K$71)>=1,"該当","非該当")} -> 非該当 | K71: 7 | L71: 採光・換気・排煙等の確認が必要です | O71: T
A72: 採光b | J72: {=IF(INDEX(S①!$T$2:$BQ$6,5,$K$71)>=1,"該当","非該当")} -> 非該当 | L72: 変更前の部屋の用途が保育室（遊戯室等子どもが使用する部屋も含む）以外の場合、保育室の採光・換気・排煙の必要値を満たしていない場合があります。基準を満たしていることを確認のため、図面に記載してください。 図面記載方法は『建築関連資料集 事業計画申請用（令和8年10月22日版）』 P2 を、採光・換気・排煙については、同 P7 をご参照ください。この項目は専門性が高く、児童・スタッフの安全面から有資格者（建築士）に相談いただくことをお勧めします。
A73: 採光b | C73: 必須回答 | D73: =IF(AND(J73=1,K73="□"),"×","〇") -> 〇 | F73: =IF(K73="□",0,1) -> 0 | J73: {=IF(INDEX(S①!$T$2:$BQ$6,5,$K$71)>=1,"該当","非該当")} -> 非該当 | K73: □ | L73: 保育室・遊戯室等が「採光・換気・排煙等」の基準を満たしていることを確認している
A74: 採光b | C74: 必須回答 | D74: =IF(AND(J74=1,K74="□"),"×","〇") -> 〇 | F74: =IF(K74="□",0,1) -> 0 | J74: {=IF(INDEX(S①!$T$2:$BQ$6,5,$K$71)>=1,"該当","非該当")} -> 非該当 | K74: □ | L74: 採光・換気・排煙の計算式、告示（適宜）等を平面図等に記載している
A75: 採光b | C75: 必須回答 | D75: =IF(AND(J75=1,K75="□"),"×","〇") -> 〇 | F75: =IF(K75="□",0,1) -> 0 | J75: {=IF(INDEX(S①!$T$2:$BQ$6,5,$K$71)>=1,"該当","非該当")} -> 非該当 | K75: □ | L75: 採光計算において採用する採光補正係数の算定根拠を平面図等に記載している
A76: 居室a | B76: 非居室扱いの室（部屋）の利用 | E76: =IF(AND(J76="該当",SUM(F79:G94)<5),K76,"OK") -> OK | J76: {=IF(INDEX(S①!$T$2:$BQ$6,5,$K$76)>=1,"該当","非該当")} -> 非該当 | K76: 8 | L76: 居室扱いの可否について確認が必要です | O76: U | P76: =J76 -> 非該当
A77: 居室a | J77: {=IF(INDEX(S①!$T$2:$BQ$6,5,$K$76)>=1,"該当","非該当")} -> 非該当 | L77: 建築基準法上の居室に該当しない部屋（物入や倉庫、あるいは平均天井高さが2.1mに満たない室等）については、居室利用が難しい場合があります。特に保育室として利用する場合には、採光・換気等や114条区画等の法規制の他、室内の断熱や仕上げにも配慮いただく必要があります。自治体の建築指導課等へ計画平面図を提示のうえ協議を行い、協議内容を下記の記入欄内に記載してください。また協議不要と判断した場合は、原則として、その判断根拠を有資格者（建築士）が記載してください。 「居室」の用語解説は『建築関連資料集 事業計画申請用（令和8年10月22日版）』 P12 をご参照ください。 | P77: =J77 -> 非該当
A78: 居室a | J78: {=IF(INDEX(S①!$T$2:$BQ$6,5,$K$76)>=1,"該当","非該当")} -> 非該当 | L78: 「～選択してください～▼」が表示されている場合は回答選択が必要です。 【A】か【B】 どちらかを選択し、内容を記載してください。 | P78: =J78 -> 非該当
A79: 居室a | F79: =IF(OR(L79="選択 【A】",L79="選択 【B】"),1,0) -> 0 | J79: {=IF(INDEX(S①!$T$2:$BQ$6,5,$K$76)>=1,"該当","非該当")} -> 非該当 | L79: ～選択してください～ ▼ | P79: =J79 -> 非該当
A80: 居室a | C80: 選択A | D80: =IF(AND(J80=1,K80="□"),"×","〇") -> 〇 | G80: =IF(AND(L79="選択 【A】",L86<>"直接入力してください",L91<>"直接入力してください"),1,0) -> 0 | J80: {=IF(INDEX(S①!$T$2:$BQ$6,5,$K$76)>=1,"該当","非該当")} -> 非該当 | K80: ▶ | L80: 【A】 室の居室扱いの可否について自治体の保育課へ計画平面図を提示し、 居室として保育を行って問題ない旨の協議を行った | P80: =J80 -> 非該当
A81: 居室a | C81: 選択B | D81: =IF(AND(J81=1,M82="直接入力してください",K81="✔"),"×","〇") -> 〇 | G81: =IF(AND(L79="選択 【B】",L94<>"直接入力してください"),3,0) -> 0 | J81: {=IF(INDEX(S①!$T$2:$BQ$6,5,$K$76)>=1,"該当","非該当")} -> 非該当 | K81: ▶ | L81: 【B】 建築士判断／コメント ： 協議不要と判断した（協議不要の理由を記載） | P81: =J81 -> 非該当
A82: 居室a | J82: 非該当 | L82: 【保育課（認可外保育施設の届出先）との協議内容】 | P82: =J82 -> 非該当
A83: 居室a | G83: =IF(M83="日付：",0,1) -> 0 | J83: 非該当 | L83: 協議日： | M83: 日付： | P83: =J83 -> 非該当
A84: 居室a | C84: 必須回答 | D84: =IF(AND(J84=1,M84="自治体名： /担当課： /担当者名："),"×","〇") -> 〇 | G84: =IF(M84="自治体名： /担当課： /担当者名：",0,1) -> 0 | J84: 非該当 | L84: 確認自治体・担当課・担当者名： | M84: 自治体名： /担当課： /担当者名： | P84: =J84 -> 非該当
A85: 居室a | J85: 非該当 | L85: 協議内容： | P85: =J85 -> 非該当
A86: 居室a | C86: 必須回答 | D86: =IF(AND(J86=1,L86="直接入力してください"),"×","〇") -> 〇 | G86: =IF(L86="具体的な協議内容を記載してください",0,1) -> 0 | J86: 非該当 | L86: 具体的な協議内容を記載してください | P86: =J86 -> 非該当
A87: 居室a | J87: {=IF(INDEX(S①!$T$2:$BQ$6,5,$K$76)>=1,"該当","非該当")} -> 非該当 | L87: 【建築指導課との協議内容】 | O87: =J87 -> 非該当
A88: 居室a | C88: 必須回答 | D88: =IF(AND(J88=1,M88="直接入力してください"),"×","〇") -> 〇 | G88: =IF(M88="日付：",0,1) -> 0 | J88: {=IF(INDEX(S①!$T$2:$BQ$6,5,$K$76)>=1,"該当","非該当")} -> 非該当 | L88: 協議日： | M88: 日付： | O88: =J88 -> 非該当
A89: 居室a | C89: 必須回答 | D89: =IF(AND(J89=1,M89="自治体名： /担当課： /担当者名："),"×","〇") -> 〇 | G89: =IF(M89="自治体名： /担当課： /担当者名：",0,1) -> 0 | J89: {=IF(INDEX(S①!$T$2:$BQ$6,5,$K$76)>=1,"該当","非該当")} -> 非該当 | L89: 確認自治体・担当課・担当者名 | M89: 自治体名： /担当課： /担当者名： | O89: =J89 -> 非該当
A90: 居室a | J90: {=IF(INDEX(S①!$T$2:$BQ$6,5,$K$76)>=1,"該当","非該当")} -> 非該当 | L90: 協議内容： | O90: =J90 -> 非該当
A91: 居室a | C91: 必須回答 | D91: =IF(AND(J91=1,L91="直接入力してください"),"×","〇") -> 〇 | G91: =IF(L91="具体的な協議内容を記載してください",0,1) -> 0 | J91: {=IF(INDEX(S①!$T$2:$BQ$6,5,$K$76)>=1,"該当","非該当")} -> 非該当 | L91: 具体的な協議内容を記載してください | O91: =J91 -> 非該当
A92: 居室a | J92: {=IF(INDEX(S①!$T$2:$BQ$6,5,$K$76)>=1,"該当","非該当")} -> 非該当 | L92: 【建築士コメント】 | P92: =J92 -> 非該当
A93: 居室a | J93: {=IF(INDEX(S①!$T$2:$BQ$6,5,$K$76)>=1,"該当","非該当")} -> 非該当 | L93: 自治体協議が不要な理由・居室として問題ない旨の根拠： | P93: =J93 -> 非該当
A94: 居室a | C94: 必須回答 | D94: =IF(AND(J94=1,L94="直接入力してください"),"×","〇") -> 〇 | G94: =IF(L94="根拠を記載してください",0,3) -> 0 | J94: {=IF(INDEX(S①!$T$2:$BQ$6,5,$K$76)>=1,"該当","非該当")} -> 非該当 | L94: 根拠を記載してください | P94: =J94 -> 非該当
A95: 病児専用a | B95: 出入口 | E95: =IF(AND(J95="該当",SUM(F98:G100)<2),K95,"OK") -> OK | J95: {=IF(INDEX(S①!$T$2:$BQ$6,5,$K$95)>=1,"該当","非該当")} -> 非該当 | K95: 9 | L95: 病児（病後児）保育の出入口の確認が必要です | O95: V
A96: 病児専用a | J96: {=IF(INDEX(S①!$T$2:$BQ$6,5,$K$95)>=1,"該当","非該当")} -> 非該当 | L96: 感染防止の観点から、通常保育とは別の出入口があることが望ましいため、設置をご検討ください。 計画には『建築関連資料集 事業計画申請用（令和8年10月22日版）』 P8 、および『企業主導型保育事業運営ハンドブック』 「第7章 病児保育事業・一時預かり事業」 P3～23 をご参照ください。
A97: 病児専用a | J97: {=IF(INDEX(S①!$T$2:$BQ$6,5,$K$95)>=1,"該当","非該当")} -> 非該当 | L97: 「～選択してください～▼」が表示されている場合は回答選択が必要です。 【A】か【B】 どちらかを選択し、内容を記載してください。
A98: 病児専用a | F98: =IF(OR(L98="選択 【A】",L98="選択 【B】"),1,0) -> 0 | J98: {=IF(INDEX(S①!$T$2:$BQ$6,5,$K$95)>=1,"該当","非該当")} -> 非該当 | L98: ～選択してください～ ▼
A99: 病児専用a | C99: 選択A | D99: =IF(AND(J99=1,K99="□"),"×","〇") -> 〇 | F99: =IF(L98="選択 【A】",1,0) -> 0 | J99: {=IF(INDEX(S①!$T$2:$BQ$6,5,$K$95)>=1,"該当","非該当")} -> 非該当 | K99: ▶ | L99: 【A】 病児（病後児）保育専用出入口を、通常保育の児童が使用する出入口とは別に設けている
A100: 病児専用a | C100: 選択B | D100: =IF(AND(J100=1,M101="直接入力してください",K100="✔"),"×","〇") -> 〇 | G100: =IF(AND(L98="選択 【B】",M111<>"直接入力してください"),1,0) -> 0 | J100: {=IF(INDEX(S①!$T$2:$BQ$6,5,$K$95)>=1,"該当","非該当")} -> 非該当 | K100: ▶ | L100: 【B】 上記以外
A101: 病児専用a | J101: 非該当 | M101: 直接入力してください | O101: =J101 -> 非該当 | P101: =J101 -> 非該当
...
