Workbook
Name ・2015年度※平成27: YearList15[・2015年度※平成27]
Name ・2015年度※平成27: YearList15[・2015年度※平成27]
Name ・2016年度※平成28: YearList16[・2016年度※平成28]
Name ・2016年度※平成28: YearList16[・2016年度※平成28]
Name ・2017年度※平成29: YearList17[・2017年度※平成29]
Name ・2017年度※平成29: YearList17[・2017年度※平成29]
Name ・2018年度※平成30: YearList18[・2018年度※平成30]
Name ・2018年度※平成30: YearList18[・2018年度※平成30]
Name ・2019年度※令和元: YearList19[・2019年度※令和元]
Name ・2019年度※令和元: YearList19[・2019年度※令和元]
Name ・2020年度※令和2: YearList20[・2020年度※令和2]
Name ・2020年度※令和2: YearList20[・2020年度※令和2]
Name ・2021年度※令和3: YearList21[・2021年度※令和3]
Name ・2021年度※令和3: YearList21[・2021年度※令和3]
Name ・2022年度※令和4: YearList22[・2022年度※令和4]
Name ・2022年度※令和4: YearList22[・2022年度※令和4]
Name ・2023年度※令和5: YearList23[・2023年度※令和5]
Name ・2023年度※令和5: YearList23[・2023年度※令和5]
Name 運営開始年度: S①!$C$61:$K$61
Name 運営開始年度1: S①!$B$61:$K$61
Name 選択してください: YearList00[選択してください]
Name 選択してください: YearList00[選択してください]

Sheet 【はじめに】 
D2: 【はじめに】
D5: これは、保育園の 保育園による 保育園のための セルフチェックシートです。 助成申込（事業計画申請）において、図面の変更を伴う事業内容の変更をされる場合、建築基準法、消防法、食品衛生法、建設業法、家庭的保育事業等の設備及び運営に関する基準、認可外保育施設指導監督基準等が遵守されている必要があります。 この「建築関係法令等セルフチェックシート」では、変更内容に応じて確認すべき主な内容を自身でチェックすることができます。 手順に従いシートに記入して頂き、必要に応じて図面作成、関係機関との協議等を行い、その上で、事業計画申請の提出をお願いいたします。 尚、今年度から、定員の年齢別内訳変更のみを行う場合で、保育室の大きさも用途も変えない場合はこのセルフチェックシートを提出する必要はありません。 事業計画申請にあたっての建築関連事項詳細については「企業主導型保育事業ポータルサイト」にある以下の資料をご参照ください。
D6: 「建築関連資料集 事業計画申請用（令和8年10月22日版）」
D7: 「企業主導型保育事業運営ハンドブック 第7章 病児保育事業・一時預かり事業」
D9: ※チェックシート内で使用されている建築関連の専門的な用語は、上記「建築関連資料集」内の「用語解説リスト」に記載されております。 ご不明な点等ある場合には、上記資料をご参照されることをお勧めいたします。
D10: ●作業手順については、【マニュアル】をご確認ください。➡

Sheet 【マニュアル】 
A1: リンク
G2: 【マニュアル】
F3: 「建築関係法令等セルフチェックシート」は【①基本事項】【②結果入力】2つのシートで構成されています。 【①基本事項】➡【②結果入力】の順番で入力してください。
F4: 2つのシート両方の提出が必要です。 必要に応じて【建築整備内容の法令・基準チェックシート】 （令和8年10月22日版）（別ファイル、リンク先参照）が必要になる場合があります。
E6: ● | F6: 作成手順１
F7: 印刷提出【①基本事項】シートの入力について
F8: 申請にあたっての基本事項を入力するシートです。
E9: =IF(G21="事業計画申請","事業計画申請",IF(G21="図面相談","図面相談",IF(G21="選択してください",""))) | G9: 【①基本事項】シート
H11: 事 業 者 情 報 | L11: K0A0B0
F13: 法人名（設置者）： | G13: 文字を消して直接ここに「法人名」を入力してください
F15: 保育施設名： | G15: 文字を消して直接ここに「保育施設名」を入力してください
F17: 担当者名 ： | G17: 入力してください | J17: 保育施設コード: | K17: 入力してください | L17: =IF(COUNTIF(K17,"H00*")=1,"","⇐間違ってます ") -> ⇐間違ってます
F19: 運営開始年度： | G19: 選択してください | J19: 直近の図面変更年度： | K19: 選択してください
F21: 申請種類 ： | G21: 選択してください | J21: 申請日： | K21: 入力してください
F23: 事前図面相談： | G23: 選択してください | J23: 更新日： | K23: 46317
G26: 事業者情報に空欄があります。ご確認ください。
G28: =IF(O13=0,"「法人名（設置者）」 ","")&IF(O15=0,"「保育施設名」 ","")&IF(P17=0,"「担当者名」 ","")&IF(R17=0,"「保育施設コード」 ","")&IF(P19=0,"「運営開始年度」 ","")&IF(P21=0,"「申請種類」 ","")&IF(R19=0,"「直近の図面変更年度」 ","")&IF(R21=0,"「申請日」 ","")&" が入力されていません。" -> 「法人名（設置者）」 「保育施設名」 「担当者名」 「保育施設コード」 「運営開始年度」 「申請種類」 「直近の図面変更年度」 「申請日」 が入力されていません。
G30: =IF(AND(S①!$BT$7>4,S①!$BT$7<14),"ご回答より、建築基準関係法令等の確認を要する変更の可能性があります。 法令等の確認に際しては、自治体、有資格者（建築士）等に十分確認の上、ご申請願います。","")&IF(S①!$BT$7>=14,"ご回答より、建築基準関係法令等の確認を要する変更と思われます。法令等の確認に際しては、自治体、有資格者（建築士）等に十分確認の上、ご申請願います。","")
F34: A 資料提出時の確認事項 （全事業者回答必須）
A36: =S①!Q9 -> AQ1 | F36: AQ1 | G36: 今回の申請にあたり、建築関連法規の確認や資料作成に有資格者（建築士）は関わりましたか
A37: =S①!$BW9 -> 表示 | F37: ▷ 該当選択
A38: =S①!$P9 -> 回答待ち | B38: =IF(A38="回答待ち",1,0) -> 1 | F38: =S①!Q18 -> ▶ A | G38: =S①!O18 -> ： あり
F39: =S①!Q19 -> ▶ B | G39: =S①!O19 -> ： なし
K40: AQ1 を回答ください
F43: C 年齢別内訳の変更 （全事業者回答必須）
F45: CQ0 | G45: 今回の申請で年齢別内訳の変更がありますか
F46: ▶ A
F47: ▶ A | G47: ： 変更あり
F48: ▶ B | G48: ： 変更なし
H49: ×
F50: CQ1 | G50: 保育室の場所の移動がありますか | J50: CQ1-1 | K50: 保育室の設置を予定される室の現状用途について ご回答ください
F51: ▶ A | J51: ▶ B
F52: ▶ A | G52: ： 場所の移動：あり | J52: ▶ A | K52: ： 保育に供する室
F53: ▶ B | G53: ： 場所の移動：なし | J53: ▶ B | K53: ： 保育に供する室以外の居室
H54: × | J54: ▶ C | K54: ： 上記以外（非居室）
G55: 「 場所の移動 」の例：リンク先へ ➡ | L55: ×
J56: CQ1-2 | K56: 移動する場所はどの階ですか
J57: ▷ 該当選択
J58: ▶ A | K58: ： 現在と同じ階
J59: ▶ B | K59: ： 現在より上の階
...

Sheet 【① 基本事項】
E2: =IF(G14="事業計画申請","事業計画申請",IF(G14="図面相談","図面相談",IF(G14="選択してください",""))) | G2: 【①基本事項】シート
H4: 事 業 者 情 報 | L4: =S①!BS1 -> K0A0B0
F6: 法人名（設置者）： | G6: 文字を消して直接ここに「法人名」を入力してください | O6: =P6+R6 -> 0 | P6: =IF(G6=S6,0,1) -> 0 | S6: 文字を消して直接ここに「法人名」を入力してください | U6: 【①基本事項】に戻り、「法人名」を入力してください
F8: 保育施設名： | G8: 文字を消して直接ここに「保育施設名」を入力してください | O8: =P8+R8 -> 0 | P8: =IF(G8=S8,0,1) -> 0 | S8: 文字を消して直接ここに「保育施設名」を入力してください | U8: 【①基本事項】に戻り、「保育施設名」を入力してください
F10: 担当者名 ： | G10: 入力してください | J10: 保育施設コード: | K10: 入力してください | L10: =IF(COUNTIF(K10,"H00*")=1,"","⇐間違ってます ") -> ⇐間違ってます | O10: =P10+R10 -> 0 | P10: =IF(G10="入力してください",0,1) -> 0 | R10: =IF(K10="入力してください",0,1) -> 0 | S10: 入力してください | U10: 【①基本事項】に戻り、「担当者名」を入力してください
S11: 選択してください
F12: 運営開始年度： | G12: 選択してください | J12: 直近の図面変更年度： | K12: 選択してください | O12: =P12+R12 -> 0 | P12: =IF(G12="選択してください",0,1) -> 0 | R12: =IF(K12="選択してください",0,1) -> 0 | T12: =IF(LEN(K10)=7,"","⇐文字数も間違ってます") -> ⇐文字数も間違ってます | U12: 【①基本事項】に戻り、「法人名」を入力してください
F14: 申請種類 ： | G14: 選択してください | J14: 申請日： | K14: 入力してください | O14: =P14+R14 -> 0 | P14: =IF(G14="選択してください",0,1) -> 0 | R14: =IF(K14="入力してください",0,1) -> 0 | S14: =運営開始年度 | U14: 【①基本事項】に戻り、「申請日」を入力してください
F16: 事前図面相談： | G16: 選択してください | J16: 更新日： | K16: =TODAY() -> 46322 | S16: {=INDIRECT($G$12)} -> 選択してください
O17: =SUM(P6:R14) -> 0 | S17: 運営開始年度を先に入力ください
G19: 事業者情報に空欄があります。ご確認ください。
G21: =IF(O6=0,"「法人名（設置者）」 ","")&IF(O8=0,"「保育施設名」 ","")&IF(P10=0,"「担当者名」 ","")&IF(R10=0,"「保育施設コード」 ","")&IF(P12=0,"「運営開始年度」 ","")&IF(P14=0,"「申請種類」 ","")&IF(R12=0,"「直近の図面変更年度」 ","")&IF(R14=0,"「申請日」 ","")&" が入力されていません。" -> 「法人名（設置者）」 「保育施設名」 「担当者名」 「保育施設コード」 「運営開始年度」 「申請種類」 「直近の図面変更年度」 「申請日」 が入力されていません。
G23: =IF(AND(S①!$BT$7>4,S①!$BT$7<14),"ご回答より、建築基準関係法令等の確認を要する変更の可能性があります。 法令等の確認に際しては、自治体、有資格者（建築士）等に十分確認の上、ご申請願います。","")&IF(S①!$BT$7>=14,"ご回答より、建築基準関係法令等の確認を要する変更と思われます。法令等の確認に際しては、自治体、有資格者（建築士）等に十分確認の上、ご申請願います。","")
C27: =B31 -> 1 | D27: AQ | F27: A 資料提出時の確認事項 （全事業者回答必須）
A29: =S①!Q9 -> AQ1 | F29: =S①!Q9 -> AQ1 | G29: =S①!O9 -> 今回の申請にあたり、建築関連法規の確認や資料作成に有資格者（建築士）は関わりましたか
A30: =S①!$BW9 -> 表示 | F30: ▷ 該当選択
A31: =S①!$P9 -> 回答待ち | B31: =IF(A31="回答待ち",1,0) -> 1 | F31: =S①!Q11 -> ▶ A | G31: =S①!O11 -> ： 有資格者（建築士）は関わった
F32: =S①!Q12 -> ▶ B | G32: =S①!O12 -> ： 有資格者（建築士）は関わらなかった
K33: =S①!O8 -> AQ1 を回答ください
C34: =IF((B38+B43+B48)=3,1,0) -> 1 | D34: BQ | F34: B 保育園全体に影響がでる変更（建築整備内容の法令・基準チェックシート１、２が必要になる変更） （全事業者回答必須）
A36: =S①!Q16 -> BQ1 | F36: =S①!Q16 -> BQ1 | G36: =S①!O16 -> 建物の増築・増床がありますか
A37: =S①!$BW16 -> 表示 | F37: ▷ 該当選択
A38: =S①!$P16 -> 回答待ち | B38: =IF(A38="回答待ち",1,0) -> 1 | F38: =S①!Q18 -> ▶ A | G38: =S①!O18 -> ： あり
F39: =S①!Q19 -> ▶ B | G39: =S①!O19 -> ： なし
A41: =S①!Q21 -> BQ2 | F41: =S①!Q21 -> BQ2 | G41: =S①!O21 -> 保育に供する室の設置が現在より上の階になりますか
A42: =S①!$BW21 -> 表示 | F42: ▷ 該当選択
A43: =S①!$P21 -> 回答待ち | B43: =IF(A43="回答待ち",1,0) -> 1 | F43: =S①!Q23 -> ▶ A | G43: =S①!O23 -> ： あり
F44: =S①!Q24 -> ▶ B | G44: =S①!O24 -> ： なし
A46: =S①!Q26 -> BQ3 | F46: =S①!Q26 -> BQ3 | G46: =S①!O26 -> 保育所全体の床面積が減る計画がありますか
A47: =S①!$BW26 -> 表示 | F47: ▷ 該当選択
A48: =S①!$P26 -> 回答待ち | B48: =IF(A48="回答待ち",1,0) -> 1 | F48: =S①!Q28 -> ▶ A | G48: =S①!O28 -> ： あり
F49: =S①!Q29 -> ▶ B | G49: =S①!O29 -> ： なし
K50: =S①!O15 -> BQ1 BQ2 BQ3 を回答ください
C51: =IF((B55)=1,1,0) -> 1 | D51: CQ | F51: C 年齢別内訳の変更 （全事業者回答必須）
A53: =S①!Q33 -> CQ0 | F53: =S①!Q33 -> CQ0 | G53: =S①!O33 -> 今回の申請で年齢別内訳の変更がありますか
A54: =S①!$BW33 -> 表示 | F54: ▷ 該当選択
A55: =S①!$P33 -> 回答待ち | B55: =IF(A55="回答待ち",1,0) -> 1 | F55: =S①!Q35 -> ▶ A | G55: =S①!O35 -> ： 変更あり
F56: =S①!Q36 -> ▶ B | G56: =S①!O36 -> ： 変更なし
G57: =S①!O37 -> CQ0 を回答ください | H57: =S①!P37 -> ●
A58: =S①!Q38 -> CQ1 | C58: =S①!$Q43 -> CQ1-1 | F58: =S①!Q38 -> CQ1 | G58: =S①!O38 -> 保育室の場所の移動がありますか | J58: =S①!Q43 -> CQ1-1 | K58: =S①!O43 -> 保育室の設置を予定される室の現状用途について ご回答ください
...

Sheet S①
B1: =IF(C1=0,"OK",IF(C1>0,"ON","E")) -> OK | C1: =SUM(E4:E9) -> 0 | O1: 修正 | T1: =CK1 -> 士名番号 | U1: =CL1 -> 建築重要 | V1: =CM1 -> 有効a | W1: =CN1 -> 区画a | X1: =CO1 -> 避難a | Y1: =CP1 -> 採光a | Z1: =CQ1 -> 採光b | AA1: =CR1 -> 居室a | ... BQ1: =EH1 -> 0 | BS1: ="K"&BS6&"A"&BT6&"B"&BU6 -> K0A0B0 | CH1: 凡例 | CK1: 士名番号 | CL1: 建築重要 | CM1: 有効a | CN1: 区画a | CO1: 避難a | CP1: 採光a | CQ1: 採光b | CR1: 居室a | CS1: 病児専用a | CT1: 病児専用b | CU1: 別紙a | CV1: 感染予防a | CW1: 安静区切b | CX1: 安静区切c | CY1: 感染予防b | CZ1: 安静室a | DA1: 安静室b | DB1: その他の間仕切a | DC1: 返還a | DE1: 消防a | DI1: 定員内訳a | DJ1: 病児a | DK1: 体調不良児a | DL1: 一時預かりa | DO1: 居室 | DP1: 工事費 | DQ1: 消防b | DR1: 自由記載 | EJ1: 育建 | EK1: 建築法令CHS | EL1: 評価B
B2: (令和8年10月22日版) | N2: 1 | O2: {=INDEX(S①!$T$2:$BQ$6,5,N2)} -> 0 | P2: 5 | R2: ⇐１を入れる | T2: 1 | U2: 2 | V2: 3 | W2: 4 | X2: 5 | Y2: 6 | Z2: 7 | AA2: 8 | AB2: 9 | AC2: 10 | AD2: 11 | AE2: 12 | AF2: 13 | AG2: 14 | AH2: 15 | AI2: 16 | AJ2: 17 | AK2: 18 | AL2: 19 | AM2: 20 | AN2: 21 | AO2: 22 | AP2: 23 | AQ2: 24 | AR2: 25 | AS2: 26 | AT2: 27 | AU2: 28 | AV2: 29 | AW2: 30 | AX2: 31 | AY2: 32 | AZ2: 33 | BA2: 34 | BB2: 35 | BC2: 36 | BD2: 37 | BE2: 38 | BF2: 39 | BG2: 40 | BH2: 41 | BI2: 42 | BJ2: 43 | BK2: 44 | BL2: 45 | BM2: 46 | BN2: 47 | BO2: 48 | BP2: 49 | BQ2: 50 | BW2: 18 | CH2: 回答待ち | CP2: ▶
N3: 1 | O3: {=INDEX(S①!$T$2:$BQ$6,4,N3)} -> × | P3: 4 | Q3: =IF(Q2=1,"表示","非表示") -> 非表示 | T3: =CK3 -> 法1 | U3: =CL3 -> 法2 | V3: =CM3 -> 法3 | W3: =CN3 -> 法4 | X3: =CO3 -> 法5 | Y3: =CP3 -> 法6 | Z3: =CQ3 -> 法7 | AA3: =CR3 -> 法8 | ... BU3: =EL3 -> 評価B | BW3: {=INDEX(T2:BQ6,5,BW2)} -> 0 | CH3: 回答アリ | CK3: 法1 | CL3: 法2 | CM3: 法3 | CN3: 法4 | CO3: 法5 | CP3: 法6 | CQ3: 法7 | CR3: 法8 | CS3: 法9 | CT3: 法10 | CU3: 法11 | CV3: 法12 | CW3: 法13 | CX3: 法14 | CY3: 法15 | CZ3: 法16 | DA3: 法17 | DB3: 法18 | DC3: 法19 | DD3: 法20 | DE3: 法21 | DF3: 法22 | DG3: 法23 | DH3: 法24 | DI3: 法25 | DJ3: 法26 | DK3: 法27 | DL3: 法28 | DM3: 法29 | DN3: 法30 | DO3: 法31 | DP3: 法32 | DQ3: 法33 | DR3: 法34 | DS3: 法35 | DT3: 法36 | DU3: 法37 | DV3: 法38 | DW3: 法39 | DX3: 法40 | DY3: 法41 | DZ3: 法42 | EA3: 法43 | EB3: 法44 | EC3: 法45 | ED3: 法46 | EE3: 法47 | EF3: 法48 | EG3: 法49 | EH3: 法50 | EI3: 表示 | EJ3: 育建 | EK3: 評価A | EL3: 評価B
B4: 強制チェック | C4: =Q2 -> 0 | D4: =IF(C4=0,"OK",IF(C4=1,"ON","E")) -> OK | E4: =IF(D4="OK",0,1) -> 0 | F4: =IF(E4=1,"◀ 強制チェックが入っている","◀ 強制チェックは入っていません") -> ◀ 強制チェックは入っていません | N4: 凡例： | O4: を回答ください | Q4: =SUM(T6:BQ6) -> 0 | CH4: 該当なし
B5: 個別チェック | C5: =Q4 -> 0 | D5: =IF(C5=0,"OK",IF(C5>0,"ON","E")) -> OK | E5: =IF(D5="OK",0,1) -> 0 | F5: =IF(E5=1,"◀ 個別チェックが入っている","◀ 個別チェックは入っていません") -> ◀ 個別チェックは入っていません | Q5: ▷ 該当選択 | T5: =IF(T6<>0,"○","×") -> × | U5: =IF(U6<>0,"○","×") -> × | V5: =IF(V6<>0,"○","×") -> × | W5: =IF(W6<>0,"○","×") -> × | X5: =IF(X6<>0,"○","×") -> × | Y5: =IF(Y6<>0,"○","×") -> × | Z5: =IF(Z6<>0,"○","×") -> × | AA5: =IF(AA6<>0,"○","×") -> × | ... BQ5: =IF(BQ6<>0,"○","×") -> × | BS5: =IF(BS6<>0,"○","×") -> × | BT5: =IF(BT6<>0,"○","×") -> × | BU5: =IF(BU6<>0,"○","×") -> × | BV5: - | BW5: ● | CK5: =IF(CK352<>0,"○","×") -> × | CL5: =IF(CL352<>0,"○","×") -> × | CM5: =IF(CM352<>0,"○","×") -> × | CN5: =IF(CN352<>0,"○","×") -> × | CO5: =IF(CO352<>0,"○","×") -> × | CP5: =IF(CP352<>0,"○","×") -> × | CQ5: =IF(CQ352<>0,"○","×") -> × | CR5: =IF(CR352<>0,"○","×") -> × | ... EH5: =IF(EH352<>0,"○","×") -> × | EJ5: =IF(EJ352<>0,"○","×") -> × | EK5: =IF(EK352<>0,"○","×") -> × | EL5: =IF(EL352<>0,"○","×") -> ×
B6: ①基本事項入力 | C6: =SUM(E10:E17) -> 0 | D6: =IF(C6=0,"OK",IF(C6>0,"ON","E")) -> OK | E6: =IF(D6="OK",0,1) -> 0 | F6: =IF(E6=1,"◀ 【①基本事項】の事業者情報に入力あり","◀ 【①基本事項】の事業者情報に入力なし") -> ◀ 【①基本事項】の事業者情報に入力なし | T6: =SUM(T7:T351) -> 0 | U6: =SUM(U7:U351) -> 0 | V6: =SUM(V7:V351) -> 0 | W6: =SUM(W7:W351) -> 0 | X6: =SUM(X7:X351) -> 0 | Y6: =SUM(Y7:Y351) -> 0 | Z6: =SUM(Z7:Z351) -> 0 | AA6: =SUM(AA7:AA351) -> 0 | ... BQ6: =SUM(BQ7:BQ351) -> 0 | BS6: =SUM(BS7:BS351) -> 0 | BT6: =BT329 -> 0 | BU6: =BU329 -> 0
B7: ②結果入力 | C7: =SUM(C19:C52) -> 0 | D7: =IF(C7=0,"OK",IF(C7>0,"ON"<"E")) -> OK | E7: =IF(D7="OK",0,1) -> 0 | F7: =IF(E7=1,"◀ 【②結果入力】回答あり","◀ 【②結果入力】回答なし") -> ◀ 【②結果入力】回答なし | L7: AQ | N7: A 資料提出時の確認事項 （全事業者回答必須） | S7: 強制表示 | T7: =$Q$2 -> 0 | U7: =$Q$2 -> 0 | V7: =$Q$2 -> 0 | W7: =$Q$2 -> 0 | X7: =$Q$2 -> 0 | Y7: =$Q$2 -> 0 | Z7: =$Q$2 -> 0 | AA7: =$Q$2 -> 0 | ... BR7: =$Q$2 -> 0 | BT7: =BT6+BU6 -> 0 | BY7: 関連条件 | CA7: 関連条件 | CC7: 関連条件
B8: ①大項目未回答 8 | C8: ='【① 基本事項】'!C280 -> 8 | D8: =IF(C8=8,"OK",8-C8) -> OK | E8: =IF(D8="OK",0,1) -> 0 | F8: =IF(E8=1,"◀ 【①基本事項】大項目にチェックあり（数）","◀ 【①基本事項】大項目にチェックなし") -> ◀ 【①基本事項】大項目にチェックなし | O8: =IF(P9=$CH$2,N9&" ","")&" "&$O$4 -> AQ1 を回答ください | P8: =IF(R8=$CH$2,"●","×") -> ● | R8: =IF(COUNTIF(P9:P13,$CH$2)>0,$CH$2,"") -> 回答待ち | S8: 個別表示
B9: ①枝 回答 | C9: =S324 -> 0 | D9: =IF(C9=0,"OK",C9) -> OK | E9: =IF(D9="OK",0,1) -> 0 | F9: =IF(E9=1,"◀ 【①基本事項】枝チェック入力あり(回答数）","◀ 【①基本事項】枝チェック入力なし") -> ◀ 【①基本事項】枝チェック入力なし | L9: =IF(S9=1,"▶","") | N9: =$Q9 -> AQ1 | O9: 今回の申請にあたり、建築関連法規の確認や資料作成に有資格者（建築士）は関わりましたか | P9: =CH10 -> 回答待ち | Q9: AQ1 | R9: =IF(N10=Q10,R10,IF(N10=Q11,R11,IF(N10=Q12,R12,IF(N10=Q13,P9,"-")))) -> 0 | S9: =IF(R9=0,0,1) -> 0 | BV9: =Q9 -> AQ1 | BW9: =IF(CG10="●","表示",IF(AND($Q$3="非表示",CG10="×"),"非表示",IF($Q$3="表示","表示"))) -> 表示
B10: ='【① 基本事項】'!F6 -> 法人名（設置者）： | C10: =IF('【① 基本事項】'!O6=0,"未記載") -> 未記載 | D10: =IF(C10="未記載","OK","ON") -> OK | E10: =IF(D10="OK",0,1) -> 0 | N10: ='【① 基本事項】'!F30 -> ▷ 該当選択 | Q10: ▷ 該当選択 | R10: 0 | BV10: =BV9&"=0" -> AQ1=0 | BW10: =IF(R9=R10,"●","×") -> ● | BY10: - | BZ10: =IF(INDEX($BV$5:$BW$354,MATCH(BY10,$BV$5:$BV$354,0),2)="●","●","×") -> ● | CA10: - | CB10: =IF(INDEX($BV$5:$BW$354,MATCH(CA10,$BV$5:$BV$354,0),2)="●","●","×") -> ● | CC10: - | CD10: =IF(INDEX($BV$5:$BW$354,MATCH(CC10,$BV$5:$BV$354,0),2)="●","●","×") -> ● | CE10: ➡ | CF10: =IF(AND(BW10="●",BZ10="●",CB10="●",CD10="●"),"●","×") -> ● | CG10: =IF(AND(BZ10="●",CB10="●",CD10="●"),"●","×") -> ● | CH10: =IF(CF10="●",$CH$2,IF(COUNTIF(CF11:CF12,"●")>0,$CH$3,$CH$4)) -> 回答待ち
B11: ='【① 基本事項】'!F8 -> 保育施設名： | C11: =IF('【① 基本事項】'!O8=0,"未記載") -> 未記載 | D11: =IF(C11="未記載","OK","ON") -> OK | E11: =IF(D11="OK",0,1) -> 0 | N11: =$Q11 -> ▶ A | O11: ： 有資格者（建築士）は関わった | Q11: ▶ A | R11: 1 | T11: =IF(CK11="","",IF(CK11=$CF11,1,0)) -> 0 | U11: =IF(CL11="","",IF(CL11=$CF11,1,0)) | V11: =IF(CM11="","",IF(CM11=$CF11,1,0)) | W11: =IF(CN11="","",IF(CN11=$CF11,1,0)) | X11: =IF(CO11="","",IF(CO11=$CF11,1,0)) | Y11: =IF(CP11="","",IF(CP11=$CF11,1,0)) | Z11: =IF(CQ11="","",IF(CQ11=$CF11,1,0)) | AA11: =IF(CR11="","",IF(CR11=$CF11,1,0)) | ... BU11: =IF(EL11="","",IF(EL11=$CF11,1,0)) | BV11: =BV9&"=1" -> AQ1=1 | BW11: =IF(R9=R11,"●","×") -> × | BX11: ➡ | BY11: - | BZ11: =IF(INDEX($BV$5:$BW$354,MATCH(BY11,$BV$5:$BV$354,0),2)="●","●","×") -> ● | CA11: - | CB11: =IF(INDEX($BV$5:$BW$354,MATCH(CA11,$BV$5:$BV$354,0),2)="●","●","×") -> ● | CC11: - | CD11: =IF(INDEX($BV$5:$BW$354,MATCH(CC11,$BV$5:$BV$354,0),2)="●","●","×") -> ● | CE11: ➡ | CF11: =IF(AND(BW11="●",BZ11="●",CB11="●",CD11="●"),"●","×") -> × | CG11: =IF(AND(BZ11="●",CB11="●",CD11="●"),"●","×") -> ● | CK11: ● | EI11: -
B12: ='【① 基本事項】'!F10 -> 担当者名 ： | C12: =IF('【① 基本事項】'!P10=0,"未記載") -> 未記載 | D12: =IF(C12="未記載","OK","ON") -> OK | E12: =IF(D12="OK",0,1) -> 0 | N12: =$Q12 -> ▶ B | O12: ： 有資格者（建築士）は関わらなかった | Q12: ▶ B | R12: 2 | T12: =IF(CK12="","",IF(CK12=$CF12,1,0)) | U12: =IF(CL12="","",IF(CL12=$CF12,1,0)) -> 0 | V12: =IF(CM12="","",IF(CM12=$CF12,1,0)) | W12: =IF(CN12="","",IF(CN12=$CF12,1,0)) | X12: =IF(CO12="","",IF(CO12=$CF12,1,0)) | Y12: =IF(CP12="","",IF(CP12=$CF12,1,0)) | Z12: =IF(CQ12="","",IF(CQ12=$CF12,1,0)) | AA12: =IF(CR12="","",IF(CR12=$CF12,1,0)) | ... BU12: =IF(EL12="","",IF(EL12=$CF12,1,0)) | BV12: =BV9&"=2" -> AQ1=2 | BW12: =IF(R9=R12,"●","×") -> × | BX12: ➡ | BY12: - | BZ12: =IF(INDEX($BV$5:$BW$354,MATCH(BY12,$BV$5:$BV$354,0),2)="●","●","×") -> ● | CA12: - | CB12: =IF(INDEX($BV$5:$BW$354,MATCH(CA12,$BV$5:$BV$354,0),2)="●","●","×") -> ● | CC12: - | CD12: =IF(INDEX($BV$5:$BW$354,MATCH(CC12,$BV$5:$BV$354,0),2)="●","●","×") -> ● | CE12: ➡ | CF12: =IF(AND(BW12="●",BZ12="●",CB12="●",CD12="●"),"●","×") -> × | CG12: =IF(AND(BZ12="●",CB12="●",CD12="●"),"●","×") -> ● | CL12: ● | EI12: -
B13: ='【① 基本事項】'!F12 -> 運営開始年度： | C13: =IF('【① 基本事項】'!P12=0,"未記載") -> 未記載 | D13: =IF(C13="未記載","OK","ON") -> OK | E13: =IF(D13="OK",0,1) -> 0 | O13: =IF(R9=0,N9&" "&$O$4,"") -> AQ1 を回答ください
B14: ='【① 基本事項】'!F14 -> 申請種類 ： | C14: =IF('【① 基本事項】'!P14=0,"未記載") -> 未記載 | D14: =IF(C14="未記載","OK","ON") -> OK | E14: =IF(D14="OK",0,1) -> 0 | L14: BQ | N14: B 保育園全体に影響がでる変更（建築整備内容の法令・基準チェックシート１、２が必要になる変更） （全事業者回答必須）
B15: ='【① 基本事項】'!J10 -> 保育施設コード: | C15: =IF('【① 基本事項】'!R10=0,"未記載") -> 未記載 | D15: =IF(C15="未記載","OK","ON") -> OK | E15: =IF(D15="OK",0,1) -> 0 | O15: =IF(P16=$CH$2,N16&" ","")&IF(P21=$CH$2,N21&" ","")&IF(P26=$CH$2,N26&" ","")&" "&$O$4 -> BQ1 BQ2 BQ3 を回答ください | P15: =IF(R15=$CH$2,"●","×") -> ● | R15: =IF(COUNTIF(P16:P30,$CH$2)>0,$CH$2,"") -> 回答待ち
B16: ='【① 基本事項】'!J12 -> 直近の図面変更年度： | C16: =IF('【① 基本事項】'!R12=0,"未記載") -> 未記載 | D16: =IF(C16="未記載","OK","ON") -> OK | E16: =IF(D16="OK",0,1) -> 0 | L16: =IF(S16=1,"▶","") | N16: =$Q16 -> BQ1 | O16: 建物の増築・増床がありますか | P16: =CH17 -> 回答待ち | Q16: BQ1 | R16: =IF(N17=Q17,R17,IF(N17=Q18,R18,IF(N17=Q19,R19,IF(N17=Q20,P16,"-")))) -> 0 | S16: =IF(R16=0,0,1) -> 0 | BV16: =Q16 -> BQ1 | BW16: =IF(CG17="●","表示",IF(AND($Q$3="非表示",CG17="×"),"非表示",IF($Q$3="表示","表示"))) -> 表示
B17: ='【① 基本事項】'!J14 -> 申請日： | C17: =IF('【① 基本事項】'!R143=0,"未記載") -> 未記載 | D17: =IF(C17="未記載","OK","ON") -> OK | E17: =IF(D17="OK",0,1) -> 0 | N17: ='【① 基本事項】'!F37 -> ▷ 該当選択 | P17: ↓ | Q17: ▷ 該当選択 | R17: 0 | BV17: =BV16&"=0" -> BQ1=0 | BW17: =IF(R16=R17,"●","×") -> ● | BY17: - | BZ17: =IF(INDEX($BV$5:$BW$354,MATCH(BY17,$BV$5:$BV$354,0),2)="●","●","×") -> ● | CA17: - | CB17: =IF(INDEX($BV$5:$BW$354,MATCH(CA17,$BV$5:$BV$354,0),2)="●","●","×") -> ● | CC17: - | CD17: =IF(INDEX($BV$5:$BW$354,MATCH(CC17,$BV$5:$BV$354,0),2)="●","●","×") -> ● | CE17: ➡ | CF17: =IF(AND(BW17="●",BZ17="●",CB17="●",CD17="●"),"●","×") -> ● | CG17: =IF(AND(BZ17="●",CB17="●",CD17="●"),"●","×") -> ● | CH17: =IF(CF17="●",$CH$2,IF(COUNTIF(CF18:CF19,"●")>0,$CH$3,$CH$4)) -> 回答待ち
N18: =$Q18 -> ▶ A | O18: ： あり | P18: ↓ | Q18: ▶ A | R18: 1 | T18: =IF(CK18="","",IF(CK18=$CF18,1,0)) | U18: =IF(CL18="","",IF(CL18=$CF18,1,0)) | V18: =IF(CM18="","",IF(CM18=$CF18,1,0)) | W18: =IF(CN18="","",IF(CN18=$CF18,1,0)) | X18: =IF(CO18="","",IF(CO18=$CF18,1,0)) | Y18: =IF(CP18="","",IF(CP18=$CF18,1,0)) | Z18: =IF(CQ18="","",IF(CQ18=$CF18,1,0)) | AA18: =IF(CR18="","",IF(CR18=$CF18,1,0)) | ... BU18: =IF(EL18="","",IF(EL18=$CF18,1,0)) | BV18: =BV16&"=1" -> BQ1=1 | BW18: =IF(R16=R18,"●","×") -> × | BX18: ➡ | BY18: - | BZ18: =IF(INDEX($BV$5:$BW$354,MATCH(BY18,$BV$5:$BV$354,0),2)="●","●","×") -> ● | CA18: - | CB18: =IF(INDEX($BV$5:$BW$354,MATCH(CA18,$BV$5:$BV$354,0),2)="●","●","×") -> ● | CC18: - | CD18: =IF(INDEX($BV$5:$BW$354,MATCH(CC18,$BV$5:$BV$354,0),2)="●","●","×") -> ● | CE18: ➡ | CF18: =IF(AND(BW18="●",BZ18="●",CB18="●",CD18="●"),"●","×") -> × | CG18: =IF(AND(BZ18="●",CB18="●",CD18="●"),"●","×") -> ● | CU18: ● | EI18: ● | EJ18: ● | EK18: ●
B19: =【②結果入力】!E14 -> OK | C19: =SUM(【②結果入力】!F14:H19) -> 0 | D19: =IF(C19=0,"OK","ON") -> OK | N19: =$Q19 -> ▶ B | O19: ： なし | P19: ↓ | Q19: ▶ B | R19: 2 | T19: =IF(CK19="","",IF(CK19=$CF19,1,0)) | U19: =IF(CL19="","",IF(CL19=$CF19,1,0)) | V19: =IF(CM19="","",IF(CM19=$CF19,1,0)) | W19: =IF(CN19="","",IF(CN19=$CF19,1,0)) | X19: =IF(CO19="","",IF(CO19=$CF19,1,0)) | Y19: =IF(CP19="","",IF(CP19=$CF19,1,0)) | Z19: =IF(CQ19="","",IF(CQ19=$CF19,1,0)) | AA19: =IF(CR19="","",IF(CR19=$CF19,1,0)) | ... BU19: =IF(EL19="","",IF(EL19=$CF19,1,0)) | BV19: =BV16&"=2" -> BQ1=2 | BW19: =IF(R16=R19,"●","×") -> × | BX19: ➡ | BY19: - | BZ19: =IF(INDEX($BV$5:$BW$354,MATCH(BY19,$BV$5:$BV$354,0),2)="●","●","×") -> ● | CA19: - | CB19: =IF(INDEX($BV$5:$BW$354,MATCH(CA19,$BV$5:$BV$354,0),2)="●","●","×") -> ● | CC19: - | CD19: =IF(INDEX($BV$5:$BW$354,MATCH(CC19,$BV$5:$BV$354,0),2)="●","●","×") -> ● | CE19: ➡ | CF19: =IF(AND(BW19="●",BZ19="●",CB19="●",CD19="●"),"●","×") -> × | CG19: =IF(AND(BZ19="●",CB19="●",CD19="●"),"●","×") -> ● | EI19: -
B20: =【②結果入力】!E20 -> OK | C20: =SUM(【②結果入力】!F20:H22) -> 0 | D20: =IF(C20=0,"OK","ON") -> OK | O20: =IF(R16=0,N16&" "&$O$4,"") -> BQ1 を回答ください | P20: =IF(P16=$CH$2,"●","×") -> ●
B21: =【②結果入力】!E23 -> OK | C21: =SUM(【②結果入力】!F23:H29) -> 0 | D21: =IF(C21=0,"OK","ON") -> OK | L21: =IF(S21=1,"▶","") | N21: =$Q21 -> BQ2 | O21: 保育に供する室の設置が現在より上の階になりますか | P21: =CH22 -> 回答待ち | Q21: BQ2 | R21: =IF(N22=Q22,R22,IF(N22=Q23,R23,IF(N22=Q24,R24,IF(N22=Q25,P21,"-")))) -> 0 | S21: =IF(R21=0,0,1) -> 0 | BV21: =Q21 -> BQ2 | BW21: =IF(CG22="●","表示",IF(AND($Q$3="非表示",CG22="×"),"非表示",IF($Q$3="表示","表示"))) -> 表示
B22: =【②結果入力】!E30 -> OK | C22: =SUM(【②結果入力】!F31:H42) -> 0 | D22: =IF(C22=0,"OK","ON") -> OK | N22: ='【① 基本事項】'!F42 -> ▷ 該当選択 | P22: ↓ | Q22: ▷ 該当選択 | R22: 0 | BV22: =BV21&"=0" -> BQ2=0 | BW22: =IF(R21=R22,"●","×") -> ● | BY22: - | BZ22: =IF(INDEX($BV$5:$BW$354,MATCH(BY22,$BV$5:$BV$354,0),2)="●","●","×") -> ● | CA22: - | CB22: =IF(INDEX($BV$5:$BW$354,MATCH(CA22,$BV$5:$BV$354,0),2)="●","●","×") -> ● | CC22: - | CD22: =IF(INDEX($BV$5:$BW$354,MATCH(CC22,$BV$5:$BV$354,0),2)="●","●","×") -> ● | CE22: ➡ | CF22: =IF(AND(BW22="●",BZ22="●",CB22="●",CD22="●"),"●","×") -> ● | CG22: =IF(AND(BZ22="●",CB22="●",CD22="●"),"●","×") -> ● | CH22: =IF(CF22="●",$CH$2,IF(COUNTIF(CF23:CF24,"●")>0,$CH$3,$CH$4)) -> 回答待ち
B23: =【②結果入力】!E43 -> OK | C23: =SUM(【②結果入力】!F44:H65) -> 0 | D23: =IF(C23=0,"OK","ON") -> OK | N23: =$Q23 -> ▶ A | O23: ： あり | P23: ↓ | Q23: ▶ A | R23: 1 | T23: =IF(CK23="","",IF(CK23=$CF23,1,0)) | U23: =IF(CL23="","",IF(CL23=$CF23,1,0)) | V23: =IF(CM23="","",IF(CM23=$CF23,1,0)) | W23: =IF(CN23="","",IF(CN23=$CF23,1,0)) | X23: =IF(CO23="","",IF(CO23=$CF23,1,0)) | Y23: =IF(CP23="","",IF(CP23=$CF23,1,0)) | Z23: =IF(CQ23="","",IF(CQ23=$CF23,1,0)) | AA23: =IF(CR23="","",IF(CR23=$CF23,1,0)) | ... BU23: =IF(EL23="","",IF(EL23=$CF23,1,0)) | BV23: =BV21&"=1" -> BQ2=1 | BW23: =IF(R21=R23,"●","×") -> × | BX23: ➡ | BY23: - | BZ23: =IF(INDEX($BV$5:$BW$354,MATCH(BY23,$BV$5:$BV$354,0),2)="●","●","×") -> ● | CA23: - | CB23: =IF(INDEX($BV$5:$BW$354,MATCH(CA23,$BV$5:$BV$354,0),2)="●","●","×") -> ● | CC23: - | CD23: =IF(INDEX($BV$5:$BW$354,MATCH(CC23,$BV$5:$BV$354,0),2)="●","●","×") -> ● | CE23: ➡ | CF23: =IF(AND(BW23="●",BZ23="●",CB23="●",CD23="●"),"●","×") -> × | CG23: =IF(AND(BZ23="●",CB23="●",CD23="●"),"●","×") -> ● | CU23: ● | EI23: ● | EJ23: ●
B24: =【②結果入力】!E66 -> OK | C24: =SUM(【②結果入力】!F66:H70) -> 0 | D24: =IF(C24=0,"OK","ON") -> OK | N24: =$Q24 -> ▶ B | O24: ： なし | P24: ↓ | Q24: ▶ B | R24: 2 | T24: =IF(CK24="","",IF(CK24=$CF24,1,0)) | U24: =IF(CL24="","",IF(CL24=$CF24,1,0)) | V24: =IF(CM24="","",IF(CM24=$CF24,1,0)) | W24: =IF(CN24="","",IF(CN24=$CF24,1,0)) | X24: =IF(CO24="","",IF(CO24=$CF24,1,0)) | Y24: =IF(CP24="","",IF(CP24=$CF24,1,0)) | Z24: =IF(CQ24="","",IF(CQ24=$CF24,1,0)) | AA24: =IF(CR24="","",IF(CR24=$CF24,1,0)) | ... BU24: =IF(EL24="","",IF(EL24=$CF24,1,0)) | BV24: =BV21&"=2" -> BQ2=2 | BW24: =IF(R21=R24,"●","×") -> × | BX24: ➡ | BY24: - | BZ24: =IF(INDEX($BV$5:$BW$354,MATCH(BY24,$BV$5:$BV$354,0),2)="●","●","×") -> ● | CA24: - | CB24: =IF(INDEX($BV$5:$BW$354,MATCH(CA24,$BV$5:$BV$354,0),2)="●","●","×") -> ● | CC24: - | CD24: =IF(INDEX($BV$5:$BW$354,MATCH(CC24,$BV$5:$BV$354,0),2)="●","●","×") -> ● | CE24: ➡ | CF24: =IF(AND(BW24="●",BZ24="●",CB24="●",CD24="●"),"●","×") -> × | CG24: =IF(AND(BZ24="●",CB24="●",CD24="●"),"●","×") -> ● | EI24: -
B25: =【②結果入力】!E71 -> OK | C25: =SUM(【②結果入力】!F71:H75) -> 0 | D25: =IF(C25=0,"OK","ON") -> OK | O25: =IF(R21=0,N21&" "&$O$4,"") -> BQ2 を回答ください | P25: =IF(P21=$CH$2,"●","×") -> ●
B26: =【②結果入力】!E76 -> OK | C26: =SUM(【②結果入力】!F76:H94) -> 0 | D26: =IF(C26=0,"OK","ON") -> OK | L26: =IF(S26=1,"▶","") | N26: =$Q26 -> BQ3 | O26: 保育所全体の床面積が減る計画がありますか | P26: =CH27 -> 回答待ち | Q26: BQ3 | R26: =IF(N27=Q27,R27,IF(N27=Q28,R28,IF(N27=Q29,R29,"-"))) -> 0 | S26: =IF(R26=0,0,1) -> 0 | BV26: =Q26 -> BQ3 | BW26: =IF(CG27="●","表示",IF(AND($Q$3="非表示",CG27="×"),"非表示",IF($Q$3="表示","表示"))) -> 表示
B27: =【②結果入力】!E95 -> OK | C27: =SUM(【②結果入力】!F95:H101) -> 0 | D27: =IF(C27=0,"OK","ON") -> OK | N27: ='【① 基本事項】'!F47 -> ▷ 該当選択 | P27: ↓ | Q27: ▷ 該当選択 | R27: 0 | BV27: =BV26&"=0" -> BQ3=0 | BW27: =IF(R26=R27,"●","×") -> ● | BY27: - | BZ27: =IF(INDEX($BV$5:$BW$354,MATCH(BY27,$BV$5:$BV$354,0),2)="●","●","×") -> ● | CA27: - | CB27: =IF(INDEX($BV$5:$BW$354,MATCH(CA27,$BV$5:$BV$354,0),2)="●","●","×") -> ● | CC27: - | CD27: =IF(INDEX($BV$5:$BW$354,MATCH(CC27,$BV$5:$BV$354,0),2)="●","●","×") -> ● | CE27: ➡ | CF27: =IF(AND(BW27="●",BZ27="●",CB27="●",CD27="●"),"●","×") -> ● | CG27: =IF(AND(BZ27="●",CB27="●",CD27="●"),"●","×") -> ● | CH27: =IF(CF27="●",$CH$2,IF(COUNTIF(CF28:CF29,"●")>0,$CH$3,$CH$4)) -> 回答待ち
B28: =【②結果入力】!E102 -> OK | C28: =SUM(【②結果入力】!E103:G111) -> 0 | D28: =IF(C28=0,"OK","ON") -> OK | N28: =$Q28 -> ▶ A | O28: ： あり | P28: ↓ | Q28: ▶ A | R28: 1 | T28: =IF(CK28="","",IF(CK28=$CF28,1,0)) | U28: =IF(CL28="","",IF(CL28=$CF28,1,0)) | V28: =IF(CM28="","",IF(CM28=$CF28,1,0)) | W28: =IF(CN28="","",IF(CN28=$CF28,1,0)) | X28: =IF(CO28="","",IF(CO28=$CF28,1,0)) | Y28: =IF(CP28="","",IF(CP28=$CF28,1,0)) | Z28: =IF(CQ28="","",IF(CQ28=$CF28,1,0)) | AA28: =IF(CR28="","",IF(CR28=$CF28,1,0)) | ... BU28: =IF(EL28="","",IF(EL28=$CF28,1,0)) | BV28: =BV26&"=1" -> BQ3=1 | BW28: =IF(R26=R28,"●","×") -> × | BX28: ➡ | BY28: - | BZ28: =IF(INDEX($BV$5:$BW$354,MATCH(BY28,$BV$5:$BV$354,0),2)="●","●","×") -> ● | CA28: - | CB28: =IF(INDEX($BV$5:$BW$354,MATCH(CA28,$BV$5:$BV$354,0),2)="●","●","×") -> ● | CC28: - | CD28: =IF(INDEX($BV$5:$BW$354,MATCH(CC28,$BV$5:$BV$354,0),2)="●","●","×") -> ● | CE28: ➡ | CF28: =IF(AND(BW28="●",BZ28="●",CB28="●",CD28="●"),"●","×") -> × | CG28: =IF(AND(BZ28="●",CB28="●",CD28="●"),"●","×") -> ● | CU28: ● | EI28: ● | EJ28: ●
B29: =【②結果入力】!E112 -> OK | C29: =SUM(【②結果入力】!F112:H114) -> 0 | D29: =IF(C29=0,"OK","ON") -> OK | N29: =$Q29 -> ▶ B | O29: ： なし | P29: ↓ | Q29: ▶ B | R29: 2 | T29: =IF(CK29="","",IF(CK29=$CF29,1,0)) | U29: =IF(CL29="","",IF(CL29=$CF29,1,0)) | V29: =IF(CM29="","",IF(CM29=$CF29,1,0)) | W29: =IF(CN29="","",IF(CN29=$CF29,1,0)) | X29: =IF(CO29="","",IF(CO29=$CF29,1,0)) | Y29: =IF(CP29="","",IF(CP29=$CF29,1,0)) | Z29: =IF(CQ29="","",IF(CQ29=$CF29,1,0)) | AA29: =IF(CR29="","",IF(CR29=$CF29,1,0)) | ... BU29: =IF(EL29="","",IF(EL29=$CF29,1,0)) | BV29: =BV26&"=2" -> BQ3=2 | BW29: =IF(R26=R29,"●","×") -> × | BX29: ➡ | BY29: - | BZ29: =IF(INDEX($BV$5:$BW$354,MATCH(BY29,$BV$5:$BV$354,0),2)="●","●","×") -> ● | CA29: - | CB29: =IF(INDEX($BV$5:$BW$354,MATCH(CA29,$BV$5:$BV$354,0),2)="●","●","×") -> ● | CC29: - | CD29: =IF(INDEX($BV$5:$BW$354,MATCH(CC29,$BV$5:$BV$354,0),2)="●","●","×") -> ● | CE29: ➡ | CF29: =IF(AND(BW29="●",BZ29="●",CB29="●",CD29="●"),"●","×") -> × | CG29: =IF(AND(BZ29="●",CB29="●",CD29="●"),"●","×") -> ● | EI29: -
B30: =【②結果入力】!E115 -> OK | C30: =SUM(【②結果入力】!F115:H117) -> 0 | D30: =IF(C30=0,"OK","ON") -> OK | O30: =IF(R26=0,N26&" "&$O$4,"") -> BQ3 を回答ください | P30: =IF(P26=$CH$2,"●","×") -> ●
B31: =【②結果入力】!E118 -> OK | C31: =SUM(【②結果入力】!F118:H120) -> 0 | D31: =IF(C31=0,"OK","ON") -> OK | L31: CQ | N31: C 年齢別内訳の変更 （全事業者回答必須）
B32: =【②結果入力】!E121 -> OK | C32: =SUM(【②結果入力】!F121:H123) -> 0 | D32: =IF(C32=0,"OK","ON") -> OK | O32: =IF(P33=$CH$2,N33&" ","")&IF(P38=$CH$2,N38&" ","")&IF(P43=$CH$2,N43&" ","")&IF(P55=$CH$2,N49&" ","")&IF(P49=$CH$2,N55&" ","")&IF(P60=$CH$2,N60&" ","")&IF(P66=$CH$2,N66&" ","")&IF(P71=$CH$2,N71&" ","")&IF(P76=$CH$2,N76&" ","")&IF(P81=$CH$2,N81&" ","")&" "&$O$4 -> CQ0 を回答ください | P32: =IF(R32=$CH$2,"●","×") -> ● | R32: =IF(COUNTIF(P33:P84,$CH$2)>0,$CH$2,"") -> 回答待ち
B33: =【②結果入力】!E124 -> OK | C33: =SUM(【②結果入力】!F124:H126) -> 0 | D33: =IF(C33=0,"OK","ON") -> OK | L33: =IF(S33=1,"▶","") | N33: =$Q33 -> CQ0 | O33: 今回の申請で年齢別内訳の変更がありますか | P33: =CH34 -> 回答待ち | Q33: CQ0 | R33: =IF(N34=Q34,R34,IF(N34=Q35,R35,IF(N34=Q36,R36,"-"))) -> 0 | S33: =IF(R33=0,0,1) -> 0 | BV33: =Q33 -> CQ0 | BW33: =IF(CG34="●","表示",IF(AND($Q$3="非表示",CG34="×"),"非表示",IF($Q$3="表示","表示"))) -> 表示
B34: =【②結果入力】!E127 -> OK | C34: =SUM(【②結果入力】!F127:H129) -> 0 | D34: =IF(C34=0,"OK","ON") -> OK | N34: ='【① 基本事項】'!F54 -> ▷ 該当選択 | Q34: ▷ 該当選択 | R34: 0 | BV34: =BV33&"=0" -> CQ0=0 | BW34: =IF(R33=R34,"●","×") -> ● | BY34: - | BZ34: =IF(INDEX($BV$5:$BW$354,MATCH(BY34,$BV$5:$BV$354,0),2)="●","●","×") -> ● | CA34: - | CB34: =IF(INDEX($BV$5:$BW$354,MATCH(CA34,$BV$5:$BV$354,0),2)="●","●","×") -> ● | CC34: - | CD34: =IF(INDEX($BV$5:$BW$354,MATCH(CC34,$BV$5:$BV$354,0),2)="●","●","×") -> ● | CE34: ➡ | CF34: =IF(AND(BW34="●",BZ34="●",CB34="●",CD34="●"),"●","×") -> ● | CG34: =IF(AND(BZ34="●",CB34="●",CD34="●"),"●","×") -> ● | CH34: =IF(CF34="●",$CH$2,IF(COUNTIF(CF35:CF36,"●")>0,$CH$3,$CH$4)) -> 回答待ち
B35: =【②結果入力】!E130 -> OK | C35: =SUM(【②結果入力】!F130:H135) -> 0 | D35: =IF(C35=0,"OK","ON") -> OK | N35: =$Q35 -> ▶ A | O35: ： 変更あり | Q35: ▶ A | R35: 1 | T35: =IF(CK35="","",IF(CK35=$CF35,1,0)) | U35: =IF(CL35="","",IF(CL35=$CF35,1,0)) | V35: =IF(CM35="","",IF(CM35=$CF35,1,0)) | W35: =IF(CN35="","",IF(CN35=$CF35,1,0)) | X35: =IF(CO35="","",IF(CO35=$CF35,1,0)) | Y35: =IF(CP35="","",IF(CP35=$CF35,1,0)) | Z35: =IF(CQ35="","",IF(CQ35=$CF35,1,0)) | AA35: =IF(CR35="","",IF(CR35=$CF35,1,0)) | ... BU35: =IF(EL35="","",IF(EL35=$CF35,1,0)) | BV35: =BV33&"=1" -> CQ0=1 | BW35: =IF(R33=R35,"●","×") -> × | BX35: ➡ | BY35: - | BZ35: =IF(INDEX($BV$5:$BW$354,MATCH(BY35,$BV$5:$BV$354,0),2)="●","●","×") -> ● | CA35: - | CB35: =IF(INDEX($BV$5:$BW$354,MATCH(CA35,$BV$5:$BV$354,0),2)="●","●","×") -> ● | CC35: - | CD35: =IF(INDEX($BV$5:$BW$354,MATCH(CC35,$BV$5:$BV$354,0),2)="●","●","×") -> ● | CE35: ➡ | CF35: =IF(AND(BW35="●",BZ35="●",CB35="●",CD35="●"),"●","×") -> × | CG35: =IF(AND(BZ35="●",CB35="●",CD35="●"),"●","×") -> ● | EI35: ●
B36: =【②結果入力】!E136 -> OK | C36: =SUM(【②結果入力】!F136:H138) -> 0 | D36: =IF(C36=0,"OK","ON") -> OK | N36: =$Q36 -> ▶ B | O36: ： 変更なし | Q36: ▶ B | R36: 2 | T36: =IF(CK36="","",IF(CK36=$CF36,1,0)) | U36: =IF(CL36="","",IF(CL36=$CF36,1,0)) | V36: =IF(CM36="","",IF(CM36=$CF36,1,0)) | W36: =IF(CN36="","",IF(CN36=$CF36,1,0)) | X36: =IF(CO36="","",IF(CO36=$CF36,1,0)) | Y36: =IF(CP36="","",IF(CP36=$CF36,1,0)) | Z36: =IF(CQ36="","",IF(CQ36=$CF36,1,0)) | AA36: =IF(CR36="","",IF(CR36=$CF36,1,0)) | ... BU36: =IF(EL36="","",IF(EL36=$CF36,1,0)) | BV36: =BV33&"=2" -> CQ0=2 | BW36: =IF(R33=R36,"●","×") -> × | BX36: ➡ | BY36: - | BZ36: =IF(INDEX($BV$5:$BW$354,MATCH(BY36,$BV$5:$BV$354,0),2)="●","●","×") -> ● | CA36: - | CB36: =IF(INDEX($BV$5:$BW$354,MATCH(CA36,$BV$5:$BV$354,0),2)="●","●","×") -> ● | CC36: - | CD36: =IF(INDEX($BV$5:$BW$354,MATCH(CC36,$BV$5:$BV$354,0),2)="●","●","×") -> ● | CE36: ➡ | CF36: =IF(AND(BW36="●",BZ36="●",CB36="●",CD36="●"),"●","×") -> × | CG36: =IF(AND(BZ36="●",CB36="●",CD36="●"),"●","×") -> ● | EI36: -
B37: =【②結果入力】!E139 -> OK | C37: =SUM(【②結果入力】!F139:H144) -> 0 | D37: =IF(C37=0,"OK","ON") -> OK | O37: =IF(R33=0,N33&" "&$O$4,"") -> CQ0 を回答ください | P37: =IF(P33=$CH$2,"●","×") -> ●
B38: =【②結果入力】!E145 -> OK | C38: =SUM(【②結果入力】!F145:H147) -> 0 | D38: =IF(C38=0,"OK","ON") -> OK | L38: =IF(S38=1,"▶","") | N38: =$Q38 -> CQ1 | O38: 保育室の場所の移動がありますか | P38: =CH39 -> 該当なし | Q38: CQ1 | R38: =IF(N39=Q39,R39,IF(N39=Q40,R40,IF(N39=Q41,R41,"-"))) -> 0 | S38: =IF(R38=0,0,1) -> 0 | BV38: =Q38 -> CQ1 | BW38: =IF(CG39="●","表示",IF(AND($Q$3="非表示",CG39="×"),"非表示",IF($Q$3="表示","表示"))) -> 非表示
B39: =【②結果入力】!E148 -> OK | C39: =SUM(【②結果入力】!F148:H158) -> 0 | D39: =IF(C39=0,"OK","ON") -> OK | N39: ='【① 基本事項】'!F59 -> ▷ 該当選択 | Q39: ▷ 該当選択 | R39: 0 | BV39: =BV38&"=0" -> CQ1=0 | BW39: =IF(R38=R39,"●","×") -> ● | BY39: =$BV$35 -> CQ0=1 | BZ39: =IF(INDEX($BV$5:$BW$354,MATCH(BY39,$BV$5:$BV$354,0),2)="●","●","×") -> × | CA39: - | CB39: =IF(INDEX($BV$5:$BW$354,MATCH(CA39,$BV$5:$BV$354,0),2)="●","●","×") -> ● | CC39: - | CD39: =IF(INDEX($BV$5:$BW$354,MATCH(CC39,$BV$5:$BV$354,0),2)="●","●","×") -> ● | CE39: ➡ | CF39: =IF(AND(BW39="●",BZ39="●",CB39="●",CD39="●"),"●","×") -> × | CG39: =IF(AND(BZ39="●",CB39="●",CD39="●"),"●","×") -> × | CH39: =IF(CF39="●",$CH$2,IF(COUNTIF(CF40:CF41,"●")>0,$CH$3,$CH$4)) -> 該当なし
B40: =【②結果入力】!E159 -> OK | C40: =SUM(【②結果入力】!F159:H164) -> 0 | D40: =IF(C40=0,"OK","ON") -> OK | N40: =$Q40 -> ▶ A | O40: ： 場所の移動：あり | Q40: ▶ A | R40: 1 | T40: =IF(CK40="","",IF(CK40=$CF40,1,0)) | U40: =IF(CL40="","",IF(CL40=$CF40,1,0)) | V40: =IF(CM40="","",IF(CM40=$CF40,1,0)) -> 0 | W40: =IF(CN40="","",IF(CN40=$CF40,1,0)) | X40: =IF(CO40="","",IF(CO40=$CF40,1,0)) | Y40: =IF(CP40="","",IF(CP40=$CF40,1,0)) | Z40: =IF(CQ40="","",IF(CQ40=$CF40,1,0)) | AA40: =IF(CR40="","",IF(CR40=$CF40,1,0)) | ... BU40: =IF(EL40="","",IF(EL40=$CF40,1,0)) | BV40: =BV38&"=1" -> CQ1=1 | BW40: =IF(R38=R40,"●","×") -> × | BX40: ➡ | BY40: =$BV$35 -> CQ0=1 | BZ40: =IF(INDEX($BV$5:$BW$354,MATCH(BY40,$BV$5:$BV$354,0),2)="●","●","×") -> × | CA40: - | CB40: =IF(INDEX($BV$5:$BW$354,MATCH(CA40,$BV$5:$BV$354,0),2)="●","●","×") -> ● | CC40: - | CD40: =IF(INDEX($BV$5:$BW$354,MATCH(CC40,$BV$5:$BV$354,0),2)="●","●","×") -> ● | CE40: ➡ | CF40: =IF(AND(BW40="●",BZ40="●",CB40="●",CD40="●"),"●","×") -> × | CG40: =IF(AND(BZ40="●",CB40="●",CD40="●"),"●","×") -> × | CM40: ● | DI40: ● | EI40: -
...

Sheet 【②結果入力】
K2: ◀ | L2: カーソルを合わせて左クリックし、「該当」のみ選択してください。
J3: 該当 | K3: =S①!BS1 -> K0A0B0 | M3: {='【① 基本事項】'!E2:F2} | N3: 0
B4: ★作業中は↓に１を入力★ | J4: 該当 | L4: 【②結果入力】シート
J5: 該当
B6: =K1 -> 0 | J6: =IF(S①!$R$9=S①!$R$12,"該当","非該当") -> 非該当 | L6: =IF(AND(S①!$BT$7>4,S①!$BT$7<14),"ご回答より、建築基準関係法令等の確認を要する変更の可能性があります。 法令等の確認に際しては、自治体、有資格者（建築士）等に十分確認の上、ご申請願います。","")&IF(S①!$BT$7>14,"ご回答より、建築基準関係法令等の確認を要する変更と思われます。法令等の確認に際しては、自治体、有資格者（建築士）等に十分確認の上、ご申請願います。","") | N6: jidou
B7: 「K1」に入力ください。 | J7: 該当 | L7: ='【① 基本事項】'!F6 -> 法人名（設置者）： | M7: {=IF('【① 基本事項】'!G6:K6='【① 基本事項】'!S6,'【① 基本事項】'!U6,'【① 基本事項】'!G6:K6)} -> 【①基本事項】に戻り、「法人名」を入力してください | N7: 0 | O7: 0 | P7: 0 | Q7: 0
J8: 該当 | L8: ='【① 基本事項】'!F8 -> 保育施設名： | M8: {=IF('【① 基本事項】'!G8:K8='【① 基本事項】'!S8,'【① 基本事項】'!U8,'【① 基本事項】'!G8:K8)} -> 【①基本事項】に戻り、「保育施設名」を入力してください | N8: 0 | O8: 0 | P8: 0 | Q8: 0
J9: 該当 | L9: ='【① 基本事項】'!F10 -> 担当者名 ： | M9: =IF('【① 基本事項】'!G10='【① 基本事項】'!S10,'【① 基本事項】'!U10,'【① 基本事項】'!G10) -> 【①基本事項】に戻り、「担当者名」を入力してください
J10: 該当 | L10: ='【① 基本事項】'!J14 -> 申請日： | M10: =IF('【① 基本事項】'!K14='【① 基本事項】'!S10,'【① 基本事項】'!U14,'【① 基本事項】'!K14) -> 【①基本事項】に戻り、「申請日」を入力してください
B11: ★作業中は↓に１➡「該当」になります。 | J11: 該当 | L11: ='【① 基本事項】'!J16 -> 更新日： | M11: ='【① 基本事項】'!K16 -> 46322
B12: =B6 -> 0 | J12: 該当 | L12: ・セルが黄色表示されている箇所は、直接文字入力してください ・「□」が表示されている内容について確認した場合はプルダウンして「✔」に変更してください
D13: =COUNTIF(D14:D215,D6) -> 0 | J13: =IF(Q13<>0,"該当","非該当") -> 該当 | K13: =IF(Q13<>0,"【①基本事項】:未回答個所が "&R13&" 項目あります","") -> 【①基本事項】:未回答個所が 14 項目あります | P13: =J13 -> 該当 | Q13: ='【① 基本事項】'!C280 -> 8 | R13: ='【① 基本事項】'!B280 -> 14
A14: 士名番号 | B14: 士名番号 | E14: =IF(AND(J14="該当",SUM(F16:G19)<4),K14,"OK") -> OK | J14: {=IF(INDEX(S①!$T$2:$BQ$6,5,$K$14)>=1,"該当","非該当")} -> 非該当 | K14: 1 | L14: 担当建築士の確認 | O14: N
A15: 士名番号 | J15: {=IF(INDEX(S①!$T$2:$BQ$6,5,$K$14)>=1,"該当","非該当")} -> 非該当 | L15: 本申請に関わった建築士の氏名・建築士資格の種類・登録番号及び設計事務所名を下記の記入欄に記載してください。
A16: 士名番号 | C16: 必須回答 | D16: =IF(AND(J16=1,M16="直接入力してください"),"×","〇") -> 〇 | G16: =IF(M16="直接入力してください",0,1) -> 0 | J16: {=IF(INDEX(S①!$T$2:$BQ$6,5,$K$14)>=1,"該当","非該当")} -> 非該当 | L16: 建築士名： | M16: 直接入力してください
A17: 士名番号 | C17: 必須回答 | D17: =IF(AND(J17=1,M17="直接入力してください"),"×","〇") -> 〇 | G17: =IF(M17="直接入力してください",0,1) -> 0 | J17: {=IF(INDEX(S①!$T$2:$BQ$6,5,$K$14)>=1,"該当","非該当")} -> 非該当 | L17: 建築士資格の種類： | M17: 直接入力してください
A18: 士名番号 | C18: 必須回答 | D18: =IF(AND(J18=1,M18="直接入力してください"),"×","〇") -> 〇 | G18: =IF(M18="直接入力してください",0,1) -> 0 | J18: {=IF(INDEX(S①!$T$2:$BQ$6,5,$K$14)>=1,"該当","非該当")} -> 非該当 | L18: 登録番号： | M18: 直接入力してください
A19: 士名番号 | C19: 必須回答 | D19: =IF(AND(J19=1,M19="直接入力してください"),"×","〇") -> 〇 | G19: =IF(M19="直接入力してください",0,1) -> 0 | J19: {=IF(INDEX(S①!$T$2:$BQ$6,5,$K$14)>=1,"該当","非該当")} -> 非該当 | L19: 設計事務所名： | M19: 直接入力してください
A20: 建築重要 | B20: 建築重要 | E20: =IF(AND(J20="該当",F22=0),K20,"OK") -> OK | J20: {=IF(INDEX(S①!$T$2:$BQ$6,5,$K$20)>=1,"該当","非該当")} -> 非該当 | K20: 2 | L20: 建築士に依頼していない場合 | O20: O
A21: 建築重要 | J21: {=IF(INDEX(S①!$T$2:$BQ$6,5,$K$20)>=1,"該当","非該当")} -> 非該当 | L21: 避難経路、防火区画、採光等については専門性が高く、児童・スタッフの安全面にも関わるため、建築整備内容について不明点がある場合には有資格者（建築士）に相談いただくことをお勧めします。 建築関連資料の作成手段の選択：『建築関連資料集 事業計画申請用（令和8年10月22日版）』 P1 もご確認ください。
A22: 建築重要 | C22: 必須回答 | D22: =IF(AND(J22=1,K22="□"),"×","〇") -> 〇 | F22: =IF(K22="□",0,1) -> 0 | J22: {=IF(INDEX(S①!$T$2:$BQ$6,5,$K$20)>=1,"該当","非該当")} -> 非該当 | K22: □ | L22: 本申請にあたり建築整備内容についての不明点はない
A23: 有効a | B23: 有効a | E23: =IF(AND(J23="該当",SUM(F25:F29)<5),K23,"OK") -> OK | J23: {=IF(INDEX(S①!$T$2:$BQ$6,5,$K$23)>=1,"該当","非該当")} -> 非該当 | K23: 3 | L23: 保育室の有効面積について確認が必要です | O23: P
A24: 有効a | J24: {=IF(INDEX(S①!$T$2:$BQ$6,5,$K$23)>=1,"該当","非該当")} -> 非該当 | L24: 新たに保育室を設置する場合、年齢別の定員内訳を変更する場合、年齢別スペースの仕切り方を変更する場合などには、保育室の定員に対して必要な有効面積を確保しているか確認してください。 「有効面積の算定図・算定表」の作成や算定方法、除外面積となる家具等については『建築関連資料集 事業計画申請用（令和8年10月22日版）』 P4～6 をご参照ください。なお、有効面積算定については上記の算定に加え、認可外保育施設の届出先である自治体の保育課等の指導を満たす必要があります。
A25: 有効a | C25: 必須回答 | D25: =IF(AND(J25=1,K25="□"),"×","〇") -> 〇 | F25: =IF(K25="□",0,1) -> 0 | J25: {=IF(INDEX(S①!$T$2:$BQ$6,5,$K$23)>=1,"該当","非該当")} -> 非該当 | K25: □ | L25: 保育室の定員に対する必要面積を満たしていることを確認している
A26: 有効a | C26: 必須回答 | D26: =IF(AND(J26=1,K26="□"),"×","〇") -> 〇 | F26: =IF(K26="□",0,1) -> 0 | J26: {=IF(INDEX(S①!$T$2:$BQ$6,5,$K$23)>=1,"該当","非該当")} -> 非該当 | K26: □ | L26: 保育室の年齢別の定員と必要面積、有効面積を平面図に記載している
A27: 有効a | C27: 必須回答 | D27: =IF(AND(J27=1,K27="□"),"×","〇") -> 〇 | F27: =IF(K27="□",0,1) -> 0 | J27: {=IF(INDEX(S①!$T$2:$BQ$6,5,$K$23)>=1,"該当","非該当")} -> 非該当 | K27: □ | L27: 床面をふさぐ固定収納や簡単には動かせない家具は有効面積に含んでいない
A28: 有効a | C28: 必須回答 | D28: =IF(AND(J28=1,K28="□"),"×","〇") -> 〇 | F28: =IF(K28="□",0,1) -> 0 | J28: {=IF(INDEX(S①!$T$2:$BQ$6,5,$K$23)>=1,"該当","非該当")} -> 非該当 | K28: □ | L28: 手洗器設置部・建築柱型部など子どもが動き回れないところは有効面積に含んでいない
A29: 有効a | C29: 必須回答 | D29: =IF(AND(J29=1,K29="□"),"×","〇") -> 〇 | F29: =IF(K29="□",0,1) -> 0 | J29: {=IF(INDEX(S①!$T$2:$BQ$6,5,$K$23)>=1,"該当","非該当")} -> 非該当 | K29: □ | L29: 認可外保育施設の届出先である自治体の保育課の指導を満たしていることを確認している
A30: 区画a | B30: 114条区画 | E30: =IF(AND(J30="該当",G30="NO"),K30,"OK") -> OK | G30: =IF(AND(F32<>0,F34<>0,OR(G37<>0,SUM(G39:G42)=3)),"OK","NO") -> NO | J30: {=IF(INDEX(S①!$T$2:$BQ$6,5,$K$30)>=1,"該当","非該当")} -> 非該当 | K30: 4 | L30: 防火区画類の確認が必要です | O30: Q
A31: 区画a | J31: {=IF(INDEX(S①!$T$2:$BQ$6,5,$K$30)>=1,"該当","非該当")} -> 非該当 | L31: 保育室の防火上主要な間仕切壁は、建築基準法施行令114条2項により、原則として準耐火構造等の制約を受けることになります。また、建物の構造、用途により、その他の防火区画（同法令112条）が必要となる場合もあります。 部屋の配置に変更がある場合は、自治体の建築指導課等へ計画平面図を提示のうえ協議を行い、協議内容を下記の記入欄内に記載してください。また、区画の変更が不要である場合等、協議不要と判断した場合は、原則として、その判断根拠を有資格者（建築士）が記載してください。 『建築関連資料集 事業計画申請用（令和8年10月22日版）』 P7 に記載されているように、専門性が高い部分については、児童・スタッフの安全面から有資格者（建築士）に相談いただくことをお勧めします。
A32: 区画a | C32: 必須回答 | D32: =IF(AND(J32=1,K32="□"),"×","〇") -> 〇 | F32: =IF(K32="✔",5,0) -> 0 | J32: {=IF(INDEX(S①!$T$2:$BQ$6,5,$K$30)>=1,"該当","非該当")} -> 非該当 | K32: □ | L32: 防火区画類が必要な場合は平面図に区画の位置・種類を記載している または、不要な場合はその理由を記載している
A33: 区画a | J33: {=IF(INDEX(S①!$T$2:$BQ$6,5,$K$30)>=1,"該当","非該当")} -> 非該当 | L33: 「～選択してください～▼」が表示されている場合は回答選択が必要です。 【A】か【B】 どちらかを選択し、内容を記載してください。
A34: 区画a | C34: 必須回答 | D34: =IF(AND(J34=1,K34="□"),"×","〇") -> 〇 | F34: =IF(OR(L34="選択 【A】",L34="選択 【B】"),1,0) -> 0 | J34: {=IF(INDEX(S①!$T$2:$BQ$6,5,$K$30)>=1,"該当","非該当")} -> 非該当 | L34: ～選択してください～ ▼
A35: 区画a | J35: {=IF(INDEX(S①!$T$2:$BQ$6,5,$K$30)>=1,"該当","非該当")} -> 非該当 | K35: ▶ | L35: 新たな防火区画類について建築指導課と協議済みである場合 ➡ 【A】
A36: 区画a | J36: {=IF(INDEX(S①!$T$2:$BQ$6,5,$K$30)>=1,"該当","非該当")} -> 非該当 | K36: ▶ | L36: 協議不要の場合 ➡ 【B】
A37: 区画a | G37: =IF(AND(L34="選択 【B】",M37<>"協議不要と判断した理由を記載してください"),3,0) -> 0 | J37: {=IF(INDEX(S①!$T$2:$BQ$6,5,$K$30)>=1,"該当","非該当")} -> 非該当 | L37: 【B】建築士のコメント | M37: 協議不要と判断した理由を記載してください
A38: 区画a | J38: {=IF(INDEX(S①!$T$2:$BQ$6,5,$K$30)>=1,"該当","非該当")} -> 非該当 | L38: 【A】建築指導課との協議内容
A39: 区画a | C39: A枝必須 | D39: =IF(AND(J38=1,M39="直接入力してください"),"×","〇") -> 〇 | G39: =IF(M39="日付：",0,1) -> 0 | J39: {=IF(INDEX(S①!$T$2:$BQ$6,5,$K$30)>=1,"該当","非該当")} -> 非該当 | L39: 協議日： | M39: 日付：
A40: 区画a | C40: A枝必須 | D40: =IF(AND(J40=1,M40="自治体名： /担当課： /担当者名："),"×","〇") -> 〇 | G40: =IF(M40="自治体名： /担当課： /担当者名：",0,1) -> 0 | J40: {=IF(INDEX(S①!$T$2:$BQ$6,5,$K$30)>=1,"該当","非該当")} -> 非該当 | L40: 確認自治体・担当課・担当者名： | M40: 自治体名： /担当課： /担当者名：
A41: 区画a | J41: {=IF(INDEX(S①!$T$2:$BQ$6,5,$K$30)>=1,"該当","非該当")} -> 非該当 | L41: 協議内容：
...
